BEGIN:VCALENDAR
VERSION:2.0
PRODID:-//Ahavath Achim Synagogue - ECPv6.15.20//NONSGML v1.0//EN
CALSCALE:GREGORIAN
METHOD:PUBLISH
X-ORIGINAL-URL:https://aasynagogue.org
X-WR-CALDESC:Events for Ahavath Achim Synagogue
REFRESH-INTERVAL;VALUE=DURATION:PT1H
X-Robots-Tag:noindex
X-PUBLISHED-TTL:PT1H
BEGIN:VTIMEZONE
TZID:America/New_York
BEGIN:DAYLIGHT
TZOFFSETFROM:-0500
TZOFFSETTO:-0400
TZNAME:EDT
DTSTART:20230312T070000
END:DAYLIGHT
BEGIN:STANDARD
TZOFFSETFROM:-0400
TZOFFSETTO:-0500
TZNAME:EST
DTSTART:20231105T060000
END:STANDARD
BEGIN:DAYLIGHT
TZOFFSETFROM:-0500
TZOFFSETTO:-0400
TZNAME:EDT
DTSTART:20240310T070000
END:DAYLIGHT
BEGIN:STANDARD
TZOFFSETFROM:-0400
TZOFFSETTO:-0500
TZNAME:EST
DTSTART:20241103T060000
END:STANDARD
BEGIN:DAYLIGHT
TZOFFSETFROM:-0500
TZOFFSETTO:-0400
TZNAME:EDT
DTSTART:20250309T070000
END:DAYLIGHT
BEGIN:STANDARD
TZOFFSETFROM:-0400
TZOFFSETTO:-0500
TZNAME:EST
DTSTART:20251102T060000
END:STANDARD
END:VTIMEZONE
BEGIN:VEVENT
DTSTART;TZID=America/New_York:20240507T183000
DTEND;TZID=America/New_York:20240507T203000
DTSTAMP:20260424T203714
CREATED:20240418T201628Z
LAST-MODIFIED:20240425T001037Z
UID:10012899-1715106600-1715113800@aasynagogue.org
SUMMARY:Sisterhood Closing Program ⏺️
DESCRIPTION:All Sisters are invited to the Closing Program\, where we will celebrate the installation of our new leadership team and thank the outgoing board for all their hard work and dedication. Since it will be Cinco de Mayo\, we will socialize\, enjoy a Latin-themed cooking class by Margot Alfie\, and enjoy a wonderful Cinco de Mayo-themed dinner! \nThe cost to attend is $36 per person. Registration is required (form below) by Monday\, April 29. (The address will be sent upon registration.) \nQuestions? Contact the Sisterhood Co-Presidents: Beth Friedman (bethfriedman@outlook.com) and Sara Papier (papier.sm@gmail.com). \n Register
URL:https://aasynagogue.org/event/sisterhood-closing-program/
LOCATION:The Home of Stacy Fialkow
CATEGORIES:Sisterhood
ATTACH;FMTTYPE=image/png:https://aasynagogue.org/wp-content/uploads/2024/04/Graphic.png
END:VEVENT
END:VCALENDAR