BEGIN:VCALENDAR
VERSION:2.0
PRODID:-//Ahavath Achim Synagogue - ECPv6.15.20//NONSGML v1.0//EN
CALSCALE:GREGORIAN
METHOD:PUBLISH
X-WR-CALNAME:Ahavath Achim Synagogue
X-ORIGINAL-URL:https://aasynagogue.org
X-WR-CALDESC:Events for Ahavath Achim Synagogue
REFRESH-INTERVAL;VALUE=DURATION:PT1H
X-Robots-Tag:noindex
X-PUBLISHED-TTL:PT1H
BEGIN:VTIMEZONE
TZID:America/New_York
BEGIN:DAYLIGHT
TZOFFSETFROM:-0500
TZOFFSETTO:-0400
TZNAME:EDT
DTSTART:20230312T070000
END:DAYLIGHT
BEGIN:STANDARD
TZOFFSETFROM:-0400
TZOFFSETTO:-0500
TZNAME:EST
DTSTART:20231105T060000
END:STANDARD
BEGIN:DAYLIGHT
TZOFFSETFROM:-0500
TZOFFSETTO:-0400
TZNAME:EDT
DTSTART:20240310T070000
END:DAYLIGHT
BEGIN:STANDARD
TZOFFSETFROM:-0400
TZOFFSETTO:-0500
TZNAME:EST
DTSTART:20241103T060000
END:STANDARD
BEGIN:DAYLIGHT
TZOFFSETFROM:-0500
TZOFFSETTO:-0400
TZNAME:EDT
DTSTART:20250309T070000
END:DAYLIGHT
BEGIN:STANDARD
TZOFFSETFROM:-0400
TZOFFSETTO:-0500
TZNAME:EST
DTSTART:20251102T060000
END:STANDARD
END:VTIMEZONE
BEGIN:VEVENT
DTSTART;TZID=America/New_York:20241115T083000
DTEND;TZID=America/New_York:20241115T143000
DTSTAMP:20260420T223448
CREATED:20241021T170100Z
LAST-MODIFIED:20241021T170638Z
UID:10018216-1731659400-1731681000@aasynagogue.org
SUMMARY:Finding Peace of Mind Symposium ⏺️
DESCRIPTION:Finding Peace of Mind is a symposium for faith leaders that will explore the significant and positive effects of spirituality on mental wellness. Keynote speakers Dr. Andrew Newberg and Dr. Cathy Snapp will offer individual presentations\, and the event will conclude with a panel discussion. \nSchedule: \n\n8:30–9:30 a.m.: Registration and Coffee\n9:30–9:45 a.m.:Welcome\n9:45–10:00 a.m.: Carter Center Mental Advocacy Update\n10:00–10:45 a.m.: Keynote Speaker\, Andrew Newberg\, MD (Professor\, Department of Integrative Medicine and Nutritional Sciences; Professor\, Department of Radiology; Research Director\, Marcus Institute of Integrative Health; Thomas Jefferson University)\n10:45–11:00 a.m.: Break\n11:00–11:45 a.m.: Keynote Speaker\, Cathy Snapp\, PhD (Director of Behavioral Sciences and Professor\, Medical College of Georgia)\n11:45 a.m.–12:00 p.m.: Break\n12:00–1:30 p.m.: Lunch and Idea Lab\, Rev. Olivia Maxwell\, MDiv (Associate Pastor for Congregational Care at Ebenezer Baptist Church)\n1:30–2:15 p.m.: Panel Discussion\n2:15–2:30 p.m.:  Event Concludes\n\nThe cost to attend is $80 per person (includes lunch). Registration is required (link below). \nQuestions? Email info@1lamb.org or call 404.240.8278. \n Register
URL:https://aasynagogue.org/event/finding-peace-of-mind-symposium/
LOCATION:The Carter Center\, 453 John Lewis Freedom Pkwy NE\, Atlanta\, GA\, 30307
CATEGORIES:Community Events
ATTACH;FMTTYPE=image/png:https://aasynagogue.org/wp-content/uploads/2024/10/Finding-Peace-of-Mind-Symposium.png
END:VEVENT
END:VCALENDAR