BEGIN:VCALENDAR
VERSION:2.0
PRODID:-//Ahavath Achim Synagogue - ECPv6.15.20//NONSGML v1.0//EN
CALSCALE:GREGORIAN
METHOD:PUBLISH
X-ORIGINAL-URL:https://aasynagogue.org
X-WR-CALDESC:Events for Ahavath Achim Synagogue
REFRESH-INTERVAL;VALUE=DURATION:PT1H
X-Robots-Tag:noindex
X-PUBLISHED-TTL:PT1H
BEGIN:VTIMEZONE
TZID:America/New_York
BEGIN:DAYLIGHT
TZOFFSETFROM:-0500
TZOFFSETTO:-0400
TZNAME:EDT
DTSTART:20240310T070000
END:DAYLIGHT
BEGIN:STANDARD
TZOFFSETFROM:-0400
TZOFFSETTO:-0500
TZNAME:EST
DTSTART:20241103T060000
END:STANDARD
BEGIN:DAYLIGHT
TZOFFSETFROM:-0500
TZOFFSETTO:-0400
TZNAME:EDT
DTSTART:20250309T070000
END:DAYLIGHT
BEGIN:STANDARD
TZOFFSETFROM:-0400
TZOFFSETTO:-0500
TZNAME:EST
DTSTART:20251102T060000
END:STANDARD
BEGIN:DAYLIGHT
TZOFFSETFROM:-0500
TZOFFSETTO:-0400
TZNAME:EDT
DTSTART:20260308T070000
END:DAYLIGHT
BEGIN:STANDARD
TZOFFSETFROM:-0400
TZOFFSETTO:-0500
TZNAME:EST
DTSTART:20261101T060000
END:STANDARD
END:VTIMEZONE
BEGIN:VEVENT
DTSTART;TZID=America/New_York:20250501T130000
DTEND;TZID=America/New_York:20250501T160000
DTSTAMP:20260425T110640
CREATED:20250324T182814Z
LAST-MODIFIED:20250411T143410Z
UID:10018840-1746104400-1746115200@aasynagogue.org
SUMMARY:mAAc Tour of the Jimmy Carter Presidential Library and Museum ⏺️
DESCRIPTION:Join the Mature Active Adult Community (mAAc) for a tour of the Jimmy Carter Presidential Library and Museum! Join us for an exclusive and inspiring tour of the Carter Presidential Library and Museum\, featuring a special opportunity to meet Paige Alexander\, CEO of the Carter Center\, and a tour of President and Mrs. Carter's offices. Step into history as you explore one of the museum's most compelling highlights—the story of President Carter's groundbreaking peace talks between Israel and the Arab nations\, an achievement that earned him the Nobel Peace Prize. Plus\, don't miss the special exhibit\, The Nature of the Man: Landscapes from the Childhood of Jimmy Carter by John L. Cleaveland\, Jr.\, offering a breathtaking glimpse into the places that shaped the 39th president. \nLunch will be available in the "Kitchen at Copenhill." If you plan to enjoy lunch before the tour\, please arrive by 12:15 p.m. (The cafe is cashless\, so please bring a debit/credit card.) If you prefer to join us just for the tour\, please plan to arrive by 12:50 p.m. The tour will begin promptly at 1:00 p.m. \nTickets are $10 per person for mAAc members and $15 for non-mAAc members. Registration is required by Friday\, April 25. \nQuestions?\nRegistration: Jackie Nix (jnix@aasynagogue.org; 404.603.5743)\nProgram: Gail Solomon (solgail.627@gmail.com; 404.456.6171) \n \n Register
URL:https://aasynagogue.org/event/maac-tour-of-the-jimmy-carter-presidential-library-and-museum/
LOCATION:Jimmy Carter Presidential Library and Museum\, 441 John Lewis Freedom Pkwy NE\, Atlanta\, GA\, 30307
CATEGORIES:Learning,Mature Active Adult Community (mAAc)
ATTACH;FMTTYPE=image/jpeg:https://aasynagogue.org/wp-content/uploads/2025/03/Jimmy-Carter-Presidential-Library-and-Museum.jpg
END:VEVENT
END:VCALENDAR