BEGIN:VCALENDAR
VERSION:2.0
PRODID:-//Ahavath Achim Synagogue - ECPv6.15.20//NONSGML v1.0//EN
CALSCALE:GREGORIAN
METHOD:PUBLISH
X-WR-CALNAME:Ahavath Achim Synagogue
X-ORIGINAL-URL:https://aasynagogue.org
X-WR-CALDESC:Events for Ahavath Achim Synagogue
REFRESH-INTERVAL;VALUE=DURATION:PT1H
X-Robots-Tag:noindex
X-PUBLISHED-TTL:PT1H
BEGIN:VTIMEZONE
TZID:America/New_York
BEGIN:DAYLIGHT
TZOFFSETFROM:-0500
TZOFFSETTO:-0400
TZNAME:EDT
DTSTART:20250309T070000
END:DAYLIGHT
BEGIN:STANDARD
TZOFFSETFROM:-0400
TZOFFSETTO:-0500
TZNAME:EST
DTSTART:20251102T060000
END:STANDARD
BEGIN:DAYLIGHT
TZOFFSETFROM:-0500
TZOFFSETTO:-0400
TZNAME:EDT
DTSTART:20260308T070000
END:DAYLIGHT
BEGIN:STANDARD
TZOFFSETFROM:-0400
TZOFFSETTO:-0500
TZNAME:EST
DTSTART:20261101T060000
END:STANDARD
BEGIN:DAYLIGHT
TZOFFSETFROM:-0500
TZOFFSETTO:-0400
TZNAME:EDT
DTSTART:20270314T070000
END:DAYLIGHT
BEGIN:STANDARD
TZOFFSETFROM:-0400
TZOFFSETTO:-0500
TZNAME:EST
DTSTART:20271107T060000
END:STANDARD
END:VTIMEZONE
BEGIN:VEVENT
DTSTART;TZID=America/New_York:20260422T170000
DTEND;TZID=America/New_York:20260422T180000
DTSTAMP:20260419T134549
CREATED:20260406T151146Z
LAST-MODIFIED:20260406T151250Z
UID:10026137-1776877200-1776880800@aasynagogue.org
SUMMARY:🔀 Weekly Parsha Study Series with Rabbi Rosenthal
DESCRIPTION:Weekly Parsha Study Series\nwith Rabbi Rosenthal\n\nWhat if one hour on a Wednesday afternoon could nourish your mind\, your spirit\, and your community — all at once?\n  \nEvery Wednesday at 5 PM EDT\, Rabbi Rosenthal hosts his Weekly Parsha Class\, a warm and lively gathering where we dive deep into the weekly Torah portion together. This isn't a lecture — it's a conversation. A space for honest reflection\, spirited debate\, and the kind of questions that don't always have easy answers. Together\, we explore what our ancient texts have to say about our very modern lives. \nAnd because Torah study is best enjoyed with good company and good taste\, we set the table with wine\, cheese\, and sweets for the palate — and wisdom and discussion for the mind. \nThe class meets every Wednesday at 5 PM EDT — with one exception: there will be no class on Wednesday\, April 1st\, as we will all be gathered around our Seder tables for the first night of Passover. We will resume the following week and continue our journey together. \nBut here's what makes Wednesday evenings truly special: the class flows seamlessly into our Evening Minyan\, giving each participant the opportunity to earn not one\, not two\, but three mitzvahs in a single afternoon: \n✡ Study Torah — Engage deeply with our sacred tradition. \n✡ Help Make a Minyan — Your presence is a gift. When you show up for Evening Minyan\, you are not only making communal prayer possible — you are wrapping your arms around the members of our spiritual family who are saying Kaddish\, holding them up as they find their footing again after losing someone they love deeply. There is no greater act of chesed than simply being there. \n✡ Strengthen the Bonds of Community — Show up for one another\, week after week. \nWhether you are a seasoned Torah scholar or simply curious about what the weekly portion has to say to you\, all are welcome at this table. No prior knowledge required — only an open heart and a willingness to explore. \nJoin us this Wednesday at 5 PM EDT in person or online:  + Join Zoom\nWe'd love to see you there.
URL:https://aasynagogue.org/event/weekly-parsha-study-series-with-rabbi-rosenthal-2/2026-04-22/
LOCATION:Ahavath Achim Synagogue\, 600 Peachtree Battle Ave NW\, Atlanta\, GA\, 30327
CATEGORIES:Adult Education,Learning
END:VEVENT
BEGIN:VEVENT
DTSTART;TZID=America/New_York:20260424T180000
DTEND;TZID=America/New_York:20260424T190000
DTSTAMP:20260419T134549
CREATED:20260323T184641Z
LAST-MODIFIED:20260401T170115Z
UID:10021674-1777053600-1777057200@aasynagogue.org
SUMMARY:Meshorerim Shabbat Service 🔀
DESCRIPTION:Gather with us in person or online as we are led in prayer and song by our inspiring meshorerim for one Friday evening and one Saturday morning Shabbat service each month. \n Friday Evening Service: Join Zoom\n Saturday Morning Service: Join Zoom
URL:https://aasynagogue.org/event/meshorerim-shabbat-service-2-3/2026-04-24/
LOCATION:Ahavath Achim Synagogue\, 600 Peachtree Battle Ave NW\, Atlanta\, GA\, 30327
CATEGORIES:Music,Prayer,Shabbat
END:VEVENT
BEGIN:VEVENT
DTSTART;TZID=America/New_York:20260426T093000
DTEND;TZID=America/New_York:20260426T123000
DTSTAMP:20260419T134549
CREATED:20260329T231946Z
LAST-MODIFIED:20260329T232018Z
UID:10018683-1777195800-1777206600@aasynagogue.org
SUMMARY:Kesher (Pre-K–6th Grade) ⏺️
DESCRIPTION:Kesher is Hebrew for "connection\," and connection is at the center of everything we do. Kesher is Ahavath Achim Synagogue's Jewish school program for children Pre-K through 6th grade. \nThe Kesher program meshes Jewish holidays and values and children's interests into a child-centered\, project-based curriculum. We believe in teaching children to view relationships and interactions with others and the environment through the lens of ten Jewish values (listed below). We create confident and curious Jewish learners in a safe space where they can take risks\, question\, play\, learn\, explore\, engage\, create\, make meaning\, and love. We foster the child's sense of Jewish self-discovery by providing a nurturing environment where each person can explore and create their own identity. \nThe Kesher program is generously endowed by the Judith and Aaron z"l Alembik Ahavath Achim Youth Education Program.
URL:https://aasynagogue.org/event/kesher-pre-k-6th-grade-%e2%8f%ba%ef%b8%8f-3-3/2026-04-26/
LOCATION:Ahavath Achim Synagogue\, 600 Peachtree Battle Ave NW\, Atlanta\, GA\, 30327
CATEGORIES:Kesher (Pre-K–6th Grade),Youth Education
ATTACH;FMTTYPE=image/png:https://aasynagogue.org/wp-content/uploads/2024/04/nevtelen-terv_1920x.png
END:VEVENT
BEGIN:VEVENT
DTSTART;TZID=America/New_York:20260426T093000
DTEND;TZID=America/New_York:20260426T123000
DTSTAMP:20260419T134549
CREATED:20260416T215023Z
LAST-MODIFIED:20260416T215127Z
UID:10018717-1777195800-1777206600@aasynagogue.org
SUMMARY:Nesiah (7th–9th Grade) ⏺️
DESCRIPTION:Nesiah\, Hebrew for "journey\," is Ahavath Achim Synagogue's on-the-move program for 7th through 9th-grade students. Nesiah follows a triennial curriculum\, each year exploring a defining era in Jewish history and culminating in a memorable trip. The curriculum is uniquely designed for the needs of day school students and public-school students alike. As students gain a deeper understanding of our shared Jewish history\, they also learn more about their own identities and their families' stories. \nThe Nesiah program is generously endowed by the Judith and Aaron z"l Alembik Ahavath Achim Youth Education Program.
URL:https://aasynagogue.org/event/nesiah-7th-9th-grade-2-2-2/2026-04-26/
LOCATION:Ahavath Achim Synagogue\, 600 Peachtree Battle Ave NW\, Atlanta\, GA\, 30327
CATEGORIES:Nesiah (7th–9th Grade),Youth Education
END:VEVENT
BEGIN:VEVENT
DTSTART;TZID=America/New_York:20260521T173000
DTEND;TZID=America/New_York:20260522T083000
DTSTAMP:20260419T134549
CREATED:20260416T235955Z
LAST-MODIFIED:20260417T193206Z
UID:10026183-1779384600-1779438600@aasynagogue.org
SUMMARY:Shavuot Overnight Learning Celebration
DESCRIPTION:Join us for a cherished tradition of study\, reflection\, and community as we mark the receiving of the Torah.\nThursday\, May 21 \n\n5:30 PM – 7:00 PM — Evening program begins\n7:00 PM onward — Learning through the whole night\n\nFriday\, May 22 \n\nSpecial early morning Minyan service held outdoors (weather permitting)\, followed by a community breakfast — concluding at 8:30 AM.\n\nThis is a hybrid event — join us in person or participate virtually via Zoom. Links will be available soon! \n\nIf you are interested in facilitating a 50-minute learning session during Tikkun Leil Shavuot\, please fill out this form: \n+ FACILITATOR INTEREST FORM
URL:https://aasynagogue.org/event/shavuot-overnight-learning-celebration/
LOCATION:Ahavath Achim Synagogue\, 600 Peachtree Battle Ave NW\, Atlanta\, GA\, 30327
CATEGORIES:Holidays,Learning,Prayer
END:VEVENT
END:VCALENDAR