BEGIN:VCALENDAR
VERSION:2.0
PRODID:-//Ahavath Achim Synagogue - ECPv6.15.20//NONSGML v1.0//EN
CALSCALE:GREGORIAN
METHOD:PUBLISH
X-WR-CALNAME:Ahavath Achim Synagogue
X-ORIGINAL-URL:https://aasynagogue.org
X-WR-CALDESC:Events for Ahavath Achim Synagogue
REFRESH-INTERVAL;VALUE=DURATION:PT1H
X-Robots-Tag:noindex
X-PUBLISHED-TTL:PT1H
BEGIN:VTIMEZONE
TZID:America/New_York
BEGIN:DAYLIGHT
TZOFFSETFROM:-0500
TZOFFSETTO:-0400
TZNAME:EDT
DTSTART:20240310T070000
END:DAYLIGHT
BEGIN:STANDARD
TZOFFSETFROM:-0400
TZOFFSETTO:-0500
TZNAME:EST
DTSTART:20241103T060000
END:STANDARD
BEGIN:DAYLIGHT
TZOFFSETFROM:-0500
TZOFFSETTO:-0400
TZNAME:EDT
DTSTART:20250309T070000
END:DAYLIGHT
BEGIN:STANDARD
TZOFFSETFROM:-0400
TZOFFSETTO:-0500
TZNAME:EST
DTSTART:20251102T060000
END:STANDARD
BEGIN:DAYLIGHT
TZOFFSETFROM:-0500
TZOFFSETTO:-0400
TZNAME:EDT
DTSTART:20260308T070000
END:DAYLIGHT
BEGIN:STANDARD
TZOFFSETFROM:-0400
TZOFFSETTO:-0500
TZNAME:EST
DTSTART:20261101T060000
END:STANDARD
END:VTIMEZONE
BEGIN:VEVENT
DTSTART;TZID=America/New_York:20250126T093000
DTEND;TZID=America/New_York:20250126T123000
DTSTAMP:20260420T232758
CREATED:20240709T154713Z
LAST-MODIFIED:20250417T210006Z
UID:10014669-1737883800-1737894600@aasynagogue.org
SUMMARY:Kesher (Pre-K–6th Grade) ⏺️
DESCRIPTION:Kesher is Hebrew for "connection\," and connection is at the center of everything we do. Kesher is Ahavath Achim Synagogue's Jewish school program for children Pre-K through 6th grade. \nThe Kesher program meshes Jewish holidays and values and children's interests into a child-centered\, project-based curriculum. We believe in teaching children to view relationships and interactions with others and the environment through the lens of ten Jewish values. We create confident and curious Jewish learners in a safe space where they can take risks\, question\, play\, learn\, explore\, engage\, create\, make meaning\, and love. We foster the child's sense of Jewish self-discovery by providing a nurturing environment where each person can explore and create their own identity. \nThe Kesher program is generously endowed by the Judith and Aaron z"l Alembik Ahavath Achim Youth Education Program.
URL:https://aasynagogue.org/event/kesher-pre-k-6th-grade/2025-01-26/
LOCATION:Ahavath Achim Synagogue\, 600 Peachtree Battle Ave NW\, Atlanta\, GA\, 30327
CATEGORIES:Kesher (Pre-K–6th Grade)
END:VEVENT
BEGIN:VEVENT
DTSTART;TZID=America/New_York:20250126T093000
DTEND;TZID=America/New_York:20250126T123000
DTSTAMP:20260420T232758
CREATED:20240709T155529Z
LAST-MODIFIED:20240801T201758Z
UID:10014692-1737883800-1737894600@aasynagogue.org
SUMMARY:Nesiah (7th–9th Grade) ⏺️
DESCRIPTION:Nesiah\, Hebrew for "journey\," is Ahavath Achim Synagogue's on-the-move program for 7th through 9th-grade students. Nesiah runs on a triennial curriculum\, each year exploring a defining era in Jewish history and culminating with a memorable trip. The curriculum is uniquely designed to the needs of day school students and public-school students alike. As students gain a greater understanding of our shared Jewish history\, they also learn more about their own identities and their families' stories. \nThe Nesiah program is generously endowed by the Judith and Aaron z"l Alembik Ahavath Achim Youth Education Program.
URL:https://aasynagogue.org/event/nesiah-7th-9th-grade/2025-01-26/
LOCATION:Ahavath Achim Synagogue\, 600 Peachtree Battle Ave NW\, Atlanta\, GA\, 30327
CATEGORIES:Nesiah (7th–9th Grade)
END:VEVENT
BEGIN:VEVENT
DTSTART;TZID=America/New_York:20250128T193000
DTEND;TZID=America/New_York:20250128T210000
DTSTAMP:20260420T232758
CREATED:20240522T181907Z
LAST-MODIFIED:20260323T211215Z
UID:10013086-1738092600-1738098000@aasynagogue.org
SUMMARY:Biblical Hebrew Class ▶️
DESCRIPTION:Join us every Tuesday for Biblical Hebrew Class\, led by Hebrew instructor\, Jim Dricker. In this class\, we will cover all aspects of grammar and a well-rounded basic vocabulary. Students set the pace of the program\, and we will proceed as fast or as slow as the majority of the class requests. We might take two years to complete… maybe more… perhaps less! The only prerequisite is the ability to sound out Hebrew words. \nRequired textbook: The First Hebrew Primer: The Adult Beginner's Path to Biblical Hebrew\, Third Edition by Simon\, Resnikoff\, and Motzkin (available on Amazon and other book sellers) \n \n Join Zoom
URL:https://aasynagogue.org/event/biblical-hebrew-class-2/2025-01-28/
LOCATION:GA
CATEGORIES:Adult Education,Learning
ATTACH;FMTTYPE=image/jpeg:https://aasynagogue.org/wp-content/uploads/2020/08/AdobeStock_217894338-scaled-e1596639380820.jpeg
END:VEVENT
BEGIN:VEVENT
DTSTART;VALUE=DATE:20250130
DTEND;VALUE=DATE:20250131
DTSTAMP:20260420T232758
CREATED:20240621T012628Z
LAST-MODIFIED:20240621T013353Z
UID:10013837-1738195200-1738281599@aasynagogue.org
SUMMARY:Rosh Chodesh Shevat
DESCRIPTION:Start of month of Sh'vat on the Hebrew calendar
URL:https://aasynagogue.org/event/rosh-chodesh-shevat-2/
LOCATION:GA
END:VEVENT
BEGIN:VEVENT
DTSTART;TZID=America/New_York:20250131T174900
DTEND;TZID=America/New_York:20250131T174900
DTSTAMP:20260420T232758
CREATED:20240620T220312Z
LAST-MODIFIED:20240620T220312Z
UID:10013675-1738345740-1738345740@aasynagogue.org
SUMMARY:Candle Lighting
DESCRIPTION:
URL:https://aasynagogue.org/event/candle-lighting-190/
LOCATION:GA
END:VEVENT
BEGIN:VEVENT
DTSTART;TZID=America/New_York:20250131T180000
DTEND;TZID=America/New_York:20250131T190000
DTSTAMP:20260420T232758
CREATED:20241029T175204Z
LAST-MODIFIED:20250715T160308Z
UID:10018284-1738346400-1738350000@aasynagogue.org
SUMMARY:Shabbat Evening Service 🔀
DESCRIPTION:Join us in Ellman Chapel or via Zoom. \n Join Via Zoom
URL:https://aasynagogue.org/event/shabbat-evening-service-4/2025-01-31/
LOCATION:Ahavath Achim Synagogue—Ellman Chapel\, 600 Peachtree Battle Ave NW\, Atlanta\, GA\, 30327\, United States
CATEGORIES:Prayer
GEO:33.8233671;-84.4089772
X-APPLE-STRUCTURED-LOCATION;VALUE=URI;X-ADDRESS=Ahavath Achim Synagogue—Ellman Chapel 600 Peachtree Battle Ave NW Atlanta GA 30327 United States;X-APPLE-RADIUS=500;X-TITLE=600 Peachtree Battle Ave NW:geo:-84.4089772,33.8233671
END:VEVENT
BEGIN:VEVENT
DTSTART;TZID=America/New_York:20250201T090000
DTEND;TZID=America/New_York:20250201T123000
DTSTAMP:20260420T232758
CREATED:20241119T183208Z
LAST-MODIFIED:20241205T183903Z
UID:10018477-1738400400-1738413000@aasynagogue.org
SUMMARY:Family and Kesher Shabbat Experience ⏺️
DESCRIPTION:Join us one Saturday a month for our new Family and Kesher Shabbat Experience! We will offer a genuine synagogue and community experience with special opportunities for our children to authentically experience Shabbat with their community\, gain comfort in sanctuary space\, rituals\, and prayer\, and prepare for his/her B'nai Mitzvah. Parents\, grandparents\, and special friends will have the opportunity to engage in these meaningful Jewish experiences with their children\, grandchildren\, and special friends. \nSchedule: \n\n9–9:45 a.m.: Pre-B'nai Mitzvah Breakfast and Learn\n9:20 a.m.–12:30 p.m.: Kesher Families (Pre-B'nai Mitzvah cohort joins at 9:45 a.m.)(Nesiah families will join on the dates below denoted with an asterisk)\n11:15 a.m.–12:15 p.m.: Sababa Time for ALL AA Families\n\nPray 'n' Play (infants–6th grade)\nPre-B'nai Mitzvah\n\n\n12:15–12:30 p.m.: Everyone to Main Sanctuary\n12:30 p.m.: Everyone to Oneg\n\nDates: September 7\, November 2\, December 7*\, January 11*\, February 1\, March 1*\, April 5\, May 3 \nQuestions? Contact the Interim Director of Education: Annsley Klehr (aklehr@aasynagogue.org). \nAhavath Achim Synagogue's youth education programming is generously endowed by the Judith and Aaron z"l Alembik Ahavath Achim Youth Education Program.
URL:https://aasynagogue.org/event/family-and-kesher-shabbat-experience/2025-02-01/
LOCATION:Ahavath Achim Synagogue\, 600 Peachtree Battle Ave NW\, Atlanta\, GA\, 30327
CATEGORIES:Kesher (Pre-K–6th Grade),Kid Friendly,Nesiah (7th–9th Grade)
ATTACH;FMTTYPE=image/jpeg:https://aasynagogue.org/wp-content/uploads/2024/03/Shabbat-5.jpg
END:VEVENT
BEGIN:VEVENT
DTSTART;TZID=America/New_York:20250201T093000
DTEND;TZID=America/New_York:20250201T120000
DTSTAMP:20260420T232758
CREATED:20241029T174753Z
LAST-MODIFIED:20250715T160508Z
UID:10018231-1738402200-1738411200@aasynagogue.org
SUMMARY:Shabbat Morning Service 🔀
DESCRIPTION:Join us in the Sanctuary or via Zoom. \n Join Via Zoom
URL:https://aasynagogue.org/event/shabbat-morning-service-5/2025-02-01/
LOCATION:Ahavath Achim Synagogue — Epstein Sanctuary\, 600 Peachtree Battle Ave NW\, Atlanta\, GA\, 30327
CATEGORIES:Prayer
END:VEVENT
BEGIN:VEVENT
DTSTART;TZID=America/New_York:20250201T111500
DTEND;TZID=America/New_York:20250201T121500
DTSTAMP:20260420T232758
CREATED:20250124T185338Z
LAST-MODIFIED:20250129T194746Z
UID:10018642-1738408500-1738412100@aasynagogue.org
SUMMARY:Tu B'Shvat Family Seder 🔀
DESCRIPTION:Families (with children up to 6th grade) are invited to a Tu B'Shvat Family Seder to celebrate the birthday of trees! Get ready to drink grape juice and try some fruits while enjoying a hands-on\, active experience to learn about traditions and rituals around trees. \nThis event is free\, and registration is required (link below). If you can't join us in person\, join us virtually via Zoom (link below)! \nQuestions? Contact the Interim Director of Education: Annsley Klehr (aklehr@aasynagogue.org; 404.603.5754). \n Register  Join Zoom
URL:https://aasynagogue.org/event/tu-bshvat-family-seder/
LOCATION:Ahavath Achim Synagogue—Paradies Hall\, 600 Peachtree Battle Ave. NW\, Atlanta\, GA\, 30327\, United States
CATEGORIES:Holidays,Kesher (Pre-K–6th Grade),Kid Friendly,Social Action
ATTACH;FMTTYPE=image/png:https://aasynagogue.org/wp-content/uploads/2025/01/Graphic.png
GEO:33.8233671;-84.4089772
X-APPLE-STRUCTURED-LOCATION;VALUE=URI;X-ADDRESS=Ahavath Achim Synagogue—Paradies Hall 600 Peachtree Battle Ave. NW Atlanta GA 30327 United States;X-APPLE-RADIUS=500;X-TITLE=600 Peachtree Battle Ave. NW:geo:-84.4089772,33.8233671
END:VEVENT
BEGIN:VEVENT
DTSTART;TZID=America/New_York:20250201T123000
DTEND;TZID=America/New_York:20250201T140000
DTSTAMP:20260420T232758
CREATED:20240506T193850Z
LAST-MODIFIED:20251003T233416Z
UID:10014987-1738413000-1738418400@aasynagogue.org
SUMMARY:Rebbe's Tish ⏺️
DESCRIPTION:Join us during kiddush lunch on Shabbat mornings for Rebbe's Tish where we'll sing\, do a bit of studying and kavanot\, celebrate simchas\, and fulfill the mitzvah of delighting in Shabbat and reciting the blessing after meals! Whether you attended the Shabbat morning service virtually\, in person\, or not at all\, you are welcome to join us—Grab a seat at the square table in the atrium between the Sanctuary and Srochi Auditorium. We'll start around 12:30 p.m. (or ~30 minutes after the service ends) and sing the blessing after meals (Birkat HaMazon) between 1:30 p.m. and 2:00 p.m. \nQuestions? Contact music@aasynagogue.org.
URL:https://aasynagogue.org/event/rebbes-tish-4/2025-02-01/
LOCATION:Ahavath Achim Synagogue—Srochi Auditorium\, 600 Peachtree Battle Ave. NW\, Atlanta\, GA\, 30327\, United States
CATEGORIES:Learning,Music
ATTACH;FMTTYPE=image/jpeg:https://aasynagogue.org/wp-content/uploads/2017/10/People-Singing-e1598502653135.jpg
GEO:33.8233671;-84.4089772
X-APPLE-STRUCTURED-LOCATION;VALUE=URI;X-ADDRESS=Ahavath Achim Synagogue—Srochi Auditorium 600 Peachtree Battle Ave. NW Atlanta GA 30327 United States;X-APPLE-RADIUS=500;X-TITLE=600 Peachtree Battle Ave. NW:geo:-84.4089772,33.8233671
END:VEVENT
BEGIN:VEVENT
DTSTART;TZID=America/New_York:20250201T170000
DTEND;TZID=America/New_York:20250201T183000
DTSTAMP:20260420T232758
CREATED:20250113T185011Z
LAST-MODIFIED:20250113T185011Z
UID:10018636-1738429200-1738434600@aasynagogue.org
SUMMARY:Mincha/Seudah Sheleshet/Ma'ariv/Havdallah 🔀
DESCRIPTION:Join us each week as we say goodbye to Shabbat and start the following week anew. Prayer\, Torah reading\, a short study with the rabbi\, a light seudah sheleshet (third meal)\, and a musical havdallah will be part of this experience! \nJoin us in Ellman Chapel or via Zoom. \n Join Zoom
URL:https://aasynagogue.org/event/mincha-seudah-sheleshet-maariv-havdallah-10/2025-02-01/
LOCATION:Ahavath Achim Synagogue—Ellman Chapel\, 600 Peachtree Battle Ave NW\, Atlanta\, GA\, 30327\, United States
CATEGORIES:Prayer
GEO:33.8233671;-84.4089772
X-APPLE-STRUCTURED-LOCATION;VALUE=URI;X-ADDRESS=Ahavath Achim Synagogue—Ellman Chapel 600 Peachtree Battle Ave NW Atlanta GA 30327 United States;X-APPLE-RADIUS=500;X-TITLE=600 Peachtree Battle Ave NW:geo:-84.4089772,33.8233671
END:VEVENT
BEGIN:VEVENT
DTSTART;TZID=America/New_York:20250201T183400
DTEND;TZID=America/New_York:20250201T183400
DTSTAMP:20260420T232758
CREATED:20240621T015613Z
LAST-MODIFIED:20240621T015613Z
UID:10013871-1738434840-1738434840@aasynagogue.org
SUMMARY:Conclusion of Shabbat
DESCRIPTION:
URL:https://aasynagogue.org/event/conclusion-of-shabbat-162/
LOCATION:GA
END:VEVENT
BEGIN:VEVENT
DTSTART;TZID=America/New_York:20250201T183400
DTEND;TZID=America/New_York:20250201T184900
DTSTAMP:20260420T232758
CREATED:20240620T213834Z
LAST-MODIFIED:20240909T202148Z
UID:10014024-1738434840-1738435740@aasynagogue.org
SUMMARY:Havdallah and Kiddush Levana 🔀
DESCRIPTION:Join us in the courtyard every month on the Saturday evening after the new moon for a musical Havdallah and moon blessing ceremony! \nClick here for a link to the song sheet. \nDates: July 13\, August 14\, September 7\, October 5\, November 2\, December 7\, January 4\, February 1\, March 1\, and April 5 \n Join Zoom
URL:https://aasynagogue.org/event/havdallah-and-kiddush-levana/2025-02-01/
LOCATION:Ahavath Achim Synagogue—Garden\, 600 Peachtree Battle Ave NW\, Atlanta\, GA\, 30327
CATEGORIES:Music,Prayer
ATTACH;FMTTYPE=image/png:https://aasynagogue.org/wp-content/uploads/2024/06/Kiddush-Levana.png
END:VEVENT
END:VCALENDAR