BEGIN:VCALENDAR
VERSION:2.0
PRODID:-//Ahavath Achim Synagogue - ECPv6.15.20//NONSGML v1.0//EN
CALSCALE:GREGORIAN
METHOD:PUBLISH
X-ORIGINAL-URL:https://aasynagogue.org
X-WR-CALDESC:Events for Ahavath Achim Synagogue
REFRESH-INTERVAL;VALUE=DURATION:PT1H
X-Robots-Tag:noindex
X-PUBLISHED-TTL:PT1H
BEGIN:VTIMEZONE
TZID:America/New_York
BEGIN:DAYLIGHT
TZOFFSETFROM:-0500
TZOFFSETTO:-0400
TZNAME:EDT
DTSTART:20290311T070000
END:DAYLIGHT
BEGIN:STANDARD
TZOFFSETFROM:-0400
TZOFFSETTO:-0500
TZNAME:EST
DTSTART:20291104T060000
END:STANDARD
BEGIN:DAYLIGHT
TZOFFSETFROM:-0500
TZOFFSETTO:-0400
TZNAME:EDT
DTSTART:20300310T070000
END:DAYLIGHT
BEGIN:STANDARD
TZOFFSETFROM:-0400
TZOFFSETTO:-0500
TZNAME:EST
DTSTART:20301103T060000
END:STANDARD
BEGIN:DAYLIGHT
TZOFFSETFROM:-0500
TZOFFSETTO:-0400
TZNAME:EDT
DTSTART:20310309T070000
END:DAYLIGHT
BEGIN:STANDARD
TZOFFSETFROM:-0400
TZOFFSETTO:-0500
TZNAME:EST
DTSTART:20311102T060000
END:STANDARD
END:VTIMEZONE
BEGIN:VEVENT
DTSTART;TZID=America/New_York:20300801T180000
DTEND;TZID=America/New_York:20300801T190000
DTSTAMP:20260423T060840
CREATED:20260327T143335Z
LAST-MODIFIED:20260327T143407Z
UID:10022134-1911837600-1911841200@aasynagogue.org
SUMMARY:Evening Minyan 🔀
DESCRIPTION:Join us in Ellman Chapel or via Zoom. \n Join Zoom
URL:https://aasynagogue.org/event/evening-minyan-5-2-3-2-2/2030-08-01/
LOCATION:Ahavath Achim Synagogue—Ellman Chapel\, 600 Peachtree Battle Ave NW\, Atlanta\, GA\, 30327\, United States
CATEGORIES:Prayer
GEO:33.8233671;-84.4089772
X-APPLE-STRUCTURED-LOCATION;VALUE=URI;X-ADDRESS=Ahavath Achim Synagogue—Ellman Chapel 600 Peachtree Battle Ave NW Atlanta GA 30327 United States;X-APPLE-RADIUS=500;X-TITLE=600 Peachtree Battle Ave NW:geo:-84.4089772,33.8233671
END:VEVENT
BEGIN:VEVENT
DTSTART;TZID=America/New_York:20300803T123000
DTEND;TZID=America/New_York:20300803T140000
DTSTAMP:20260423T060840
CREATED:20260416T230615Z
LAST-MODIFIED:20260416T230647Z
UID:10021860-1911990600-1911996000@aasynagogue.org
SUMMARY:Rebbe's Tish ⏺️
DESCRIPTION:Join us during kiddush lunch on Shabbat mornings for Rebbe's Tish where we'll sing\, do a bit of studying and kavanot\, celebrate simchas\, and fulfill the mitzvah of delighting in Shabbat and reciting the blessing after meals! Whether you attended the Shabbat morning service virtually\, in person\, or not at all\, you are welcome to join us—Grab a seat at the square table in the atrium between the Sanctuary and Srochi Auditorium. We'll start around 12:30 p.m. (or ~30 minutes after the service ends) and sing the blessing after meals (Birkat HaMazon) between 1:30 p.m. and 2:00 p.m. \nQuestions? Contact music@aasynagogue.org.
URL:https://aasynagogue.org/event/rebbes-tish-4-4-2/2030-08-03/
LOCATION:Ahavath Achim Synagogue—Srochi Auditorium\, 600 Peachtree Battle Ave. NW\, Atlanta\, GA\, 30327\, United States
CATEGORIES:Learning,Music
GEO:33.8233671;-84.4089772
X-APPLE-STRUCTURED-LOCATION;VALUE=URI;X-ADDRESS=Ahavath Achim Synagogue—Srochi Auditorium 600 Peachtree Battle Ave. NW Atlanta GA 30327 United States;X-APPLE-RADIUS=500;X-TITLE=600 Peachtree Battle Ave. NW:geo:-84.4089772,33.8233671
END:VEVENT
BEGIN:VEVENT
DTSTART;TZID=America/New_York:20300804T180000
DTEND;TZID=America/New_York:20300804T190000
DTSTAMP:20260423T060840
CREATED:20260327T143335Z
LAST-MODIFIED:20260327T143407Z
UID:10022135-1912096800-1912100400@aasynagogue.org
SUMMARY:Evening Minyan 🔀
DESCRIPTION:Join us in Ellman Chapel or via Zoom. \n Join Zoom
URL:https://aasynagogue.org/event/evening-minyan-5-2-3-2-2/2030-08-04/
LOCATION:Ahavath Achim Synagogue—Ellman Chapel\, 600 Peachtree Battle Ave NW\, Atlanta\, GA\, 30327\, United States
CATEGORIES:Prayer
GEO:33.8233671;-84.4089772
X-APPLE-STRUCTURED-LOCATION;VALUE=URI;X-ADDRESS=Ahavath Achim Synagogue—Ellman Chapel 600 Peachtree Battle Ave NW Atlanta GA 30327 United States;X-APPLE-RADIUS=500;X-TITLE=600 Peachtree Battle Ave NW:geo:-84.4089772,33.8233671
END:VEVENT
BEGIN:VEVENT
DTSTART;TZID=America/New_York:20300805T180000
DTEND;TZID=America/New_York:20300805T190000
DTSTAMP:20260423T060840
CREATED:20260327T143335Z
LAST-MODIFIED:20260327T143407Z
UID:10022136-1912183200-1912186800@aasynagogue.org
SUMMARY:Evening Minyan 🔀
DESCRIPTION:Join us in Ellman Chapel or via Zoom. \n Join Zoom
URL:https://aasynagogue.org/event/evening-minyan-5-2-3-2-2/2030-08-05/
LOCATION:Ahavath Achim Synagogue—Ellman Chapel\, 600 Peachtree Battle Ave NW\, Atlanta\, GA\, 30327\, United States
CATEGORIES:Prayer
GEO:33.8233671;-84.4089772
X-APPLE-STRUCTURED-LOCATION;VALUE=URI;X-ADDRESS=Ahavath Achim Synagogue—Ellman Chapel 600 Peachtree Battle Ave NW Atlanta GA 30327 United States;X-APPLE-RADIUS=500;X-TITLE=600 Peachtree Battle Ave NW:geo:-84.4089772,33.8233671
END:VEVENT
BEGIN:VEVENT
DTSTART;TZID=America/New_York:20300806T180000
DTEND;TZID=America/New_York:20300806T190000
DTSTAMP:20260423T060840
CREATED:20260327T143335Z
LAST-MODIFIED:20260327T143407Z
UID:10022137-1912269600-1912273200@aasynagogue.org
SUMMARY:Evening Minyan 🔀
DESCRIPTION:Join us in Ellman Chapel or via Zoom. \n Join Zoom
URL:https://aasynagogue.org/event/evening-minyan-5-2-3-2-2/2030-08-06/
LOCATION:Ahavath Achim Synagogue—Ellman Chapel\, 600 Peachtree Battle Ave NW\, Atlanta\, GA\, 30327\, United States
CATEGORIES:Prayer
GEO:33.8233671;-84.4089772
X-APPLE-STRUCTURED-LOCATION;VALUE=URI;X-ADDRESS=Ahavath Achim Synagogue—Ellman Chapel 600 Peachtree Battle Ave NW Atlanta GA 30327 United States;X-APPLE-RADIUS=500;X-TITLE=600 Peachtree Battle Ave NW:geo:-84.4089772,33.8233671
END:VEVENT
BEGIN:VEVENT
DTSTART;TZID=America/New_York:20300806T193000
DTEND;TZID=America/New_York:20300806T210000
DTSTAMP:20260423T060840
CREATED:20260416T145601Z
LAST-MODIFIED:20260416T214819Z
UID:10026101-1912275000-1912280400@aasynagogue.org
SUMMARY:Biblical Hebrew Class ▶️
DESCRIPTION:Join us every Tuesday for Biblical Hebrew Class\, led by Hebrew instructor Jim Dricker. In this class\, we will cover all aspects of grammar and a well-rounded basic vocabulary. Students set the pace of the program\, and we will proceed as fast or as slow as the majority of the class requests. We might take two years to complete… maybe more… perhaps less! The only prerequisite is the ability to sound out Hebrew words. \n  \n  \n  \n  \n  \nRequired textbook: The First Hebrew Primer: The Adult Beginner's Path to Biblical Hebrew\, Third Edition by Simon\, Resnikoff\, and Motzkin (available on Amazon and other book sellers) \n \n Join Zoom
URL:https://aasynagogue.org/event/biblical-hebrew-class-2-2/2030-08-06/
LOCATION:GA
CATEGORIES:Adult Education,Learning
END:VEVENT
BEGIN:VEVENT
DTSTART;TZID=America/New_York:20300807T180000
DTEND;TZID=America/New_York:20300807T190000
DTSTAMP:20260423T060840
CREATED:20260327T143335Z
LAST-MODIFIED:20260327T143407Z
UID:10022138-1912356000-1912359600@aasynagogue.org
SUMMARY:Evening Minyan 🔀
DESCRIPTION:Join us in Ellman Chapel or via Zoom. \n Join Zoom
URL:https://aasynagogue.org/event/evening-minyan-5-2-3-2-2/2030-08-07/
LOCATION:Ahavath Achim Synagogue—Ellman Chapel\, 600 Peachtree Battle Ave NW\, Atlanta\, GA\, 30327\, United States
CATEGORIES:Prayer
GEO:33.8233671;-84.4089772
X-APPLE-STRUCTURED-LOCATION;VALUE=URI;X-ADDRESS=Ahavath Achim Synagogue—Ellman Chapel 600 Peachtree Battle Ave NW Atlanta GA 30327 United States;X-APPLE-RADIUS=500;X-TITLE=600 Peachtree Battle Ave NW:geo:-84.4089772,33.8233671
END:VEVENT
BEGIN:VEVENT
DTSTART;TZID=America/New_York:20300808T180000
DTEND;TZID=America/New_York:20300808T190000
DTSTAMP:20260423T060840
CREATED:20260327T143335Z
LAST-MODIFIED:20260327T143407Z
UID:10022139-1912442400-1912446000@aasynagogue.org
SUMMARY:Evening Minyan 🔀
DESCRIPTION:Join us in Ellman Chapel or via Zoom. \n Join Zoom
URL:https://aasynagogue.org/event/evening-minyan-5-2-3-2-2/2030-08-08/
LOCATION:Ahavath Achim Synagogue—Ellman Chapel\, 600 Peachtree Battle Ave NW\, Atlanta\, GA\, 30327\, United States
CATEGORIES:Prayer
GEO:33.8233671;-84.4089772
X-APPLE-STRUCTURED-LOCATION;VALUE=URI;X-ADDRESS=Ahavath Achim Synagogue—Ellman Chapel 600 Peachtree Battle Ave NW Atlanta GA 30327 United States;X-APPLE-RADIUS=500;X-TITLE=600 Peachtree Battle Ave NW:geo:-84.4089772,33.8233671
END:VEVENT
BEGIN:VEVENT
DTSTART;TZID=America/New_York:20300810T123000
DTEND;TZID=America/New_York:20300810T140000
DTSTAMP:20260423T060840
CREATED:20260416T230615Z
LAST-MODIFIED:20260416T230647Z
UID:10021861-1912595400-1912600800@aasynagogue.org
SUMMARY:Rebbe's Tish ⏺️
DESCRIPTION:Join us during kiddush lunch on Shabbat mornings for Rebbe's Tish where we'll sing\, do a bit of studying and kavanot\, celebrate simchas\, and fulfill the mitzvah of delighting in Shabbat and reciting the blessing after meals! Whether you attended the Shabbat morning service virtually\, in person\, or not at all\, you are welcome to join us—Grab a seat at the square table in the atrium between the Sanctuary and Srochi Auditorium. We'll start around 12:30 p.m. (or ~30 minutes after the service ends) and sing the blessing after meals (Birkat HaMazon) between 1:30 p.m. and 2:00 p.m. \nQuestions? Contact music@aasynagogue.org.
URL:https://aasynagogue.org/event/rebbes-tish-4-4-2/2030-08-10/
LOCATION:Ahavath Achim Synagogue—Srochi Auditorium\, 600 Peachtree Battle Ave. NW\, Atlanta\, GA\, 30327\, United States
CATEGORIES:Learning,Music
GEO:33.8233671;-84.4089772
X-APPLE-STRUCTURED-LOCATION;VALUE=URI;X-ADDRESS=Ahavath Achim Synagogue—Srochi Auditorium 600 Peachtree Battle Ave. NW Atlanta GA 30327 United States;X-APPLE-RADIUS=500;X-TITLE=600 Peachtree Battle Ave. NW:geo:-84.4089772,33.8233671
END:VEVENT
BEGIN:VEVENT
DTSTART;TZID=America/New_York:20300811T180000
DTEND;TZID=America/New_York:20300811T190000
DTSTAMP:20260423T060840
CREATED:20260327T143335Z
LAST-MODIFIED:20260327T143407Z
UID:10022140-1912701600-1912705200@aasynagogue.org
SUMMARY:Evening Minyan 🔀
DESCRIPTION:Join us in Ellman Chapel or via Zoom. \n Join Zoom
URL:https://aasynagogue.org/event/evening-minyan-5-2-3-2-2/2030-08-11/
LOCATION:Ahavath Achim Synagogue—Ellman Chapel\, 600 Peachtree Battle Ave NW\, Atlanta\, GA\, 30327\, United States
CATEGORIES:Prayer
GEO:33.8233671;-84.4089772
X-APPLE-STRUCTURED-LOCATION;VALUE=URI;X-ADDRESS=Ahavath Achim Synagogue—Ellman Chapel 600 Peachtree Battle Ave NW Atlanta GA 30327 United States;X-APPLE-RADIUS=500;X-TITLE=600 Peachtree Battle Ave NW:geo:-84.4089772,33.8233671
END:VEVENT
BEGIN:VEVENT
DTSTART;TZID=America/New_York:20300812T180000
DTEND;TZID=America/New_York:20300812T190000
DTSTAMP:20260423T060840
CREATED:20260327T143335Z
LAST-MODIFIED:20260327T143407Z
UID:10022141-1912788000-1912791600@aasynagogue.org
SUMMARY:Evening Minyan 🔀
DESCRIPTION:Join us in Ellman Chapel or via Zoom. \n Join Zoom
URL:https://aasynagogue.org/event/evening-minyan-5-2-3-2-2/2030-08-12/
LOCATION:Ahavath Achim Synagogue—Ellman Chapel\, 600 Peachtree Battle Ave NW\, Atlanta\, GA\, 30327\, United States
CATEGORIES:Prayer
GEO:33.8233671;-84.4089772
X-APPLE-STRUCTURED-LOCATION;VALUE=URI;X-ADDRESS=Ahavath Achim Synagogue—Ellman Chapel 600 Peachtree Battle Ave NW Atlanta GA 30327 United States;X-APPLE-RADIUS=500;X-TITLE=600 Peachtree Battle Ave NW:geo:-84.4089772,33.8233671
END:VEVENT
BEGIN:VEVENT
DTSTART;TZID=America/New_York:20300813T180000
DTEND;TZID=America/New_York:20300813T190000
DTSTAMP:20260423T060840
CREATED:20260327T143335Z
LAST-MODIFIED:20260327T143407Z
UID:10022142-1912874400-1912878000@aasynagogue.org
SUMMARY:Evening Minyan 🔀
DESCRIPTION:Join us in Ellman Chapel or via Zoom. \n Join Zoom
URL:https://aasynagogue.org/event/evening-minyan-5-2-3-2-2/2030-08-13/
LOCATION:Ahavath Achim Synagogue—Ellman Chapel\, 600 Peachtree Battle Ave NW\, Atlanta\, GA\, 30327\, United States
CATEGORIES:Prayer
GEO:33.8233671;-84.4089772
X-APPLE-STRUCTURED-LOCATION;VALUE=URI;X-ADDRESS=Ahavath Achim Synagogue—Ellman Chapel 600 Peachtree Battle Ave NW Atlanta GA 30327 United States;X-APPLE-RADIUS=500;X-TITLE=600 Peachtree Battle Ave NW:geo:-84.4089772,33.8233671
END:VEVENT
BEGIN:VEVENT
DTSTART;TZID=America/New_York:20300813T193000
DTEND;TZID=America/New_York:20300813T210000
DTSTAMP:20260423T060840
CREATED:20260416T145601Z
LAST-MODIFIED:20260416T214819Z
UID:10026102-1912879800-1912885200@aasynagogue.org
SUMMARY:Biblical Hebrew Class ▶️
DESCRIPTION:Join us every Tuesday for Biblical Hebrew Class\, led by Hebrew instructor Jim Dricker. In this class\, we will cover all aspects of grammar and a well-rounded basic vocabulary. Students set the pace of the program\, and we will proceed as fast or as slow as the majority of the class requests. We might take two years to complete… maybe more… perhaps less! The only prerequisite is the ability to sound out Hebrew words. \n  \n  \n  \n  \n  \nRequired textbook: The First Hebrew Primer: The Adult Beginner's Path to Biblical Hebrew\, Third Edition by Simon\, Resnikoff\, and Motzkin (available on Amazon and other book sellers) \n \n Join Zoom
URL:https://aasynagogue.org/event/biblical-hebrew-class-2-2/2030-08-13/
LOCATION:GA
CATEGORIES:Adult Education,Learning
END:VEVENT
BEGIN:VEVENT
DTSTART;TZID=America/New_York:20300814T180000
DTEND;TZID=America/New_York:20300814T190000
DTSTAMP:20260423T060840
CREATED:20260327T143335Z
LAST-MODIFIED:20260327T143407Z
UID:10022143-1912960800-1912964400@aasynagogue.org
SUMMARY:Evening Minyan 🔀
DESCRIPTION:Join us in Ellman Chapel or via Zoom. \n Join Zoom
URL:https://aasynagogue.org/event/evening-minyan-5-2-3-2-2/2030-08-14/
LOCATION:Ahavath Achim Synagogue—Ellman Chapel\, 600 Peachtree Battle Ave NW\, Atlanta\, GA\, 30327\, United States
CATEGORIES:Prayer
GEO:33.8233671;-84.4089772
X-APPLE-STRUCTURED-LOCATION;VALUE=URI;X-ADDRESS=Ahavath Achim Synagogue—Ellman Chapel 600 Peachtree Battle Ave NW Atlanta GA 30327 United States;X-APPLE-RADIUS=500;X-TITLE=600 Peachtree Battle Ave NW:geo:-84.4089772,33.8233671
END:VEVENT
BEGIN:VEVENT
DTSTART;TZID=America/New_York:20300815T180000
DTEND;TZID=America/New_York:20300815T190000
DTSTAMP:20260423T060840
CREATED:20260327T143335Z
LAST-MODIFIED:20260327T143407Z
UID:10022144-1913047200-1913050800@aasynagogue.org
SUMMARY:Evening Minyan 🔀
DESCRIPTION:Join us in Ellman Chapel or via Zoom. \n Join Zoom
URL:https://aasynagogue.org/event/evening-minyan-5-2-3-2-2/2030-08-15/
LOCATION:Ahavath Achim Synagogue—Ellman Chapel\, 600 Peachtree Battle Ave NW\, Atlanta\, GA\, 30327\, United States
CATEGORIES:Prayer
GEO:33.8233671;-84.4089772
X-APPLE-STRUCTURED-LOCATION;VALUE=URI;X-ADDRESS=Ahavath Achim Synagogue—Ellman Chapel 600 Peachtree Battle Ave NW Atlanta GA 30327 United States;X-APPLE-RADIUS=500;X-TITLE=600 Peachtree Battle Ave NW:geo:-84.4089772,33.8233671
END:VEVENT
BEGIN:VEVENT
DTSTART;TZID=America/New_York:20300817T123000
DTEND;TZID=America/New_York:20300817T140000
DTSTAMP:20260423T060840
CREATED:20260416T230615Z
LAST-MODIFIED:20260416T230647Z
UID:10021862-1913200200-1913205600@aasynagogue.org
SUMMARY:Rebbe's Tish ⏺️
DESCRIPTION:Join us during kiddush lunch on Shabbat mornings for Rebbe's Tish where we'll sing\, do a bit of studying and kavanot\, celebrate simchas\, and fulfill the mitzvah of delighting in Shabbat and reciting the blessing after meals! Whether you attended the Shabbat morning service virtually\, in person\, or not at all\, you are welcome to join us—Grab a seat at the square table in the atrium between the Sanctuary and Srochi Auditorium. We'll start around 12:30 p.m. (or ~30 minutes after the service ends) and sing the blessing after meals (Birkat HaMazon) between 1:30 p.m. and 2:00 p.m. \nQuestions? Contact music@aasynagogue.org.
URL:https://aasynagogue.org/event/rebbes-tish-4-4-2/2030-08-17/
LOCATION:Ahavath Achim Synagogue—Srochi Auditorium\, 600 Peachtree Battle Ave. NW\, Atlanta\, GA\, 30327\, United States
CATEGORIES:Learning,Music
GEO:33.8233671;-84.4089772
X-APPLE-STRUCTURED-LOCATION;VALUE=URI;X-ADDRESS=Ahavath Achim Synagogue—Srochi Auditorium 600 Peachtree Battle Ave. NW Atlanta GA 30327 United States;X-APPLE-RADIUS=500;X-TITLE=600 Peachtree Battle Ave. NW:geo:-84.4089772,33.8233671
END:VEVENT
BEGIN:VEVENT
DTSTART;TZID=America/New_York:20300818T180000
DTEND;TZID=America/New_York:20300818T190000
DTSTAMP:20260423T060840
CREATED:20260327T143335Z
LAST-MODIFIED:20260327T143407Z
UID:10022145-1913306400-1913310000@aasynagogue.org
SUMMARY:Evening Minyan 🔀
DESCRIPTION:Join us in Ellman Chapel or via Zoom. \n Join Zoom
URL:https://aasynagogue.org/event/evening-minyan-5-2-3-2-2/2030-08-18/
LOCATION:Ahavath Achim Synagogue—Ellman Chapel\, 600 Peachtree Battle Ave NW\, Atlanta\, GA\, 30327\, United States
CATEGORIES:Prayer
GEO:33.8233671;-84.4089772
X-APPLE-STRUCTURED-LOCATION;VALUE=URI;X-ADDRESS=Ahavath Achim Synagogue—Ellman Chapel 600 Peachtree Battle Ave NW Atlanta GA 30327 United States;X-APPLE-RADIUS=500;X-TITLE=600 Peachtree Battle Ave NW:geo:-84.4089772,33.8233671
END:VEVENT
BEGIN:VEVENT
DTSTART;TZID=America/New_York:20300819T180000
DTEND;TZID=America/New_York:20300819T190000
DTSTAMP:20260423T060840
CREATED:20260327T143335Z
LAST-MODIFIED:20260327T143407Z
UID:10022146-1913392800-1913396400@aasynagogue.org
SUMMARY:Evening Minyan 🔀
DESCRIPTION:Join us in Ellman Chapel or via Zoom. \n Join Zoom
URL:https://aasynagogue.org/event/evening-minyan-5-2-3-2-2/2030-08-19/
LOCATION:Ahavath Achim Synagogue—Ellman Chapel\, 600 Peachtree Battle Ave NW\, Atlanta\, GA\, 30327\, United States
CATEGORIES:Prayer
GEO:33.8233671;-84.4089772
X-APPLE-STRUCTURED-LOCATION;VALUE=URI;X-ADDRESS=Ahavath Achim Synagogue—Ellman Chapel 600 Peachtree Battle Ave NW Atlanta GA 30327 United States;X-APPLE-RADIUS=500;X-TITLE=600 Peachtree Battle Ave NW:geo:-84.4089772,33.8233671
END:VEVENT
BEGIN:VEVENT
DTSTART;TZID=America/New_York:20300820T180000
DTEND;TZID=America/New_York:20300820T190000
DTSTAMP:20260423T060840
CREATED:20260327T143335Z
LAST-MODIFIED:20260327T143407Z
UID:10022147-1913479200-1913482800@aasynagogue.org
SUMMARY:Evening Minyan 🔀
DESCRIPTION:Join us in Ellman Chapel or via Zoom. \n Join Zoom
URL:https://aasynagogue.org/event/evening-minyan-5-2-3-2-2/2030-08-20/
LOCATION:Ahavath Achim Synagogue—Ellman Chapel\, 600 Peachtree Battle Ave NW\, Atlanta\, GA\, 30327\, United States
CATEGORIES:Prayer
GEO:33.8233671;-84.4089772
X-APPLE-STRUCTURED-LOCATION;VALUE=URI;X-ADDRESS=Ahavath Achim Synagogue—Ellman Chapel 600 Peachtree Battle Ave NW Atlanta GA 30327 United States;X-APPLE-RADIUS=500;X-TITLE=600 Peachtree Battle Ave NW:geo:-84.4089772,33.8233671
END:VEVENT
BEGIN:VEVENT
DTSTART;TZID=America/New_York:20300820T193000
DTEND;TZID=America/New_York:20300820T210000
DTSTAMP:20260423T060840
CREATED:20260416T145601Z
LAST-MODIFIED:20260416T214819Z
UID:10026103-1913484600-1913490000@aasynagogue.org
SUMMARY:Biblical Hebrew Class ▶️
DESCRIPTION:Join us every Tuesday for Biblical Hebrew Class\, led by Hebrew instructor Jim Dricker. In this class\, we will cover all aspects of grammar and a well-rounded basic vocabulary. Students set the pace of the program\, and we will proceed as fast or as slow as the majority of the class requests. We might take two years to complete… maybe more… perhaps less! The only prerequisite is the ability to sound out Hebrew words. \n  \n  \n  \n  \n  \nRequired textbook: The First Hebrew Primer: The Adult Beginner's Path to Biblical Hebrew\, Third Edition by Simon\, Resnikoff\, and Motzkin (available on Amazon and other book sellers) \n \n Join Zoom
URL:https://aasynagogue.org/event/biblical-hebrew-class-2-2/2030-08-20/
LOCATION:GA
CATEGORIES:Adult Education,Learning
END:VEVENT
BEGIN:VEVENT
DTSTART;TZID=America/New_York:20300821T180000
DTEND;TZID=America/New_York:20300821T190000
DTSTAMP:20260423T060840
CREATED:20260327T143335Z
LAST-MODIFIED:20260327T143407Z
UID:10022148-1913565600-1913569200@aasynagogue.org
SUMMARY:Evening Minyan 🔀
DESCRIPTION:Join us in Ellman Chapel or via Zoom. \n Join Zoom
URL:https://aasynagogue.org/event/evening-minyan-5-2-3-2-2/2030-08-21/
LOCATION:Ahavath Achim Synagogue—Ellman Chapel\, 600 Peachtree Battle Ave NW\, Atlanta\, GA\, 30327\, United States
CATEGORIES:Prayer
GEO:33.8233671;-84.4089772
X-APPLE-STRUCTURED-LOCATION;VALUE=URI;X-ADDRESS=Ahavath Achim Synagogue—Ellman Chapel 600 Peachtree Battle Ave NW Atlanta GA 30327 United States;X-APPLE-RADIUS=500;X-TITLE=600 Peachtree Battle Ave NW:geo:-84.4089772,33.8233671
END:VEVENT
BEGIN:VEVENT
DTSTART;TZID=America/New_York:20300822T180000
DTEND;TZID=America/New_York:20300822T190000
DTSTAMP:20260423T060840
CREATED:20260327T143335Z
LAST-MODIFIED:20260327T143407Z
UID:10022149-1913652000-1913655600@aasynagogue.org
SUMMARY:Evening Minyan 🔀
DESCRIPTION:Join us in Ellman Chapel or via Zoom. \n Join Zoom
URL:https://aasynagogue.org/event/evening-minyan-5-2-3-2-2/2030-08-22/
LOCATION:Ahavath Achim Synagogue—Ellman Chapel\, 600 Peachtree Battle Ave NW\, Atlanta\, GA\, 30327\, United States
CATEGORIES:Prayer
GEO:33.8233671;-84.4089772
X-APPLE-STRUCTURED-LOCATION;VALUE=URI;X-ADDRESS=Ahavath Achim Synagogue—Ellman Chapel 600 Peachtree Battle Ave NW Atlanta GA 30327 United States;X-APPLE-RADIUS=500;X-TITLE=600 Peachtree Battle Ave NW:geo:-84.4089772,33.8233671
END:VEVENT
BEGIN:VEVENT
DTSTART;TZID=America/New_York:20300824T123000
DTEND;TZID=America/New_York:20300824T140000
DTSTAMP:20260423T060840
CREATED:20260416T230615Z
LAST-MODIFIED:20260416T230647Z
UID:10021863-1913805000-1913810400@aasynagogue.org
SUMMARY:Rebbe's Tish ⏺️
DESCRIPTION:Join us during kiddush lunch on Shabbat mornings for Rebbe's Tish where we'll sing\, do a bit of studying and kavanot\, celebrate simchas\, and fulfill the mitzvah of delighting in Shabbat and reciting the blessing after meals! Whether you attended the Shabbat morning service virtually\, in person\, or not at all\, you are welcome to join us—Grab a seat at the square table in the atrium between the Sanctuary and Srochi Auditorium. We'll start around 12:30 p.m. (or ~30 minutes after the service ends) and sing the blessing after meals (Birkat HaMazon) between 1:30 p.m. and 2:00 p.m. \nQuestions? Contact music@aasynagogue.org.
URL:https://aasynagogue.org/event/rebbes-tish-4-4-2/2030-08-24/
LOCATION:Ahavath Achim Synagogue—Srochi Auditorium\, 600 Peachtree Battle Ave. NW\, Atlanta\, GA\, 30327\, United States
CATEGORIES:Learning,Music
GEO:33.8233671;-84.4089772
X-APPLE-STRUCTURED-LOCATION;VALUE=URI;X-ADDRESS=Ahavath Achim Synagogue—Srochi Auditorium 600 Peachtree Battle Ave. NW Atlanta GA 30327 United States;X-APPLE-RADIUS=500;X-TITLE=600 Peachtree Battle Ave. NW:geo:-84.4089772,33.8233671
END:VEVENT
BEGIN:VEVENT
DTSTART;TZID=America/New_York:20300825T180000
DTEND;TZID=America/New_York:20300825T190000
DTSTAMP:20260423T060840
CREATED:20260327T143335Z
LAST-MODIFIED:20260327T143407Z
UID:10022150-1913911200-1913914800@aasynagogue.org
SUMMARY:Evening Minyan 🔀
DESCRIPTION:Join us in Ellman Chapel or via Zoom. \n Join Zoom
URL:https://aasynagogue.org/event/evening-minyan-5-2-3-2-2/2030-08-25/
LOCATION:Ahavath Achim Synagogue—Ellman Chapel\, 600 Peachtree Battle Ave NW\, Atlanta\, GA\, 30327\, United States
CATEGORIES:Prayer
GEO:33.8233671;-84.4089772
X-APPLE-STRUCTURED-LOCATION;VALUE=URI;X-ADDRESS=Ahavath Achim Synagogue—Ellman Chapel 600 Peachtree Battle Ave NW Atlanta GA 30327 United States;X-APPLE-RADIUS=500;X-TITLE=600 Peachtree Battle Ave NW:geo:-84.4089772,33.8233671
END:VEVENT
BEGIN:VEVENT
DTSTART;TZID=America/New_York:20300826T180000
DTEND;TZID=America/New_York:20300826T190000
DTSTAMP:20260423T060840
CREATED:20260327T143335Z
LAST-MODIFIED:20260327T143407Z
UID:10022151-1913997600-1914001200@aasynagogue.org
SUMMARY:Evening Minyan 🔀
DESCRIPTION:Join us in Ellman Chapel or via Zoom. \n Join Zoom
URL:https://aasynagogue.org/event/evening-minyan-5-2-3-2-2/2030-08-26/
LOCATION:Ahavath Achim Synagogue—Ellman Chapel\, 600 Peachtree Battle Ave NW\, Atlanta\, GA\, 30327\, United States
CATEGORIES:Prayer
GEO:33.8233671;-84.4089772
X-APPLE-STRUCTURED-LOCATION;VALUE=URI;X-ADDRESS=Ahavath Achim Synagogue—Ellman Chapel 600 Peachtree Battle Ave NW Atlanta GA 30327 United States;X-APPLE-RADIUS=500;X-TITLE=600 Peachtree Battle Ave NW:geo:-84.4089772,33.8233671
END:VEVENT
BEGIN:VEVENT
DTSTART;TZID=America/New_York:20300827T180000
DTEND;TZID=America/New_York:20300827T190000
DTSTAMP:20260423T060840
CREATED:20260327T143335Z
LAST-MODIFIED:20260327T143407Z
UID:10022152-1914084000-1914087600@aasynagogue.org
SUMMARY:Evening Minyan 🔀
DESCRIPTION:Join us in Ellman Chapel or via Zoom. \n Join Zoom
URL:https://aasynagogue.org/event/evening-minyan-5-2-3-2-2/2030-08-27/
LOCATION:Ahavath Achim Synagogue—Ellman Chapel\, 600 Peachtree Battle Ave NW\, Atlanta\, GA\, 30327\, United States
CATEGORIES:Prayer
GEO:33.8233671;-84.4089772
X-APPLE-STRUCTURED-LOCATION;VALUE=URI;X-ADDRESS=Ahavath Achim Synagogue—Ellman Chapel 600 Peachtree Battle Ave NW Atlanta GA 30327 United States;X-APPLE-RADIUS=500;X-TITLE=600 Peachtree Battle Ave NW:geo:-84.4089772,33.8233671
END:VEVENT
BEGIN:VEVENT
DTSTART;TZID=America/New_York:20300827T193000
DTEND;TZID=America/New_York:20300827T210000
DTSTAMP:20260423T060840
CREATED:20260416T145601Z
LAST-MODIFIED:20260416T214819Z
UID:10026104-1914089400-1914094800@aasynagogue.org
SUMMARY:Biblical Hebrew Class ▶️
DESCRIPTION:Join us every Tuesday for Biblical Hebrew Class\, led by Hebrew instructor Jim Dricker. In this class\, we will cover all aspects of grammar and a well-rounded basic vocabulary. Students set the pace of the program\, and we will proceed as fast or as slow as the majority of the class requests. We might take two years to complete… maybe more… perhaps less! The only prerequisite is the ability to sound out Hebrew words. \n  \n  \n  \n  \n  \nRequired textbook: The First Hebrew Primer: The Adult Beginner's Path to Biblical Hebrew\, Third Edition by Simon\, Resnikoff\, and Motzkin (available on Amazon and other book sellers) \n \n Join Zoom
URL:https://aasynagogue.org/event/biblical-hebrew-class-2-2/2030-08-27/
LOCATION:GA
CATEGORIES:Adult Education,Learning
END:VEVENT
BEGIN:VEVENT
DTSTART;TZID=America/New_York:20300828T180000
DTEND;TZID=America/New_York:20300828T190000
DTSTAMP:20260423T060840
CREATED:20260327T143335Z
LAST-MODIFIED:20260327T143407Z
UID:10022153-1914170400-1914174000@aasynagogue.org
SUMMARY:Evening Minyan 🔀
DESCRIPTION:Join us in Ellman Chapel or via Zoom. \n Join Zoom
URL:https://aasynagogue.org/event/evening-minyan-5-2-3-2-2/2030-08-28/
LOCATION:Ahavath Achim Synagogue—Ellman Chapel\, 600 Peachtree Battle Ave NW\, Atlanta\, GA\, 30327\, United States
CATEGORIES:Prayer
GEO:33.8233671;-84.4089772
X-APPLE-STRUCTURED-LOCATION;VALUE=URI;X-ADDRESS=Ahavath Achim Synagogue—Ellman Chapel 600 Peachtree Battle Ave NW Atlanta GA 30327 United States;X-APPLE-RADIUS=500;X-TITLE=600 Peachtree Battle Ave NW:geo:-84.4089772,33.8233671
END:VEVENT
BEGIN:VEVENT
DTSTART;TZID=America/New_York:20300829T180000
DTEND;TZID=America/New_York:20300829T190000
DTSTAMP:20260423T060840
CREATED:20260327T143335Z
LAST-MODIFIED:20260327T143407Z
UID:10022154-1914256800-1914260400@aasynagogue.org
SUMMARY:Evening Minyan 🔀
DESCRIPTION:Join us in Ellman Chapel or via Zoom. \n Join Zoom
URL:https://aasynagogue.org/event/evening-minyan-5-2-3-2-2/2030-08-29/
LOCATION:Ahavath Achim Synagogue—Ellman Chapel\, 600 Peachtree Battle Ave NW\, Atlanta\, GA\, 30327\, United States
CATEGORIES:Prayer
GEO:33.8233671;-84.4089772
X-APPLE-STRUCTURED-LOCATION;VALUE=URI;X-ADDRESS=Ahavath Achim Synagogue—Ellman Chapel 600 Peachtree Battle Ave NW Atlanta GA 30327 United States;X-APPLE-RADIUS=500;X-TITLE=600 Peachtree Battle Ave NW:geo:-84.4089772,33.8233671
END:VEVENT
BEGIN:VEVENT
DTSTART;TZID=America/New_York:20300831T123000
DTEND;TZID=America/New_York:20300831T140000
DTSTAMP:20260423T060840
CREATED:20260416T230615Z
LAST-MODIFIED:20260416T230647Z
UID:10021864-1914409800-1914415200@aasynagogue.org
SUMMARY:Rebbe's Tish ⏺️
DESCRIPTION:Join us during kiddush lunch on Shabbat mornings for Rebbe's Tish where we'll sing\, do a bit of studying and kavanot\, celebrate simchas\, and fulfill the mitzvah of delighting in Shabbat and reciting the blessing after meals! Whether you attended the Shabbat morning service virtually\, in person\, or not at all\, you are welcome to join us—Grab a seat at the square table in the atrium between the Sanctuary and Srochi Auditorium. We'll start around 12:30 p.m. (or ~30 minutes after the service ends) and sing the blessing after meals (Birkat HaMazon) between 1:30 p.m. and 2:00 p.m. \nQuestions? Contact music@aasynagogue.org.
URL:https://aasynagogue.org/event/rebbes-tish-4-4-2/2030-08-31/
LOCATION:Ahavath Achim Synagogue—Srochi Auditorium\, 600 Peachtree Battle Ave. NW\, Atlanta\, GA\, 30327\, United States
CATEGORIES:Learning,Music
GEO:33.8233671;-84.4089772
X-APPLE-STRUCTURED-LOCATION;VALUE=URI;X-ADDRESS=Ahavath Achim Synagogue—Srochi Auditorium 600 Peachtree Battle Ave. NW Atlanta GA 30327 United States;X-APPLE-RADIUS=500;X-TITLE=600 Peachtree Battle Ave. NW:geo:-84.4089772,33.8233671
END:VEVENT
END:VCALENDAR