BEGIN:VCALENDAR
VERSION:2.0
PRODID:-//Ahavath Achim Synagogue - ECPv6.15.20//NONSGML v1.0//EN
CALSCALE:GREGORIAN
METHOD:PUBLISH
X-ORIGINAL-URL:https://aasynagogue.org
X-WR-CALDESC:Events for Ahavath Achim Synagogue
REFRESH-INTERVAL;VALUE=DURATION:PT1H
X-Robots-Tag:noindex
X-PUBLISHED-TTL:PT1H
BEGIN:VTIMEZONE
TZID:America/New_York
BEGIN:DAYLIGHT
TZOFFSETFROM:-0500
TZOFFSETTO:-0400
TZNAME:EDT
DTSTART:20230312T070000
END:DAYLIGHT
BEGIN:STANDARD
TZOFFSETFROM:-0400
TZOFFSETTO:-0500
TZNAME:EST
DTSTART:20231105T060000
END:STANDARD
BEGIN:DAYLIGHT
TZOFFSETFROM:-0500
TZOFFSETTO:-0400
TZNAME:EDT
DTSTART:20240310T070000
END:DAYLIGHT
BEGIN:STANDARD
TZOFFSETFROM:-0400
TZOFFSETTO:-0500
TZNAME:EST
DTSTART:20241103T060000
END:STANDARD
BEGIN:DAYLIGHT
TZOFFSETFROM:-0500
TZOFFSETTO:-0400
TZNAME:EDT
DTSTART:20250309T070000
END:DAYLIGHT
BEGIN:STANDARD
TZOFFSETFROM:-0400
TZOFFSETTO:-0500
TZNAME:EST
DTSTART:20251102T060000
END:STANDARD
END:VTIMEZONE
BEGIN:VEVENT
DTSTART;TZID=America/New_York:20240801T110000
DTEND;TZID=America/New_York:20240801T123000
DTSTAMP:20260424T205919
CREATED:20240606T202100Z
LAST-MODIFIED:20240814T171530Z
UID:10013426-1722510000-1722515400@aasynagogue.org
SUMMARY:Grief Counseling Support Group ⏺️
DESCRIPTION:*All slots have been filled for this workshop. If you wish to be placed on the waiting list\, please contact Jill Rosner (contact info below). \nJoin Moniqueka Rucker\, founder of Faith\, Hope\, Love\, Restoration\, and Wellness\, Inc.\, and Rabbi Rosenthal for a six-session experience working through grief\, loss\, and pain as we seek comfort\, strength\, and wholeness. These workshops will bring Jewish spirituality and healing together. Thank you to AA's Chesed Initiative for allowing us to bring this workshop to our community. \nAlthough all sessions are free\, a commitment to attend all six sessions and be an active participant is necessary to ensure group cohesion and bonding\, both important for the healing process to begin. \nSchedule: \n\nThursday\, July 18\, 11:00 a.m.–12:30 p.m.\nThursday\, July 25\, 11:00 a.m.–12:30 p.m.\nThursday\, Aug 1\, 11:00 a.m.–12:30 p.m.\nThursday\, Aug 8\, 11:00 a.m.–12:30 p.m.\nThursday\, Aug 15\, 11:00 a.m.–12:30 p.m.\nThursday\, Aug 22\, 11:00 a.m.–12:30 p.m.\n\nTo register\, please contact Jill Rosner (jrosner@aasynagogue.org; 404.603.5741) by Thursday\, July 18. \nQuestions? Contact Rabbi Laurence Rosenthal (lrosenthal@aasynagogue.org; 404.603.5744) or Moniqueka Rucker (info@fhlwellness.com; 470.984.6064).
URL:https://aasynagogue.org/event/grief-counseling-support-group/2024-08-01/
LOCATION:Ahavath Achim Synagogue—Koplin Borochoff Library\, 600 Peachtree Battle Ave NW\, Atlanta\, GA\, 30327\, United States
CATEGORIES:Learning
ATTACH;FMTTYPE=image/png:https://aasynagogue.org/wp-content/uploads/2024/06/Faith-Hope-Love-Restoration-and-Wellness.png
GEO:33.8233671;-84.4089772
X-APPLE-STRUCTURED-LOCATION;VALUE=URI;X-ADDRESS=Ahavath Achim Synagogue—Koplin Borochoff Library 600 Peachtree Battle Ave NW Atlanta GA 30327 United States;X-APPLE-RADIUS=500;X-TITLE=600 Peachtree Battle Ave NW:geo:-84.4089772,33.8233671
END:VEVENT
BEGIN:VEVENT
DTSTART;TZID=America/New_York:20240802T180000
DTEND;TZID=America/New_York:20240802T190000
DTSTAMP:20260424T205919
CREATED:20240620T211520Z
LAST-MODIFIED:20241011T152149Z
UID:10005967-1722621600-1722625200@aasynagogue.org
SUMMARY:Shabbat Evening Service 🔀
DESCRIPTION:Join us in Ellman Chapel or via Zoom. \n Join Zoom
URL:https://aasynagogue.org/event/shabbat-evening-service/2024-08-02/
LOCATION:Ahavath Achim Synagogue—Ellman Chapel\, 600 Peachtree Battle Ave NW\, Atlanta\, GA\, 30327\, United States
CATEGORIES:Prayer
GEO:33.8233671;-84.4089772
X-APPLE-STRUCTURED-LOCATION;VALUE=URI;X-ADDRESS=Ahavath Achim Synagogue—Ellman Chapel 600 Peachtree Battle Ave NW Atlanta GA 30327 United States;X-APPLE-RADIUS=500;X-TITLE=600 Peachtree Battle Ave NW:geo:-84.4089772,33.8233671
END:VEVENT
BEGIN:VEVENT
DTSTART;TZID=America/New_York:20240802T201800
DTEND;TZID=America/New_York:20240802T201800
DTSTAMP:20260424T205919
CREATED:20231220T195035Z
LAST-MODIFIED:20231220T195035Z
UID:10012363-1722629880-1722629880@aasynagogue.org
SUMMARY:Candle Lighting
DESCRIPTION:
URL:https://aasynagogue.org/event/candle-lighting-158/
LOCATION:GA
END:VEVENT
BEGIN:VEVENT
DTSTART;TZID=America/New_York:20240803T093000
DTEND;TZID=America/New_York:20240803T120000
DTSTAMP:20260424T205919
CREATED:20221020T223252Z
LAST-MODIFIED:20241016T162544Z
UID:10005813-1722677400-1722686400@aasynagogue.org
SUMMARY:Shabbat Morning Service 🔀
DESCRIPTION:Join us in Ellman Chapel or via Zoom. \n Join Zoom
URL:https://aasynagogue.org/event/shabbat-morning-service/2024-08-03/
LOCATION:Ahavath Achim Synagogue—Ellman Chapel\, 600 Peachtree Battle Ave NW\, Atlanta\, GA\, 30327\, United States
CATEGORIES:Prayer
GEO:33.8233671;-84.4089772
X-APPLE-STRUCTURED-LOCATION;VALUE=URI;X-ADDRESS=Ahavath Achim Synagogue—Ellman Chapel 600 Peachtree Battle Ave NW Atlanta GA 30327 United States;X-APPLE-RADIUS=500;X-TITLE=600 Peachtree Battle Ave NW:geo:-84.4089772,33.8233671
END:VEVENT
BEGIN:VEVENT
DTSTART;TZID=America/New_York:20240803T123000
DTEND;TZID=America/New_York:20240803T140000
DTSTAMP:20260424T205919
CREATED:20240506T193850Z
LAST-MODIFIED:20251003T233416Z
UID:10011865-1722688200-1722693600@aasynagogue.org
SUMMARY:Rebbe's Tish ⏺️
DESCRIPTION:Join us during kiddush lunch on Shabbat mornings for Rebbe's Tish where we'll sing\, do a bit of studying and kavanot\, celebrate simchas\, and fulfill the mitzvah of delighting in Shabbat and reciting the blessing after meals! Whether you attended the Shabbat morning service virtually\, in person\, or not at all\, you are welcome to join us—Grab a seat at the square table in the atrium between the Sanctuary and Srochi Auditorium. We'll start around 12:30 p.m. (or ~30 minutes after the service ends) and sing the blessing after meals (Birkat HaMazon) between 1:30 p.m. and 2:00 p.m. \nQuestions? Contact music@aasynagogue.org.
URL:https://aasynagogue.org/event/rebbes-tish-4/2024-08-03/
LOCATION:Ahavath Achim Synagogue—Srochi Auditorium\, 600 Peachtree Battle Ave. NW\, Atlanta\, GA\, 30327\, United States
CATEGORIES:Learning,Music
ATTACH;FMTTYPE=image/jpeg:https://aasynagogue.org/wp-content/uploads/2017/10/People-Singing-e1598502653135.jpg
GEO:33.8233671;-84.4089772
X-APPLE-STRUCTURED-LOCATION;VALUE=URI;X-ADDRESS=Ahavath Achim Synagogue—Srochi Auditorium 600 Peachtree Battle Ave. NW Atlanta GA 30327 United States;X-APPLE-RADIUS=500;X-TITLE=600 Peachtree Battle Ave. NW:geo:-84.4089772,33.8233671
END:VEVENT
BEGIN:VEVENT
DTSTART;TZID=America/New_York:20240803T193000
DTEND;TZID=America/New_York:20240803T210000
DTSTAMP:20260424T205919
CREATED:20240726T163957Z
LAST-MODIFIED:20241108T172145Z
UID:10014758-1722713400-1722718800@aasynagogue.org
SUMMARY:Mincha\, Seudah Sheleshet\, Ma'ariv\, Havdallah 🔀
DESCRIPTION:Join us each week as we say goodbye to Shabbat and start the following week anew. Prayer\, Torah reading\, a short study with the rabbi\, a light seudah sheleshet (third meal)\, and a musical havdallah will be part of this experience! \nJoin us in Ellman Chapel or via Zoom. \n Join Via Zoom
URL:https://aasynagogue.org/event/mincha-seudah-sheleshet-maariv-havdallah-7/2024-08-03/
LOCATION:Ahavath Achim Synagogue—Ellman Chapel\, 600 Peachtree Battle Ave NW\, Atlanta\, GA\, 30327\, United States
CATEGORIES:Prayer
GEO:33.8233671;-84.4089772
X-APPLE-STRUCTURED-LOCATION;VALUE=URI;X-ADDRESS=Ahavath Achim Synagogue—Ellman Chapel 600 Peachtree Battle Ave NW Atlanta GA 30327 United States;X-APPLE-RADIUS=500;X-TITLE=600 Peachtree Battle Ave NW:geo:-84.4089772,33.8233671
END:VEVENT
BEGIN:VEVENT
DTSTART;TZID=America/New_York:20240803T210100
DTEND;TZID=America/New_York:20240803T210100
DTSTAMP:20260424T205919
CREATED:20231220T195301Z
LAST-MODIFIED:20231220T195301Z
UID:10012438-1722718860-1722718860@aasynagogue.org
SUMMARY:Conclusion of Shabbat
DESCRIPTION:
URL:https://aasynagogue.org/event/conclusion-of-shabbat-137/
LOCATION:GA
END:VEVENT
BEGIN:VEVENT
DTSTART;TZID=America/New_York:20240804T090000
DTEND;TZID=America/New_York:20240804T140000
DTSTAMP:20260424T205919
CREATED:20240708T232744Z
LAST-MODIFIED:20240708T233232Z
UID:10014646-1722762000-1722780000@aasynagogue.org
SUMMARY:Blood Drive ⏺️
DESCRIPTION:Do the mitzvah of donating blood at Ahavath Achim Synagogue's quarterly Blood Drive. Every day\, blood donors help patients of all ages: accident and burn victims\, heart surgery and organ transplant patients\, and those battling cancer. The need for blood is constant! \nThe quarterly Blood Drive is sponsored by Ahavath Achim Synagogue\, Congregation Shearith Israel\, Congregation Or VeShalom\, Atlanta Jewish War Veterans Post 112\, and Fulton Masonic Lodge No. 216. \n Schedule Appointment
URL:https://aasynagogue.org/event/blood-drive-12/
LOCATION:Ahavath Achim Synagogue—Srochi Auditorium\, 600 Peachtree Battle Ave. NW\, Atlanta\, GA\, 30327\, United States
CATEGORIES:Social Action
ATTACH;FMTTYPE=image/jpeg:https://aasynagogue.org/wp-content/uploads/2020/10/american_red_cross_logo-scaled.jpg
GEO:33.8233671;-84.4089772
X-APPLE-STRUCTURED-LOCATION;VALUE=URI;X-ADDRESS=Ahavath Achim Synagogue—Srochi Auditorium 600 Peachtree Battle Ave. NW Atlanta GA 30327 United States;X-APPLE-RADIUS=500;X-TITLE=600 Peachtree Battle Ave. NW:geo:-84.4089772,33.8233671
END:VEVENT
BEGIN:VEVENT
DTSTART;TZID=America/New_York:20240804T103000
DTEND;TZID=America/New_York:20240804T120000
DTSTAMP:20260424T205919
CREATED:20240801T194307Z
LAST-MODIFIED:20240903T202957Z
UID:10014638-1722767400-1722772800@aasynagogue.org
SUMMARY:High Holiday Melodies with the Meshorerim ⏺️
DESCRIPTION:*Come give blood at the Blood Drive\, then drop in to listen and sing along with our Hazzan (Helene Kates) and meshorerim as they sing High Holiday melodies from the Machzor to prepare spiritually and melodically for the season! \nCome listen in or sing along with our High Holiday Meshorerim! Our Sunday morning singing sessions are open to all\, and no musical training or Hebrew ability is required. Familiarize yourself with the High Holidays melodies to elevate your holiday experience. Stay tuned and check out the music page (coming soon) for more details! \nQuestions? Please contact the Interim Director of Music and Tefillah: Bonnie Levine (music@aasynagogue.org). \nSign up for text alerts: remind.com/join/aasing
URL:https://aasynagogue.org/event/high-holiday-melodies-with-the-meshorerim-2/
LOCATION:Ahavath Achim Synagogue — Epstein Sanctuary\, 600 Peachtree Battle Ave NW\, Atlanta\, GA\, 30327
CATEGORIES:Music
ATTACH;FMTTYPE=image/jpeg:https://aasynagogue.org/wp-content/uploads/2024/06/Singing-Songs-Voice-Choir-Melody-1.jpg
END:VEVENT
BEGIN:VEVENT
DTSTART;VALUE=DATE:20240805
DTEND;VALUE=DATE:20240806
DTSTAMP:20260424T205919
CREATED:20240620T215247Z
LAST-MODIFIED:20240621T013919Z
UID:10013638-1722816000-1722902399@aasynagogue.org
SUMMARY:Rosh Chodesh Av
DESCRIPTION:Start of month of Av on the Hebrew calendar
URL:https://aasynagogue.org/event/rosh-chodesh-av/
LOCATION:GA
END:VEVENT
BEGIN:VEVENT
DTSTART;TZID=America/New_York:20240805T101500
DTEND;TZID=America/New_York:20240805T113000
DTSTAMP:20260424T205919
CREATED:20231206T044204Z
LAST-MODIFIED:20240703T173212Z
UID:10012263-1722852900-1722857400@aasynagogue.org
SUMMARY:Naomi's Book Club 🔀
DESCRIPTION:Join Sisterhood on the first Monday of the month for a lively book discussion. August's book is The Dressmakers of Prospect Heights by Kitty Zeldis\, and the discussion will be led by Jennie Moret. \nQuestions? Contact Madeleine Gimbel (maddy_gimbel@yahoo.com; 404.355.7711). \n Join Via Zoom
URL:https://aasynagogue.org/event/naomis-book-club-26/
LOCATION:GA
CATEGORIES:Sisterhood
ATTACH;FMTTYPE=image/jpeg:https://aasynagogue.org/wp-content/uploads/2023/12/The-Dressmakers-of-Prospect-Heights.jpg
END:VEVENT
BEGIN:VEVENT
DTSTART;TZID=America/New_York:20240806T193000
DTEND;TZID=America/New_York:20240806T210000
DTSTAMP:20260424T205919
CREATED:20240522T181907Z
LAST-MODIFIED:20260323T211215Z
UID:10013061-1722972600-1722978000@aasynagogue.org
SUMMARY:Biblical Hebrew Class ▶️
DESCRIPTION:Join us every Tuesday for Biblical Hebrew Class\, led by Hebrew instructor\, Jim Dricker. In this class\, we will cover all aspects of grammar and a well-rounded basic vocabulary. Students set the pace of the program\, and we will proceed as fast or as slow as the majority of the class requests. We might take two years to complete… maybe more… perhaps less! The only prerequisite is the ability to sound out Hebrew words. \nRequired textbook: The First Hebrew Primer: The Adult Beginner's Path to Biblical Hebrew\, Third Edition by Simon\, Resnikoff\, and Motzkin (available on Amazon and other book sellers) \n \n Join Zoom
URL:https://aasynagogue.org/event/biblical-hebrew-class-2/2024-08-06/
LOCATION:GA
CATEGORIES:Adult Education,Learning
ATTACH;FMTTYPE=image/jpeg:https://aasynagogue.org/wp-content/uploads/2020/08/AdobeStock_217894338-scaled-e1596639380820.jpeg
END:VEVENT
BEGIN:VEVENT
DTSTART;TZID=America/New_York:20240807T190000
DTEND;TZID=America/New_York:20240807T203000
DTSTAMP:20260424T205919
CREATED:20240516T175928Z
LAST-MODIFIED:20240723T153705Z
UID:10013015-1723057200-1723062600@aasynagogue.org
SUMMARY:Meshorerim Ensemble Rehearsal ⏺️
DESCRIPTION:On most Wednesday evenings\, musical ensembles will rehearse performance pieces for the High Holidays. No musical training or Hebrew ability is required. \nIf you are interested in joining our High Holiday meshorerim or performance ensemble\, please contact the Interim Director of Music and Tefillah: Bonnie Levine (music@aasynagogue.org). \nSign up for text alerts: remind.com/join/aasing
URL:https://aasynagogue.org/event/meshorerim-ensemble-rehearsal/2024-08-07/
LOCATION:Ahavath Achim Synagogue—Ellman Chapel\, 600 Peachtree Battle Ave NW\, Atlanta\, GA\, 30327\, United States
CATEGORIES:Music,Prayer
ATTACH;FMTTYPE=image/jpeg:https://aasynagogue.org/wp-content/uploads/2023/01/Singing-Songs-Voice-Choir-Melody-2.jpg
GEO:33.8233671;-84.4089772
X-APPLE-STRUCTURED-LOCATION;VALUE=URI;X-ADDRESS=Ahavath Achim Synagogue—Ellman Chapel 600 Peachtree Battle Ave NW Atlanta GA 30327 United States;X-APPLE-RADIUS=500;X-TITLE=600 Peachtree Battle Ave NW:geo:-84.4089772,33.8233671
END:VEVENT
BEGIN:VEVENT
DTSTART;TZID=America/New_York:20240808T110000
DTEND;TZID=America/New_York:20240808T123000
DTSTAMP:20260424T205919
CREATED:20240606T202100Z
LAST-MODIFIED:20240814T171530Z
UID:10013427-1723114800-1723120200@aasynagogue.org
SUMMARY:Grief Counseling Support Group ⏺️
DESCRIPTION:*All slots have been filled for this workshop. If you wish to be placed on the waiting list\, please contact Jill Rosner (contact info below). \nJoin Moniqueka Rucker\, founder of Faith\, Hope\, Love\, Restoration\, and Wellness\, Inc.\, and Rabbi Rosenthal for a six-session experience working through grief\, loss\, and pain as we seek comfort\, strength\, and wholeness. These workshops will bring Jewish spirituality and healing together. Thank you to AA's Chesed Initiative for allowing us to bring this workshop to our community. \nAlthough all sessions are free\, a commitment to attend all six sessions and be an active participant is necessary to ensure group cohesion and bonding\, both important for the healing process to begin. \nSchedule: \n\nThursday\, July 18\, 11:00 a.m.–12:30 p.m.\nThursday\, July 25\, 11:00 a.m.–12:30 p.m.\nThursday\, Aug 1\, 11:00 a.m.–12:30 p.m.\nThursday\, Aug 8\, 11:00 a.m.–12:30 p.m.\nThursday\, Aug 15\, 11:00 a.m.–12:30 p.m.\nThursday\, Aug 22\, 11:00 a.m.–12:30 p.m.\n\nTo register\, please contact Jill Rosner (jrosner@aasynagogue.org; 404.603.5741) by Thursday\, July 18. \nQuestions? Contact Rabbi Laurence Rosenthal (lrosenthal@aasynagogue.org; 404.603.5744) or Moniqueka Rucker (info@fhlwellness.com; 470.984.6064).
URL:https://aasynagogue.org/event/grief-counseling-support-group/2024-08-08/
LOCATION:Ahavath Achim Synagogue—Koplin Borochoff Library\, 600 Peachtree Battle Ave NW\, Atlanta\, GA\, 30327\, United States
CATEGORIES:Learning
ATTACH;FMTTYPE=image/png:https://aasynagogue.org/wp-content/uploads/2024/06/Faith-Hope-Love-Restoration-and-Wellness.png
GEO:33.8233671;-84.4089772
X-APPLE-STRUCTURED-LOCATION;VALUE=URI;X-ADDRESS=Ahavath Achim Synagogue—Koplin Borochoff Library 600 Peachtree Battle Ave NW Atlanta GA 30327 United States;X-APPLE-RADIUS=500;X-TITLE=600 Peachtree Battle Ave NW:geo:-84.4089772,33.8233671
END:VEVENT
BEGIN:VEVENT
DTSTART;TZID=America/New_York:20240809T180000
DTEND;TZID=America/New_York:20240809T190000
DTSTAMP:20260424T205919
CREATED:20240620T211520Z
LAST-MODIFIED:20241011T152149Z
UID:10005968-1723226400-1723230000@aasynagogue.org
SUMMARY:Shabbat Evening Service 🔀
DESCRIPTION:Join us in Ellman Chapel or via Zoom. \n Join Zoom
URL:https://aasynagogue.org/event/shabbat-evening-service/2024-08-09/
LOCATION:Ahavath Achim Synagogue—Ellman Chapel\, 600 Peachtree Battle Ave NW\, Atlanta\, GA\, 30327\, United States
CATEGORIES:Prayer
GEO:33.8233671;-84.4089772
X-APPLE-STRUCTURED-LOCATION;VALUE=URI;X-ADDRESS=Ahavath Achim Synagogue—Ellman Chapel 600 Peachtree Battle Ave NW Atlanta GA 30327 United States;X-APPLE-RADIUS=500;X-TITLE=600 Peachtree Battle Ave NW:geo:-84.4089772,33.8233671
END:VEVENT
BEGIN:VEVENT
DTSTART;TZID=America/New_York:20240809T201200
DTEND;TZID=America/New_York:20240809T201200
DTSTAMP:20260424T205919
CREATED:20231220T195035Z
LAST-MODIFIED:20231220T195035Z
UID:10012364-1723234320-1723234320@aasynagogue.org
SUMMARY:Candle Lighting
DESCRIPTION:
URL:https://aasynagogue.org/event/candle-lighting-159/
LOCATION:GA
END:VEVENT
BEGIN:VEVENT
DTSTART;TZID=America/New_York:20240810T093000
DTEND;TZID=America/New_York:20240810T120000
DTSTAMP:20260424T205919
CREATED:20221020T223252Z
LAST-MODIFIED:20241016T162544Z
UID:10005814-1723282200-1723291200@aasynagogue.org
SUMMARY:Shabbat Morning Service 🔀
DESCRIPTION:Join us in Ellman Chapel or via Zoom. \n Join Zoom
URL:https://aasynagogue.org/event/shabbat-morning-service/2024-08-10/
LOCATION:Ahavath Achim Synagogue—Ellman Chapel\, 600 Peachtree Battle Ave NW\, Atlanta\, GA\, 30327\, United States
CATEGORIES:Prayer
GEO:33.8233671;-84.4089772
X-APPLE-STRUCTURED-LOCATION;VALUE=URI;X-ADDRESS=Ahavath Achim Synagogue—Ellman Chapel 600 Peachtree Battle Ave NW Atlanta GA 30327 United States;X-APPLE-RADIUS=500;X-TITLE=600 Peachtree Battle Ave NW:geo:-84.4089772,33.8233671
END:VEVENT
BEGIN:VEVENT
DTSTART;TZID=America/New_York:20240810T123000
DTEND;TZID=America/New_York:20240810T140000
DTSTAMP:20260424T205919
CREATED:20240506T193850Z
LAST-MODIFIED:20251003T233416Z
UID:10011866-1723293000-1723298400@aasynagogue.org
SUMMARY:Rebbe's Tish ⏺️
DESCRIPTION:Join us during kiddush lunch on Shabbat mornings for Rebbe's Tish where we'll sing\, do a bit of studying and kavanot\, celebrate simchas\, and fulfill the mitzvah of delighting in Shabbat and reciting the blessing after meals! Whether you attended the Shabbat morning service virtually\, in person\, or not at all\, you are welcome to join us—Grab a seat at the square table in the atrium between the Sanctuary and Srochi Auditorium. We'll start around 12:30 p.m. (or ~30 minutes after the service ends) and sing the blessing after meals (Birkat HaMazon) between 1:30 p.m. and 2:00 p.m. \nQuestions? Contact music@aasynagogue.org.
URL:https://aasynagogue.org/event/rebbes-tish-4/2024-08-10/
LOCATION:Ahavath Achim Synagogue—Srochi Auditorium\, 600 Peachtree Battle Ave. NW\, Atlanta\, GA\, 30327\, United States
CATEGORIES:Learning,Music
ATTACH;FMTTYPE=image/jpeg:https://aasynagogue.org/wp-content/uploads/2017/10/People-Singing-e1598502653135.jpg
GEO:33.8233671;-84.4089772
X-APPLE-STRUCTURED-LOCATION;VALUE=URI;X-ADDRESS=Ahavath Achim Synagogue—Srochi Auditorium 600 Peachtree Battle Ave. NW Atlanta GA 30327 United States;X-APPLE-RADIUS=500;X-TITLE=600 Peachtree Battle Ave. NW:geo:-84.4089772,33.8233671
END:VEVENT
BEGIN:VEVENT
DTSTART;TZID=America/New_York:20240810T193000
DTEND;TZID=America/New_York:20240810T210000
DTSTAMP:20260424T205919
CREATED:20240726T163957Z
LAST-MODIFIED:20241108T172145Z
UID:10014759-1723318200-1723323600@aasynagogue.org
SUMMARY:Mincha\, Seudah Sheleshet\, Ma'ariv\, Havdallah 🔀
DESCRIPTION:Join us each week as we say goodbye to Shabbat and start the following week anew. Prayer\, Torah reading\, a short study with the rabbi\, a light seudah sheleshet (third meal)\, and a musical havdallah will be part of this experience! \nJoin us in Ellman Chapel or via Zoom. \n Join Via Zoom
URL:https://aasynagogue.org/event/mincha-seudah-sheleshet-maariv-havdallah-7/2024-08-10/
LOCATION:Ahavath Achim Synagogue—Ellman Chapel\, 600 Peachtree Battle Ave NW\, Atlanta\, GA\, 30327\, United States
CATEGORIES:Prayer
GEO:33.8233671;-84.4089772
X-APPLE-STRUCTURED-LOCATION;VALUE=URI;X-ADDRESS=Ahavath Achim Synagogue—Ellman Chapel 600 Peachtree Battle Ave NW Atlanta GA 30327 United States;X-APPLE-RADIUS=500;X-TITLE=600 Peachtree Battle Ave NW:geo:-84.4089772,33.8233671
END:VEVENT
BEGIN:VEVENT
DTSTART;TZID=America/New_York:20240810T205400
DTEND;TZID=America/New_York:20240810T205400
DTSTAMP:20260424T205919
CREATED:20231220T195301Z
LAST-MODIFIED:20231220T195301Z
UID:10012439-1723323240-1723323240@aasynagogue.org
SUMMARY:Conclusion of Shabbat
DESCRIPTION:
URL:https://aasynagogue.org/event/conclusion-of-shabbat-138/
LOCATION:GA
END:VEVENT
BEGIN:VEVENT
DTSTART;TZID=America/New_York:20240811T103000
DTEND;TZID=America/New_York:20240811T133000
DTSTAMP:20260424T205919
CREATED:20240801T190107Z
LAST-MODIFIED:20240806T154841Z
UID:10014765-1723372200-1723383000@aasynagogue.org
SUMMARY:Young Adult Engagement Walk on the BeltLine ⏺️
DESCRIPTION:Join our Young Adult Engagement Subcommittee for a fun morning wandering on the BeltLine Eastside Trail! We'll meet at Pancake Social for brunch and make our way down to Krog Street Market and back\, with potential fun stops along the way. \nThere is no cost to attend\, but RSVP is required by Thursday\, August 8\, to Jackie Nix (jnix@aasynagogue.org).
URL:https://aasynagogue.org/event/young-adult-engagement-walk-on-the-beltline/
LOCATION:Pancake Social\, 675 Ponce De Leon Ave NE\, Atlanta\, GA\, 30308
CATEGORIES:Young Adults
ATTACH;FMTTYPE=image/jpeg:https://aasynagogue.org/wp-content/uploads/2024/08/AdobeStock_230002206-scaled.jpeg
END:VEVENT
BEGIN:VEVENT
DTSTART;TZID=America/New_York:20240811T140000
DTEND;TZID=America/New_York:20240811T163000
DTSTAMP:20260424T205919
CREATED:20240507T004305Z
LAST-MODIFIED:20240507T005330Z
UID:10012918-1723384800-1723393800@aasynagogue.org
SUMMARY:mAAc at Jersey Boys ⏺️
DESCRIPTION:Join the Mature Active Adult Community (mAAc) to see Jersey Boys! With phenomenal music\, memorable characters\, and great storytelling\, Jersey Boys follows the fascinating evolution of four blue-collar kids who became one of the greatest successes in pop-music history. Winner of Best Musical at both the Tony Awards and Olivier Awards\, Jersey Boys takes you behind the music of Frankie Valli and The Four Seasons to discover the secret of a 40-year friendship as the foursome work their way from the streets of New Jersey to the heights of stardom. \nThe cost to attend is $45 per person for mAAc members and $55 per person for non-mAAc members. Registration is required (link below) by Tuesday\, July 9. \nQuestions?\nRegistration: Jackie Nix (jnix@aasynagogue.org; 404.603.5743)\nProgram: Gail Solomon (solgail.627@gmail.com; 404.456.6171) \n Register
URL:https://aasynagogue.org/event/maac-at-jersey-boys/
LOCATION:City Springs Theatre Company\, 1 Galambos Way\, Sandy Springs\, GA\, 30328
CATEGORIES:Mature Active Adult Community (mAAc),Music
ATTACH;FMTTYPE=image/jpeg:https://aasynagogue.org/wp-content/uploads/2024/05/Jersey-Boys.jpg
END:VEVENT
BEGIN:VEVENT
DTSTART;VALUE=DATE:20240812
DTEND;VALUE=DATE:20240813
DTSTAMP:20260424T205919
CREATED:20231220T195205Z
LAST-MODIFIED:20240521T163500Z
UID:10012403-1723420800-1723507199@aasynagogue.org
SUMMARY:Erev Tisha B'Av
DESCRIPTION:
URL:https://aasynagogue.org/event/erev-tisha-bav/
LOCATION:GA
END:VEVENT
BEGIN:VEVENT
DTSTART;TZID=America/New_York:20240812T200000
DTEND;TZID=America/New_York:20240812T220000
DTSTAMP:20260424T205919
CREATED:20240730T160329Z
LAST-MODIFIED:20240812T214505Z
UID:10014764-1723492800-1723500000@aasynagogue.org
SUMMARY:Tisha B'Av Service 🔀
DESCRIPTION:Join us in partnership with Congregation Bet Haverim for a solemn and reflective Tisha B'Av service as we commemorate the destruction of the First and Second Temples. The evening will include the traditional reading of Eicha (Book of Lamentations)\, a poignant text that captures the sorrow and loss of this day. \nOur service will also feature thought-provoking rabbinic insight\, offering a deeper understanding and contemporary reflections on the themes of Tisha B'Av. This is a time for communal mourning\, introspection\, and connection. We welcome everyone to participate in this meaningful observance. \n*Parts of the program may not be easy to hear through Zoom. Please refer to the Tisha B'Av Service Guide for the text (in Hebrew and transliterated). \n Join Via Zoom
URL:https://aasynagogue.org/event/tisha-bav-service/
LOCATION:Ahavath Achim Synagogue—Ellman Chapel\, 600 Peachtree Battle Ave NW\, Atlanta\, GA\, 30327\, United States
CATEGORIES:Holidays,Prayer
ATTACH;FMTTYPE=image/jpeg:https://aasynagogue.org/wp-content/uploads/2023/07/Tisha-BAv-2.jpg
GEO:33.8233671;-84.4089772
X-APPLE-STRUCTURED-LOCATION;VALUE=URI;X-ADDRESS=Ahavath Achim Synagogue—Ellman Chapel 600 Peachtree Battle Ave NW Atlanta GA 30327 United States;X-APPLE-RADIUS=500;X-TITLE=600 Peachtree Battle Ave NW:geo:-84.4089772,33.8233671
END:VEVENT
BEGIN:VEVENT
DTSTART;TZID=America/New_York:20240812T202700
DTEND;TZID=America/New_York:20240812T202700
DTSTAMP:20260424T205919
CREATED:20240620T222456Z
LAST-MODIFIED:20240620T222456Z
UID:10013829-1723494420-1723494420@aasynagogue.org
SUMMARY:Fast begins
DESCRIPTION:
URL:https://aasynagogue.org/event/fast-begins-2/
LOCATION:GA
END:VEVENT
BEGIN:VEVENT
DTSTART;VALUE=DATE:20240813
DTEND;VALUE=DATE:20240814
DTSTAMP:20260424T205919
CREATED:20231220T195357Z
LAST-MODIFIED:20240521T163415Z
UID:10012485-1723507200-1723593599@aasynagogue.org
SUMMARY:Tisha B'Av
DESCRIPTION:
URL:https://aasynagogue.org/event/tisha-bav-2/
LOCATION:GA
END:VEVENT
BEGIN:VEVENT
DTSTART;TZID=America/New_York:20240813T071500
DTEND;TZID=America/New_York:20240813T081500
DTSTAMP:20260424T205919
CREATED:20240801T205555Z
LAST-MODIFIED:20240801T205629Z
UID:10014305-1723533300-1723536900@aasynagogue.org
SUMMARY:Tisha B'Av Morning Service 🔀
DESCRIPTION:Join us in person (Ellman Chapel) or via Zoom for our Tisha B'Av Morning Service (without tallit and tefillin). \n Join Via Zoom
URL:https://aasynagogue.org/event/tisha-bav-morning-service/
LOCATION:GA
CATEGORIES:Prayer
END:VEVENT
BEGIN:VEVENT
DTSTART;TZID=America/New_York:20240813T180000
DTEND;TZID=America/New_York:20240813T190000
DTSTAMP:20260424T205919
CREATED:20240801T205330Z
LAST-MODIFIED:20240801T205330Z
UID:10010360-1723572000-1723575600@aasynagogue.org
SUMMARY:Tisha B'Av Conclusion Service ▶️
DESCRIPTION:Join Via Zoom
URL:https://aasynagogue.org/event/tisha-bav-conclusion-service/
LOCATION:GA
CATEGORIES:Prayer
END:VEVENT
BEGIN:VEVENT
DTSTART;TZID=America/New_York:20240813T193000
DTEND;TZID=America/New_York:20240813T210000
DTSTAMP:20260424T205919
CREATED:20240522T181907Z
LAST-MODIFIED:20260323T211215Z
UID:10013062-1723577400-1723582800@aasynagogue.org
SUMMARY:Biblical Hebrew Class ▶️
DESCRIPTION:Join us every Tuesday for Biblical Hebrew Class\, led by Hebrew instructor\, Jim Dricker. In this class\, we will cover all aspects of grammar and a well-rounded basic vocabulary. Students set the pace of the program\, and we will proceed as fast or as slow as the majority of the class requests. We might take two years to complete… maybe more… perhaps less! The only prerequisite is the ability to sound out Hebrew words. \nRequired textbook: The First Hebrew Primer: The Adult Beginner's Path to Biblical Hebrew\, Third Edition by Simon\, Resnikoff\, and Motzkin (available on Amazon and other book sellers) \n \n Join Zoom
URL:https://aasynagogue.org/event/biblical-hebrew-class-2/2024-08-13/
LOCATION:GA
CATEGORIES:Adult Education,Learning
ATTACH;FMTTYPE=image/jpeg:https://aasynagogue.org/wp-content/uploads/2020/08/AdobeStock_217894338-scaled-e1596639380820.jpeg
END:VEVENT
BEGIN:VEVENT
DTSTART;TZID=America/New_York:20240813T205800
DTEND;TZID=America/New_York:20240813T205800
DTSTAMP:20260424T205919
CREATED:20240621T015313Z
LAST-MODIFIED:20240621T015313Z
UID:10013863-1723582680-1723582680@aasynagogue.org
SUMMARY:Fast ends
DESCRIPTION:
URL:https://aasynagogue.org/event/fast-ends-2/
LOCATION:GA
END:VEVENT
END:VCALENDAR