BEGIN:VCALENDAR
VERSION:2.0
PRODID:-//Ahavath Achim Synagogue - ECPv6.15.20//NONSGML v1.0//EN
CALSCALE:GREGORIAN
METHOD:PUBLISH
X-WR-CALNAME:Ahavath Achim Synagogue
X-ORIGINAL-URL:https://aasynagogue.org
X-WR-CALDESC:Events for Ahavath Achim Synagogue
REFRESH-INTERVAL;VALUE=DURATION:PT1H
X-Robots-Tag:noindex
X-PUBLISHED-TTL:PT1H
BEGIN:VTIMEZONE
TZID:America/New_York
BEGIN:DAYLIGHT
TZOFFSETFROM:-0500
TZOFFSETTO:-0400
TZNAME:EDT
DTSTART:20250309T070000
END:DAYLIGHT
BEGIN:STANDARD
TZOFFSETFROM:-0400
TZOFFSETTO:-0500
TZNAME:EST
DTSTART:20251102T060000
END:STANDARD
BEGIN:DAYLIGHT
TZOFFSETFROM:-0500
TZOFFSETTO:-0400
TZNAME:EDT
DTSTART:20260308T070000
END:DAYLIGHT
BEGIN:STANDARD
TZOFFSETFROM:-0400
TZOFFSETTO:-0500
TZNAME:EST
DTSTART:20261101T060000
END:STANDARD
BEGIN:DAYLIGHT
TZOFFSETFROM:-0500
TZOFFSETTO:-0400
TZNAME:EDT
DTSTART:20270314T070000
END:DAYLIGHT
BEGIN:STANDARD
TZOFFSETFROM:-0400
TZOFFSETTO:-0500
TZNAME:EST
DTSTART:20271107T060000
END:STANDARD
END:VTIMEZONE
BEGIN:VEVENT
DTSTART;TZID=America/New_York:20260523T210300
DTEND;TZID=America/New_York:20260523T210300
DTSTAMP:20260423T200851
CREATED:20240621T015943Z
LAST-MODIFIED:20240621T015943Z
UID:10013939-1779570180-1779570180@aasynagogue.org
SUMMARY:Conclusion of Shabbat
DESCRIPTION:
URL:https://aasynagogue.org/event/conclusion-of-shabbat-230/
END:VEVENT
BEGIN:VEVENT
DTSTART;TZID=America/New_York:20260529T202300
DTEND;TZID=America/New_York:20260529T202300
DTSTAMP:20260423T200851
CREATED:20240620T220853Z
LAST-MODIFIED:20240620T220853Z
UID:10013744-1780086180-1780086180@aasynagogue.org
SUMMARY:Candle Lighting
DESCRIPTION:
URL:https://aasynagogue.org/event/candle-lighting-259/
END:VEVENT
BEGIN:VEVENT
DTSTART;TZID=America/New_York:20260530T210700
DTEND;TZID=America/New_York:20260530T210700
DTSTAMP:20260423T200851
CREATED:20240621T015943Z
LAST-MODIFIED:20240621T015943Z
UID:10013940-1780175220-1780175220@aasynagogue.org
SUMMARY:Conclusion of Shabbat
DESCRIPTION:
URL:https://aasynagogue.org/event/conclusion-of-shabbat-231/
END:VEVENT
BEGIN:VEVENT
DTSTART;TZID=America/New_York:20260605T202700
DTEND;TZID=America/New_York:20260605T202700
DTSTAMP:20260423T200851
CREATED:20240620T220853Z
LAST-MODIFIED:20240620T220853Z
UID:10013745-1780691220-1780691220@aasynagogue.org
SUMMARY:Candle Lighting
DESCRIPTION:
URL:https://aasynagogue.org/event/candle-lighting-260/
END:VEVENT
BEGIN:VEVENT
DTSTART;TZID=America/New_York:20260606T211100
DTEND;TZID=America/New_York:20260606T211100
DTSTAMP:20260423T200851
CREATED:20240621T015943Z
LAST-MODIFIED:20240621T015943Z
UID:10013941-1780780260-1780780260@aasynagogue.org
SUMMARY:Conclusion of Shabbat
DESCRIPTION:
URL:https://aasynagogue.org/event/conclusion-of-shabbat-232/
END:VEVENT
BEGIN:VEVENT
DTSTART;TZID=America/New_York:20260612T203100
DTEND;TZID=America/New_York:20260612T203100
DTSTAMP:20260423T200851
CREATED:20240620T220853Z
LAST-MODIFIED:20240620T220853Z
UID:10013746-1781296260-1781296260@aasynagogue.org
SUMMARY:Candle Lighting
DESCRIPTION:
URL:https://aasynagogue.org/event/candle-lighting-261/
END:VEVENT
BEGIN:VEVENT
DTSTART;TZID=America/New_York:20260613T211500
DTEND;TZID=America/New_York:20260613T211500
DTSTAMP:20260423T200851
CREATED:20240621T015944Z
LAST-MODIFIED:20240621T015944Z
UID:10013942-1781385300-1781385300@aasynagogue.org
SUMMARY:Conclusion of Shabbat
DESCRIPTION:
URL:https://aasynagogue.org/event/conclusion-of-shabbat-233/
END:VEVENT
BEGIN:VEVENT
DTSTART;TZID=America/New_York:20260614T150000
DTEND;TZID=America/New_York:20260614T150000
DTSTAMP:20260423T200851
CREATED:20260423T195246Z
LAST-MODIFIED:20260423T210429Z
UID:10026185-1781449200-1781449200@aasynagogue.org
SUMMARY:139th Annual Meeting & BBQ Celebration
DESCRIPTION:Congregation Ahavath Achim invites all members to our 139th Annual Meeting — a milestone gathering of our community.\nThis year's meeting will include a very special tribute to our Facilities Director\, Christopher J. Carr\, in honor of his 30 years of dedicated service to our congregation. Please join us in celebrating his extraordinary commitment to our community. \nFollowing the meeting\, stay for a Special BBQ Celebration! \nBBQ pricing: \n$21 per person · $54 per family \nRegistration is required. Reserve your spot today! \n+ Register for the BBQ
URL:https://aasynagogue.org/event/139th-annual-meeting-bbq-celebration/
LOCATION:Ahavath Achim Synagogue\, 600 Peachtree Battle Ave NW\, Atlanta\, GA\, 30327
CATEGORIES:Community Events
END:VEVENT
BEGIN:VEVENT
DTSTART;VALUE=DATE:20260615
DTEND;VALUE=DATE:20260616
DTSTAMP:20260423T200851
CREATED:20240621T012659Z
LAST-MODIFIED:20240621T013210Z
UID:10013848-1781481600-1781567999@aasynagogue.org
SUMMARY:Rosh Chodesh Tamuz
DESCRIPTION:Start of month of Tamuz on the Hebrew calendar
URL:https://aasynagogue.org/event/rosh-chodesh-tamuz-5/
END:VEVENT
BEGIN:VEVENT
DTSTART;VALUE=DATE:20260616
DTEND;VALUE=DATE:20260617
DTSTAMP:20260423T200851
CREATED:20240621T012659Z
LAST-MODIFIED:20240621T013207Z
UID:10013849-1781568000-1781654399@aasynagogue.org
SUMMARY:Rosh Chodesh Tamuz
DESCRIPTION:Start of month of Tamuz on the Hebrew calendar
URL:https://aasynagogue.org/event/rosh-chodesh-tamuz-6/
END:VEVENT
BEGIN:VEVENT
DTSTART;TZID=America/New_York:20260619T203300
DTEND;TZID=America/New_York:20260619T203300
DTSTAMP:20260423T200851
CREATED:20240620T220854Z
LAST-MODIFIED:20240620T220854Z
UID:10013747-1781901180-1781901180@aasynagogue.org
SUMMARY:Candle Lighting
DESCRIPTION:
URL:https://aasynagogue.org/event/candle-lighting-262/
END:VEVENT
BEGIN:VEVENT
DTSTART;TZID=America/New_York:20260620T211700
DTEND;TZID=America/New_York:20260620T211700
DTSTAMP:20260423T200851
CREATED:20240621T020012Z
LAST-MODIFIED:20240621T020012Z
UID:10013943-1781990220-1781990220@aasynagogue.org
SUMMARY:Conclusion of Shabbat
DESCRIPTION:
URL:https://aasynagogue.org/event/conclusion-of-shabbat-234/
END:VEVENT
BEGIN:VEVENT
DTSTART;TZID=America/New_York:20260626T203400
DTEND;TZID=America/New_York:20260626T203400
DTSTAMP:20260423T200851
CREATED:20240620T220854Z
LAST-MODIFIED:20240620T220854Z
UID:10013748-1782506040-1782506040@aasynagogue.org
SUMMARY:Candle Lighting
DESCRIPTION:
URL:https://aasynagogue.org/event/candle-lighting-263/
END:VEVENT
BEGIN:VEVENT
DTSTART;TZID=America/New_York:20260627T211800
DTEND;TZID=America/New_York:20260627T211800
DTSTAMP:20260423T200851
CREATED:20240621T020013Z
LAST-MODIFIED:20240621T020013Z
UID:10013944-1782595080-1782595080@aasynagogue.org
SUMMARY:Conclusion of Shabbat
DESCRIPTION:
URL:https://aasynagogue.org/event/conclusion-of-shabbat-235/
END:VEVENT
BEGIN:VEVENT
DTSTART;TZID=America/New_York:20260703T203400
DTEND;TZID=America/New_York:20260703T203400
DTSTAMP:20260423T200851
CREATED:20240620T220905Z
LAST-MODIFIED:20240620T220905Z
UID:10013749-1783110840-1783110840@aasynagogue.org
SUMMARY:Candle Lighting
DESCRIPTION:
URL:https://aasynagogue.org/event/candle-lighting-264/
END:VEVENT
BEGIN:VEVENT
DTSTART;TZID=America/New_York:20260704T211700
DTEND;TZID=America/New_York:20260704T211700
DTSTAMP:20260423T200851
CREATED:20240621T020013Z
LAST-MODIFIED:20240621T020013Z
UID:10013945-1783199820-1783199820@aasynagogue.org
SUMMARY:Conclusion of Shabbat
DESCRIPTION:
URL:https://aasynagogue.org/event/conclusion-of-shabbat-236/
END:VEVENT
BEGIN:VEVENT
DTSTART;TZID=America/New_York:20260710T203300
DTEND;TZID=America/New_York:20260710T203300
DTSTAMP:20260423T200851
CREATED:20240620T220906Z
LAST-MODIFIED:20240620T220906Z
UID:10013750-1783715580-1783715580@aasynagogue.org
SUMMARY:Candle Lighting
DESCRIPTION:
URL:https://aasynagogue.org/event/candle-lighting-265/
END:VEVENT
BEGIN:VEVENT
DTSTART;TZID=America/New_York:20260711T211600
DTEND;TZID=America/New_York:20260711T211600
DTSTAMP:20260423T200851
CREATED:20240621T020013Z
LAST-MODIFIED:20240621T020013Z
UID:10013946-1783804560-1783804560@aasynagogue.org
SUMMARY:Conclusion of Shabbat
DESCRIPTION:
URL:https://aasynagogue.org/event/conclusion-of-shabbat-237/
END:VEVENT
BEGIN:VEVENT
DTSTART;VALUE=DATE:20260715
DTEND;VALUE=DATE:20260716
DTSTAMP:20260423T200851
CREATED:20240620T215248Z
LAST-MODIFIED:20240621T013913Z
UID:10013640-1784073600-1784159999@aasynagogue.org
SUMMARY:Rosh Chodesh Av
DESCRIPTION:Start of month of Av on the Hebrew calendar
URL:https://aasynagogue.org/event/rosh-chodesh-av-3/
END:VEVENT
BEGIN:VEVENT
DTSTART;TZID=America/New_York:20260717T203000
DTEND;TZID=America/New_York:20260717T203000
DTSTAMP:20260423T200851
CREATED:20240620T220907Z
LAST-MODIFIED:20240620T220907Z
UID:10013751-1784320200-1784320200@aasynagogue.org
SUMMARY:Candle Lighting
DESCRIPTION:
URL:https://aasynagogue.org/event/candle-lighting-266/
END:VEVENT
BEGIN:VEVENT
DTSTART;TZID=America/New_York:20260718T211300
DTEND;TZID=America/New_York:20260718T211300
DTSTAMP:20260423T200851
CREATED:20240621T020014Z
LAST-MODIFIED:20240621T020014Z
UID:10013947-1784409180-1784409180@aasynagogue.org
SUMMARY:Conclusion of Shabbat
DESCRIPTION:
URL:https://aasynagogue.org/event/conclusion-of-shabbat-238/
END:VEVENT
BEGIN:VEVENT
DTSTART;TZID=America/New_York:20260722T204600
DTEND;TZID=America/New_York:20260722T204600
DTSTAMP:20260423T200851
CREATED:20240621T015312Z
LAST-MODIFIED:20240621T015312Z
UID:10013861-1784753160-1784753160@aasynagogue.org
SUMMARY:Fast begins
DESCRIPTION:
URL:https://aasynagogue.org/event/fast-begins-4/
END:VEVENT
BEGIN:VEVENT
DTSTART;TZID=America/New_York:20260723T211900
DTEND;TZID=America/New_York:20260723T211900
DTSTAMP:20260423T200851
CREATED:20240621T015327Z
LAST-MODIFIED:20240621T015327Z
UID:10013865-1784841540-1784841540@aasynagogue.org
SUMMARY:Fast ends
DESCRIPTION:
URL:https://aasynagogue.org/event/fast-ends-4/
END:VEVENT
BEGIN:VEVENT
DTSTART;TZID=America/New_York:20260724T202600
DTEND;TZID=America/New_York:20260724T202600
DTSTAMP:20260423T200851
CREATED:20240620T220908Z
LAST-MODIFIED:20240620T220908Z
UID:10013752-1784924760-1784924760@aasynagogue.org
SUMMARY:Candle Lighting
DESCRIPTION:
URL:https://aasynagogue.org/event/candle-lighting-267/
END:VEVENT
BEGIN:VEVENT
DTSTART;TZID=America/New_York:20260725T210900
DTEND;TZID=America/New_York:20260725T210900
DTSTAMP:20260423T200851
CREATED:20240621T020027Z
LAST-MODIFIED:20240621T020027Z
UID:10013948-1785013740-1785013740@aasynagogue.org
SUMMARY:Conclusion of Shabbat
DESCRIPTION:
URL:https://aasynagogue.org/event/conclusion-of-shabbat-239/
END:VEVENT
BEGIN:VEVENT
DTSTART;TZID=America/New_York:20260731T202000
DTEND;TZID=America/New_York:20260731T202000
DTSTAMP:20260423T200851
CREATED:20240620T220909Z
LAST-MODIFIED:20240620T220909Z
UID:10013753-1785529200-1785529200@aasynagogue.org
SUMMARY:Candle Lighting
DESCRIPTION:
URL:https://aasynagogue.org/event/candle-lighting-268/
END:VEVENT
BEGIN:VEVENT
DTSTART;TZID=America/New_York:20260801T210300
DTEND;TZID=America/New_York:20260801T210300
DTSTAMP:20260423T200851
CREATED:20240621T020028Z
LAST-MODIFIED:20240621T020028Z
UID:10013949-1785618180-1785618180@aasynagogue.org
SUMMARY:Conclusion of Shabbat
DESCRIPTION:
URL:https://aasynagogue.org/event/conclusion-of-shabbat-240/
END:VEVENT
BEGIN:VEVENT
DTSTART;TZID=America/New_York:20260807T201400
DTEND;TZID=America/New_York:20260807T201400
DTSTAMP:20260423T200851
CREATED:20240620T220919Z
LAST-MODIFIED:20240620T220919Z
UID:10013754-1786133640-1786133640@aasynagogue.org
SUMMARY:Candle Lighting
DESCRIPTION:
URL:https://aasynagogue.org/event/candle-lighting-269/
END:VEVENT
BEGIN:VEVENT
DTSTART;TZID=America/New_York:20260808T205700
DTEND;TZID=America/New_York:20260808T205700
DTSTAMP:20260423T200851
CREATED:20240621T020028Z
LAST-MODIFIED:20240621T020028Z
UID:10013950-1786222620-1786222620@aasynagogue.org
SUMMARY:Conclusion of Shabbat
DESCRIPTION:
URL:https://aasynagogue.org/event/conclusion-of-shabbat-241/
END:VEVENT
BEGIN:VEVENT
DTSTART;VALUE=DATE:20260813
DTEND;VALUE=DATE:20260814
DTSTAMP:20260423T200851
CREATED:20240620T215453Z
LAST-MODIFIED:20240621T013715Z
UID:10013654-1786579200-1786665599@aasynagogue.org
SUMMARY:Rosh Chodesh Elul
DESCRIPTION:Start of month of Elul on the Hebrew calendar
URL:https://aasynagogue.org/event/rosh-chodesh-elul-5/
END:VEVENT
END:VCALENDAR