BEGIN:VCALENDAR
VERSION:2.0
PRODID:-//Ahavath Achim Synagogue - ECPv6.15.20//NONSGML v1.0//EN
CALSCALE:GREGORIAN
METHOD:PUBLISH
X-ORIGINAL-URL:https://aasynagogue.org
X-WR-CALDESC:Events for Ahavath Achim Synagogue
REFRESH-INTERVAL;VALUE=DURATION:PT1H
X-Robots-Tag:noindex
X-PUBLISHED-TTL:PT1H
BEGIN:VTIMEZONE
TZID:America/New_York
BEGIN:DAYLIGHT
TZOFFSETFROM:-0500
TZOFFSETTO:-0400
TZNAME:EDT
DTSTART:20240310T070000
END:DAYLIGHT
BEGIN:STANDARD
TZOFFSETFROM:-0400
TZOFFSETTO:-0500
TZNAME:EST
DTSTART:20241103T060000
END:STANDARD
BEGIN:DAYLIGHT
TZOFFSETFROM:-0500
TZOFFSETTO:-0400
TZNAME:EDT
DTSTART:20250309T070000
END:DAYLIGHT
BEGIN:STANDARD
TZOFFSETFROM:-0400
TZOFFSETTO:-0500
TZNAME:EST
DTSTART:20251102T060000
END:STANDARD
BEGIN:DAYLIGHT
TZOFFSETFROM:-0500
TZOFFSETTO:-0400
TZNAME:EDT
DTSTART:20260308T070000
END:DAYLIGHT
BEGIN:STANDARD
TZOFFSETFROM:-0400
TZOFFSETTO:-0500
TZNAME:EST
DTSTART:20261101T060000
END:STANDARD
END:VTIMEZONE
BEGIN:VEVENT
DTSTART;TZID=America/New_York:20250801T180000
DTEND;TZID=America/New_York:20250801T190000
DTSTAMP:20260424T124504
CREATED:20250715T160114Z
LAST-MODIFIED:20250715T160607Z
UID:10021657-1754071200-1754074800@aasynagogue.org
SUMMARY:Meshorerim Shabbat Service 🔀
DESCRIPTION:Each month\, gather with us in the Sanctuary (or via Zoom) for one Friday evening and one Saturday morning Shabbat service\, both led by our inspiring meshorerim! \n Join Friday Evening Zoom\n Join Saturday Morning Zoom
URL:https://aasynagogue.org/event/meshorerim-shabbat-service/2025-08-01/
LOCATION:Ahavath Achim Synagogue — Epstein Sanctuary\, 600 Peachtree Battle Ave NW\, Atlanta\, GA\, 30327
CATEGORIES:Music,Prayer
ATTACH;FMTTYPE=image/jpeg:https://aasynagogue.org/wp-content/uploads/2023/01/Singing-Songs-Voice-Choir-Melody-2.jpg
END:VEVENT
BEGIN:VEVENT
DTSTART;TZID=America/New_York:20250801T201900
DTEND;TZID=America/New_York:20250801T201900
DTSTAMP:20260424T124504
CREATED:20240620T220426Z
LAST-MODIFIED:20240620T220426Z
UID:10013701-1754079540-1754079540@aasynagogue.org
SUMMARY:Candle Lighting
DESCRIPTION:
URL:https://aasynagogue.org/event/candle-lighting-216/
LOCATION:GA
END:VEVENT
BEGIN:VEVENT
DTSTART;TZID=America/New_York:20250802T093000
DTEND;TZID=America/New_York:20250802T120000
DTSTAMP:20260424T124504
CREATED:20241029T174753Z
LAST-MODIFIED:20250715T160508Z
UID:10018257-1754127000-1754136000@aasynagogue.org
SUMMARY:Shabbat Morning Service 🔀
DESCRIPTION:Join us in the Sanctuary or via Zoom. \n Join Via Zoom
URL:https://aasynagogue.org/event/shabbat-morning-service-5/2025-08-02/
LOCATION:Ahavath Achim Synagogue — Epstein Sanctuary\, 600 Peachtree Battle Ave NW\, Atlanta\, GA\, 30327
CATEGORIES:Prayer
END:VEVENT
BEGIN:VEVENT
DTSTART;TZID=America/New_York:20250802T110000
DTEND;TZID=America/New_York:20250802T120000
DTSTAMP:20260424T124504
CREATED:20250205T194119Z
LAST-MODIFIED:20250724T201216Z
UID:10021686-1754132400-1754136000@aasynagogue.org
SUMMARY:AA Play and Pray ⏺️
DESCRIPTION:Join us for a very special family service! Bring your little ones (ages 0-8) for a joyful\, interactive Shabbat morning designed just for young families! Rabbi Rosenthal will guide you and your children through a prayer-filled experience where you'll learn the beautiful prayers of the Shabbat morning service\, explore meaningful Shabbat rituals\, and reconnect with the soul-stirring melodies that make Shabbat special. \nWhat awaits your family: \n\nInteractive learning of Shabbat prayers and rituals\nTraditional melodies that will touch your hearts\nDelicious snacks\, Kiddush juice\, and fresh challah\nOpportunities to build lasting friendships within our community\nA welcoming space for children to engage with their Jewish heritage\n\nWhether you're a longtime member or new to our synagogue family\, Play and Pray creates the perfect environment for spiritual connection\, community building\, and making cherished memories with your children. Come as you are\, and leave with hearts full of Shabbat joy and new connections! \nQuestions? Contact the Associate Rabbi and Director of Lifelong Learning: Eric Feld (efeld@aasynagogue.org). \nAhavath Achim Synagogue's youth education programming is generously endowed by the Judith and Aaron z"l Alembik Ahavath Achim Youth Education Program.
URL:https://aasynagogue.org/event/aa-play-and-pray/2025-08-02/
LOCATION:Ahavath Achim Synagogue—Paradies Hall\, 600 Peachtree Battle Ave. NW\, Atlanta\, GA\, 30327\, United States
CATEGORIES:Kesher (Pre-K–6th Grade),Kid Friendly,Nesiah (7th–9th Grade)
ATTACH;FMTTYPE=image/jpeg:https://aasynagogue.org/wp-content/uploads/2024/03/Shabbat-5.jpg
GEO:33.8233671;-84.4089772
X-APPLE-STRUCTURED-LOCATION;VALUE=URI;X-ADDRESS=Ahavath Achim Synagogue—Paradies Hall 600 Peachtree Battle Ave. NW Atlanta GA 30327 United States;X-APPLE-RADIUS=500;X-TITLE=600 Peachtree Battle Ave. NW:geo:-84.4089772,33.8233671
END:VEVENT
BEGIN:VEVENT
DTSTART;TZID=America/New_York:20250802T123000
DTEND;TZID=America/New_York:20250802T140000
DTSTAMP:20260424T124504
CREATED:20240506T193850Z
LAST-MODIFIED:20251003T233416Z
UID:10011917-1754137800-1754143200@aasynagogue.org
SUMMARY:Rebbe's Tish ⏺️
DESCRIPTION:Join us during kiddush lunch on Shabbat mornings for Rebbe's Tish where we'll sing\, do a bit of studying and kavanot\, celebrate simchas\, and fulfill the mitzvah of delighting in Shabbat and reciting the blessing after meals! Whether you attended the Shabbat morning service virtually\, in person\, or not at all\, you are welcome to join us—Grab a seat at the square table in the atrium between the Sanctuary and Srochi Auditorium. We'll start around 12:30 p.m. (or ~30 minutes after the service ends) and sing the blessing after meals (Birkat HaMazon) between 1:30 p.m. and 2:00 p.m. \nQuestions? Contact music@aasynagogue.org.
URL:https://aasynagogue.org/event/rebbes-tish-4/2025-08-02/
LOCATION:Ahavath Achim Synagogue—Srochi Auditorium\, 600 Peachtree Battle Ave. NW\, Atlanta\, GA\, 30327\, United States
CATEGORIES:Learning,Music
ATTACH;FMTTYPE=image/jpeg:https://aasynagogue.org/wp-content/uploads/2017/10/People-Singing-e1598502653135.jpg
GEO:33.8233671;-84.4089772
X-APPLE-STRUCTURED-LOCATION;VALUE=URI;X-ADDRESS=Ahavath Achim Synagogue—Srochi Auditorium 600 Peachtree Battle Ave. NW Atlanta GA 30327 United States;X-APPLE-RADIUS=500;X-TITLE=600 Peachtree Battle Ave. NW:geo:-84.4089772,33.8233671
END:VEVENT
BEGIN:VEVENT
DTSTART;TZID=America/New_York:20250802T193000
DTEND;TZID=America/New_York:20250802T223000
DTSTAMP:20260424T124504
CREATED:20250722T164918Z
LAST-MODIFIED:20250722T165148Z
UID:10021679-1754163000-1754173800@aasynagogue.org
SUMMARY:Tisha B'Av Evening Service 🔀
DESCRIPTION:Join us for a solemn and reflective Tisha B'Av service as we commemorate the destruction of the First and Second Temples. We'll conclude Shabbat at 7:45 p.m. with a special final meal (Seudah Mafseket) to mark the beginning of our fast. We'll conclude with learning with Rabbi Eric Feld\, followed by the chanting of Eicha (The Book of Lamentations)\, a poignant text that captures the sorrow and loss of this day. This is a time for communal mourning\, introspection\, and connection. We welcome everyone to participate in this meaningful observance. \nJoin us in Ellman Chapel or via Zoom. \n Join Zoom
URL:https://aasynagogue.org/event/tisha-bav-evening-service/
LOCATION:Ahavath Achim Synagogue—Ellman Chapel\, 600 Peachtree Battle Ave NW\, Atlanta\, GA\, 30327\, United States
CATEGORIES:Holidays,Prayer
ATTACH;FMTTYPE=image/jpeg:https://aasynagogue.org/wp-content/uploads/2023/07/Tisha-BAv-2.jpg
GEO:33.8233671;-84.4089772
X-APPLE-STRUCTURED-LOCATION;VALUE=URI;X-ADDRESS=Ahavath Achim Synagogue—Ellman Chapel 600 Peachtree Battle Ave NW Atlanta GA 30327 United States;X-APPLE-RADIUS=500;X-TITLE=600 Peachtree Battle Ave NW:geo:-84.4089772,33.8233671
END:VEVENT
BEGIN:VEVENT
DTSTART;TZID=America/New_York:20250802T203700
DTEND;TZID=America/New_York:20250802T203700
DTSTAMP:20260424T124504
CREATED:20240621T015312Z
LAST-MODIFIED:20240621T015312Z
UID:10013860-1754167020-1754167020@aasynagogue.org
SUMMARY:Fast begins
DESCRIPTION:
URL:https://aasynagogue.org/event/fast-begins-3/
LOCATION:GA
END:VEVENT
BEGIN:VEVENT
DTSTART;TZID=America/New_York:20250802T210200
DTEND;TZID=America/New_York:20250802T210200
DTSTAMP:20260424T124504
CREATED:20240621T015729Z
LAST-MODIFIED:20240621T015729Z
UID:10013897-1754168520-1754168520@aasynagogue.org
SUMMARY:Conclusion of Shabbat
DESCRIPTION:
URL:https://aasynagogue.org/event/conclusion-of-shabbat-188/
LOCATION:GA
END:VEVENT
BEGIN:VEVENT
DTSTART;TZID=America/New_York:20250803T090000
DTEND;TZID=America/New_York:20250803T103000
DTSTAMP:20260424T124504
CREATED:20250722T165321Z
LAST-MODIFIED:20250722T165501Z
UID:10018364-1754211600-1754217000@aasynagogue.org
SUMMARY:Morning Minyan (w/o Tallit and Tefillin) 🔀
DESCRIPTION:This service will feature special Tisha B'Av prayers\, during which we refrain from wearing a tallit and tefillin.  Be part of this special and spiritually emotional time. \nJoin us in Ellman Chapel or via Zoom. \n Join Via Zoom
URL:https://aasynagogue.org/event/morning-minyan-w-o-tallit-and-tefillin/
LOCATION:Ahavath Achim Synagogue—Ellman Chapel\, 600 Peachtree Battle Ave NW\, Atlanta\, GA\, 30327\, United States
CATEGORIES:Prayer
GEO:33.8233671;-84.4089772
X-APPLE-STRUCTURED-LOCATION;VALUE=URI;X-ADDRESS=Ahavath Achim Synagogue—Ellman Chapel 600 Peachtree Battle Ave NW Atlanta GA 30327 United States;X-APPLE-RADIUS=500;X-TITLE=600 Peachtree Battle Ave NW:geo:-84.4089772,33.8233671
END:VEVENT
BEGIN:VEVENT
DTSTART;TZID=America/New_York:20250803T210900
DTEND;TZID=America/New_York:20250803T210900
DTSTAMP:20260424T124504
CREATED:20240621T015313Z
LAST-MODIFIED:20240621T015313Z
UID:10013864-1754255340-1754255340@aasynagogue.org
SUMMARY:Fast ends
DESCRIPTION:
URL:https://aasynagogue.org/event/fast-ends-3/
LOCATION:GA
END:VEVENT
BEGIN:VEVENT
DTSTART;TZID=America/New_York:20250805T193000
DTEND;TZID=America/New_York:20250805T210000
DTSTAMP:20260424T124504
CREATED:20240522T181907Z
LAST-MODIFIED:20260323T211215Z
UID:10013113-1754422200-1754427600@aasynagogue.org
SUMMARY:Biblical Hebrew Class ▶️
DESCRIPTION:Join us every Tuesday for Biblical Hebrew Class\, led by Hebrew instructor\, Jim Dricker. In this class\, we will cover all aspects of grammar and a well-rounded basic vocabulary. Students set the pace of the program\, and we will proceed as fast or as slow as the majority of the class requests. We might take two years to complete… maybe more… perhaps less! The only prerequisite is the ability to sound out Hebrew words. \nRequired textbook: The First Hebrew Primer: The Adult Beginner's Path to Biblical Hebrew\, Third Edition by Simon\, Resnikoff\, and Motzkin (available on Amazon and other book sellers) \n \n Join Zoom
URL:https://aasynagogue.org/event/biblical-hebrew-class-2/2025-08-05/
LOCATION:GA
CATEGORIES:Adult Education,Learning
ATTACH;FMTTYPE=image/jpeg:https://aasynagogue.org/wp-content/uploads/2020/08/AdobeStock_217894338-scaled-e1596639380820.jpeg
END:VEVENT
BEGIN:VEVENT
DTSTART;TZID=America/New_York:20250806T190000
DTEND;TZID=America/New_York:20250806T200000
DTSTAMP:20260424T124504
CREATED:20241203T202054Z
LAST-MODIFIED:20260323T211128Z
UID:10018529-1754506800-1754510400@aasynagogue.org
SUMMARY:Adult B'nai Mitzvah Course ⏺️
DESCRIPTION:Embark on a Transformative Jewish Journey\nAre you seeking to connect more meaningfully to Judaism by being a link to the centuries-old tradition of reading the Torah? Join our transformative Adult Bnai Mitzvah course! \nThis one-year course will give you the opportunity to learn to read Hebrew and chant from the Torah\, an experience that will connect you to the past generations (l'dor v'dor) of passing down the tradition of keeping the Torah alive through the weekly reading on Shabbat. \nYou will not only be connected to past generations but to Jews around the world\, who read the same words in their communities in France\, Russia\, India\, China\, and everywhere Jews congregate in their communities\, happening at the same time you are reading. \nIn the coming year\, you will: \n\nLearn the skills of reading Hebrew (while learning the meaning of keywords)\nLearn how to chant the words from the Torah\nStudy the weekly text of the Torah (in English) to glean the rich stories that have shaped our tradition\n\nNo previous experience is required! Spaces are limited\, so register today (link below). \nQuestions? Contact Rabbi Laurence Rosenthal (lrosenthal@aasynagogue.org). \n Register
URL:https://aasynagogue.org/event/adult-bnai-mitzvah-course/2025-08-06/
LOCATION:GA
CATEGORIES:Adult Education,Learning
ATTACH;FMTTYPE=image/png:https://aasynagogue.org/wp-content/uploads/2024/12/Graphic-1.png
END:VEVENT
BEGIN:VEVENT
DTSTART;TZID=America/New_York:20250808T190000
DTEND;TZID=America/New_York:20250808T200000
DTSTAMP:20260424T124504
CREATED:20250528T174327Z
LAST-MODIFIED:20250711T022459Z
UID:10018311-1754679600-1754683200@aasynagogue.org
SUMMARY:AAbsolute Shabbat Evening Service Celebrating Camille Weinstein 🔀
DESCRIPTION:Join us for a joyful and soul-stirring AAbsolute Shabbat as we kick off Camille Weinstein's Bat Mitzvah weekend! This special Friday night service will be led by our cherished Ahavath Achim Musicians—Bonnie Levine\, Mindy Margolis\, Michael Levine\, Andy Margolis\, and other gifted members of our community—who will guide us through an evening of spiritual connection and musical inspiration. \nBlending the beauty of traditional Kabbalat Shabbat prayers with beloved contemporary songs\, the service will feature melodies from Simon & Garfunkel\, The Beatles\, U2\, Motown\, Queen\, and more. The result is a heartfelt fusion of the sacred and the familiar—music that speaks to both our faith and our shared cultural soundtrack. Join us for this unforgettable night of celebration\, connection\, and joy\, as we honor Camille and her family and welcome Shabbat in a way that bridges generations\, traditions\, and tunes! \nJoin us in the Sanctuary or via Zoom. \n Join Via Zoom
URL:https://aasynagogue.org/event/shabbat-evening-service-4-3/
LOCATION:Ahavath Achim Synagogue — Epstein Sanctuary\, 600 Peachtree Battle Ave NW\, Atlanta\, GA\, 30327
CATEGORIES:Prayer
ATTACH;FMTTYPE=image/png:https://aasynagogue.org/wp-content/uploads/2025/05/Graphic.png
END:VEVENT
BEGIN:VEVENT
DTSTART;TZID=America/New_York:20250808T201300
DTEND;TZID=America/New_York:20250808T201300
DTSTAMP:20260424T124504
CREATED:20240620T220427Z
LAST-MODIFIED:20240620T220427Z
UID:10013702-1754683980-1754683980@aasynagogue.org
SUMMARY:Candle Lighting
DESCRIPTION:
URL:https://aasynagogue.org/event/candle-lighting-217/
LOCATION:GA
END:VEVENT
BEGIN:VEVENT
DTSTART;TZID=America/New_York:20250809T205500
DTEND;TZID=America/New_York:20250809T205500
DTSTAMP:20260424T124504
CREATED:20240621T015742Z
LAST-MODIFIED:20240621T015742Z
UID:10013898-1754772900-1754772900@aasynagogue.org
SUMMARY:Conclusion of Shabbat
DESCRIPTION:
URL:https://aasynagogue.org/event/conclusion-of-shabbat-189/
LOCATION:GA
END:VEVENT
BEGIN:VEVENT
DTSTART;TZID=America/New_York:20250810T090000
DTEND;TZID=America/New_York:20250810T140000
DTSTAMP:20260424T124504
CREATED:20250626T175520Z
LAST-MODIFIED:20250626T175622Z
UID:10021612-1754816400-1754834400@aasynagogue.org
SUMMARY:Blood Drive ⏺️
DESCRIPTION:Do the mitzvah of donating blood at Ahavath Achim Synagogue's quarterly Blood Drive. Every day\, blood donors help patients of all ages: accident and burn victims\, heart surgery and organ transplant patients\, and those battling cancer. The need for blood is constant! \nThe quarterly Blood Drive is sponsored by Ahavath Achim Synagogue\, Congregation Shearith Israel\, Congregation Or VeShalom\, Atlanta Jewish War Veterans Post 112\, and Fulton Masonic Lodge No. 216. \n Schedule Appointment
URL:https://aasynagogue.org/event/blood-drive-16/
LOCATION:Ahavath Achim Synagogue—Srochi Auditorium\, 600 Peachtree Battle Ave. NW\, Atlanta\, GA\, 30327\, United States
CATEGORIES:Social Action
ATTACH;FMTTYPE=image/jpeg:https://aasynagogue.org/wp-content/uploads/2020/10/american_red_cross_logo-scaled.jpg
GEO:33.8233671;-84.4089772
X-APPLE-STRUCTURED-LOCATION;VALUE=URI;X-ADDRESS=Ahavath Achim Synagogue—Srochi Auditorium 600 Peachtree Battle Ave. NW Atlanta GA 30327 United States;X-APPLE-RADIUS=500;X-TITLE=600 Peachtree Battle Ave. NW:geo:-84.4089772,33.8233671
END:VEVENT
BEGIN:VEVENT
DTSTART;TZID=America/New_York:20250815T200500
DTEND;TZID=America/New_York:20250815T200500
DTSTAMP:20260424T124504
CREATED:20240620T220427Z
LAST-MODIFIED:20240620T220427Z
UID:10013703-1755288300-1755288300@aasynagogue.org
SUMMARY:Candle Lighting
DESCRIPTION:
URL:https://aasynagogue.org/event/candle-lighting-218/
LOCATION:GA
END:VEVENT
BEGIN:VEVENT
DTSTART;TZID=America/New_York:20250816T204800
DTEND;TZID=America/New_York:20250816T204800
DTSTAMP:20260424T124504
CREATED:20240621T015743Z
LAST-MODIFIED:20240621T015743Z
UID:10013899-1755377280-1755377280@aasynagogue.org
SUMMARY:Conclusion of Shabbat
DESCRIPTION:
URL:https://aasynagogue.org/event/conclusion-of-shabbat-190/
LOCATION:GA
END:VEVENT
BEGIN:VEVENT
DTSTART;TZID=America/New_York:20250817T093000
DTEND;TZID=America/New_York:20250817T123000
DTSTAMP:20260424T124504
CREATED:20250205T192638Z
LAST-MODIFIED:20260124T144457Z
UID:10018695-1755423000-1755433800@aasynagogue.org
SUMMARY:Nesiah (7th–9th Grade) ⏺️
DESCRIPTION:Nesiah\, Hebrew for "journey\," is Ahavath Achim Synagogue's on-the-move program for 7th through 9th-grade students. Nesiah runs on a triennial curriculum\, each year exploring a defining era in Jewish history and culminating with a memorable trip. The curriculum is uniquely designed to the needs of day school students and public-school students alike. As students gain a greater understanding of our shared Jewish history\, they also learn more about their own identities and their families' stories. \nThe Nesiah program is generously endowed by the Judith and Aaron z"l Alembik Ahavath Achim Youth Education Program.
URL:https://aasynagogue.org/event/nesiah-7th-9th-grade-2/2025-08-17/
LOCATION:Ahavath Achim Synagogue\, 600 Peachtree Battle Ave NW\, Atlanta\, GA\, 30327
CATEGORIES:Nesiah (7th–9th Grade)
ATTACH;FMTTYPE=image/jpeg:https://aasynagogue.org/wp-content/uploads/2025/02/AdobeStock_1169774681-scaled.jpeg
END:VEVENT
BEGIN:VEVENT
DTSTART;TZID=America/New_York:20250817T100000
DTEND;TZID=America/New_York:20250817T120000
DTSTAMP:20260424T124504
CREATED:20250630T171500Z
LAST-MODIFIED:20250710T170323Z
UID:10021613-1755424800-1755432000@aasynagogue.org
SUMMARY:Mah Jongg and Mingle—Welcoming Ashley Feld ⏺️
DESCRIPTION:Join us as we kick off a new year of Sisterhood with an afternoon of connection\, conversation\, and competition—or just some casual play! Whether you're a seasoned Mah Jongg pro or brand new to the game\, come enjoy an afternoon of snacks\, drinks\, friendly faces\, and fun. We're especially excited to welcome Ashley Feld to our community—and what better way to get to know each other than around the Mah Jongg table? \nIf you have a Mah Jongg set\, please bring it along—we'll have a few available\, but the more\, the merrier! \nThis event is free\, but registration is required by Tuesday\, August 12. \nQuestions? Contact Allison Sofsky (asofsky2@gmail.com). \n Register
URL:https://aasynagogue.org/event/mah-jongg-and-mingle-welcoming-ashley-feld/
LOCATION:Ahavath Achim Synagogue—Cohen-Kogon Pavilion\, 600 Peachtree Battle Ave NW\, Atlanta\, GA\, 30327
CATEGORIES:Sisterhood
ATTACH;FMTTYPE=image/png:https://aasynagogue.org/wp-content/uploads/2025/06/Graphic-scaled.png
END:VEVENT
BEGIN:VEVENT
DTSTART;TZID=America/New_York:20250822T195700
DTEND;TZID=America/New_York:20250822T195700
DTSTAMP:20260424T124504
CREATED:20240620T220440Z
LAST-MODIFIED:20240620T220440Z
UID:10013704-1755892620-1755892620@aasynagogue.org
SUMMARY:Candle Lighting
DESCRIPTION:
URL:https://aasynagogue.org/event/candle-lighting-219/
LOCATION:GA
END:VEVENT
BEGIN:VEVENT
DTSTART;TZID=America/New_York:20250823T203900
DTEND;TZID=America/New_York:20250823T203900
DTSTAMP:20260424T124504
CREATED:20240621T015743Z
LAST-MODIFIED:20240621T015743Z
UID:10013900-1755981540-1755981540@aasynagogue.org
SUMMARY:Conclusion of Shabbat
DESCRIPTION:
URL:https://aasynagogue.org/event/conclusion-of-shabbat-191/
LOCATION:GA
END:VEVENT
BEGIN:VEVENT
DTSTART;VALUE=DATE:20250824
DTEND;VALUE=DATE:20250825
DTSTAMP:20260424T124504
CREATED:20240620T215450Z
LAST-MODIFIED:20240621T013722Z
UID:10013652-1755993600-1756079999@aasynagogue.org
SUMMARY:Rosh Chodesh Elul
DESCRIPTION:Start of month of Elul on the Hebrew calendar
URL:https://aasynagogue.org/event/rosh-chodesh-elul-3/
LOCATION:GA
END:VEVENT
BEGIN:VEVENT
DTSTART;VALUE=DATE:20250825
DTEND;VALUE=DATE:20250826
DTSTAMP:20260424T124504
CREATED:20240620T215452Z
LAST-MODIFIED:20240621T013720Z
UID:10013653-1756080000-1756166399@aasynagogue.org
SUMMARY:Rosh Chodesh Elul
DESCRIPTION:Start of month of Elul on the Hebrew calendar
URL:https://aasynagogue.org/event/rosh-chodesh-elul-4/
LOCATION:GA
END:VEVENT
BEGIN:VEVENT
DTSTART;TZID=America/New_York:20250829T194800
DTEND;TZID=America/New_York:20250829T194800
DTSTAMP:20260424T124504
CREATED:20240620T220441Z
LAST-MODIFIED:20240620T220441Z
UID:10013705-1756496880-1756496880@aasynagogue.org
SUMMARY:Candle Lighting
DESCRIPTION:
URL:https://aasynagogue.org/event/candle-lighting-220/
LOCATION:GA
END:VEVENT
BEGIN:VEVENT
DTSTART;TZID=America/New_York:20250830T203100
DTEND;TZID=America/New_York:20250830T203100
DTSTAMP:20260424T124504
CREATED:20240621T015743Z
LAST-MODIFIED:20240621T015743Z
UID:10013901-1756585860-1756585860@aasynagogue.org
SUMMARY:Conclusion of Shabbat
DESCRIPTION:
URL:https://aasynagogue.org/event/conclusion-of-shabbat-192/
LOCATION:GA
END:VEVENT
BEGIN:VEVENT
DTSTART;TZID=America/New_York:20250905T193900
DTEND;TZID=America/New_York:20250905T193900
DTSTAMP:20260424T124504
CREATED:20240620T220441Z
LAST-MODIFIED:20240620T220441Z
UID:10013706-1757101140-1757101140@aasynagogue.org
SUMMARY:Candle Lighting
DESCRIPTION:
URL:https://aasynagogue.org/event/candle-lighting-221/
LOCATION:GA
END:VEVENT
BEGIN:VEVENT
DTSTART;TZID=America/New_York:20250906T202100
DTEND;TZID=America/New_York:20250906T202100
DTSTAMP:20260424T124505
CREATED:20240621T015744Z
LAST-MODIFIED:20240621T015744Z
UID:10013902-1757190060-1757190060@aasynagogue.org
SUMMARY:Conclusion of Shabbat
DESCRIPTION:
URL:https://aasynagogue.org/event/conclusion-of-shabbat-193/
LOCATION:GA
END:VEVENT
BEGIN:VEVENT
DTSTART;TZID=America/New_York:20250907T164500
DTEND;TZID=America/New_York:20250907T190000
DTSTAMP:20260424T124505
CREATED:20250624T200542Z
LAST-MODIFIED:20250709T155201Z
UID:10021608-1757263500-1757271600@aasynagogue.org
SUMMARY:Mind\, Mystery\, and Sisterhood with Z'havah Sisterhood ⏺️
DESCRIPTION:Join Z'havah Sisterhood for an escape room adventure! Get ready to crack codes\, solve puzzles\, and laugh your way through a one-of-a-kind escape room challenge! It's all about teamwork\, brainpower\, and a little friendly competition. Let's escape the room—and the routine—together! After the 60-minute themed escape room challenge\, we will head over to Superica (across the street) and grab a drink or nosh. \nThe cost to attend is $15 for Sisterhood members and $20 for non-members. The deadline to register is Sunday\, August 31. \nQuestions? Contact Elissa Konter (eskonter@gmail.com) and Rebecca Sokol (sokolrebecca@gmail.com). \n Register
URL:https://aasynagogue.org/event/mind-mystery-and-sisterhood-with-zhavah-sisterhood/
LOCATION:Breakout Games\, 3867 Roswell Rd NE\, Atlanta\, GA\, 30342
CATEGORIES:Sisterhood
ATTACH;FMTTYPE=image/jpeg:https://aasynagogue.org/wp-content/uploads/2025/06/Graphic-scaled.jpg
END:VEVENT
BEGIN:VEVENT
DTSTART;TZID=America/New_York:20250908T101500
DTEND;TZID=America/New_York:20250908T113000
DTSTAMP:20260424T124505
CREATED:20241206T202049Z
LAST-MODIFIED:20250714T171431Z
UID:10018572-1757326500-1757331000@aasynagogue.org
SUMMARY:Naomi's Book Club ▶️
DESCRIPTION:Join Sisterhood on the first Monday of each month for a lively book discussion. September's book is Tom Lake by Ann Patchett\, and Sandybeck Lease will lead the discussion. \nQuestions? Contact Madeleine Gimbel (maddy_gimbel@yahoo.com; 404.355.7711). \n Join Zoom
URL:https://aasynagogue.org/event/naomis-book-club-31-10/
LOCATION:GA
CATEGORIES:Sisterhood
ATTACH;FMTTYPE=image/jpeg:https://aasynagogue.org/wp-content/uploads/2024/12/Tom-Lake.jpg
END:VEVENT
END:VCALENDAR