BEGIN:VCALENDAR
VERSION:2.0
PRODID:-//Ahavath Achim Synagogue - ECPv6.15.20//NONSGML v1.0//EN
CALSCALE:GREGORIAN
METHOD:PUBLISH
X-WR-CALNAME:Ahavath Achim Synagogue
X-ORIGINAL-URL:https://aasynagogue.org
X-WR-CALDESC:Events for Ahavath Achim Synagogue
REFRESH-INTERVAL;VALUE=DURATION:PT1H
X-Robots-Tag:noindex
X-PUBLISHED-TTL:PT1H
BEGIN:VTIMEZONE
TZID:America/New_York
BEGIN:DAYLIGHT
TZOFFSETFROM:-0500
TZOFFSETTO:-0400
TZNAME:EDT
DTSTART:20230312T070000
END:DAYLIGHT
BEGIN:STANDARD
TZOFFSETFROM:-0400
TZOFFSETTO:-0500
TZNAME:EST
DTSTART:20231105T060000
END:STANDARD
BEGIN:DAYLIGHT
TZOFFSETFROM:-0500
TZOFFSETTO:-0400
TZNAME:EDT
DTSTART:20240310T070000
END:DAYLIGHT
BEGIN:STANDARD
TZOFFSETFROM:-0400
TZOFFSETTO:-0500
TZNAME:EST
DTSTART:20241103T060000
END:STANDARD
BEGIN:DAYLIGHT
TZOFFSETFROM:-0500
TZOFFSETTO:-0400
TZNAME:EDT
DTSTART:20250309T070000
END:DAYLIGHT
BEGIN:STANDARD
TZOFFSETFROM:-0400
TZOFFSETTO:-0500
TZNAME:EST
DTSTART:20251102T060000
END:STANDARD
END:VTIMEZONE
BEGIN:VEVENT
DTSTART;VALUE=DATE:20240611
DTEND;VALUE=DATE:20240612
DTSTAMP:20260421T185538
CREATED:20231220T195155Z
LAST-MODIFIED:20240508T180238Z
UID:10012401-1718064000-1718150399@aasynagogue.org
SUMMARY:Erev Shavuot
DESCRIPTION:
URL:https://aasynagogue.org/event/erev-shavuot-2/
LOCATION:GA
END:VEVENT
BEGIN:VEVENT
DTSTART;VALUE=DATE:20240611
DTEND;VALUE=DATE:20240612
DTSTAMP:20260421T185538
CREATED:20240521T180048Z
LAST-MODIFIED:20240521T180048Z
UID:10013045-1718064000-1718150399@aasynagogue.org
SUMMARY:Office Closed at Noon
DESCRIPTION:
URL:https://aasynagogue.org/event/office-closed-at-noon-8/
LOCATION:GA
END:VEVENT
BEGIN:VEVENT
DTSTART;TZID=America/New_York:20240611T180000
DTEND;TZID=America/New_York:20240611T183000
DTSTAMP:20260421T185538
CREATED:20240610T211333Z
LAST-MODIFIED:20240611T224358Z
UID:10013524-1718128800-1718130600@aasynagogue.org
SUMMARY:Mincha/Ma'ariv Service ▶️
DESCRIPTION:Our regular daily mincha / ma'ariv service will take place as usual virtually. Join us for Tikkun Leil Shavuot afterwards – for a PDF version of the Tikkun Leil Shavuot program\, click here. \n Join Via Zoom
URL:https://aasynagogue.org/event/mincha-maariv-service-5/
LOCATION:GA
CATEGORIES:Prayer
END:VEVENT
BEGIN:VEVENT
DTSTART;TZID=America/New_York:20240611T183000
DTEND;TZID=America/New_York:20240612T093000
DTSTAMP:20260421T185538
CREATED:20240412T041305Z
LAST-MODIFIED:20240719T160430Z
UID:10012882-1718130600-1718184600@aasynagogue.org
SUMMARY:Tikkun Leil Shavuot: Singing at Sinai 🔀
DESCRIPTION:Join us for our community's all-night learning in partnership with Congregation Bet Haverim\, Ma'alot\, and 18Doors to celebrate the giving of the Torah. \nWe'll offer multiple in-person and virtual learning tracks and special learning tailored to this year's theme: "Singing at Sinai." The program will kick off with Music in Common's Plenary Session at 7:00 p.m.\, followed by a whole night of breakout sessions (see schedule below)\, a Midnight Kiddush Levana at 12:00 a.m.\, a Sunrise Shacharit Service at 5:30 a.m.\, and Morning Yoga and Mindful Moments at 8:00 a.m. \nThis event is free and open to the community—Come for any or all of the evening or morning events\, in person or virtually! \nClick here for a PDF version of the entire program. \n\n						Program					\n					\n						Click Here					 \n\n						Presenters					\n					\n						Click Here					 \n\n						Community Partners					\n					\n						Click Here
URL:https://aasynagogue.org/event/tikkun-leil-shavuot-singing-at-mount-sinai/
LOCATION:Ahavath Achim Synagogue\, 600 Peachtree Battle Ave NW\, Atlanta\, GA\, 30327
CATEGORIES:Holidays,Kid Friendly,Learning,Prayer
ATTACH;FMTTYPE=image/png:https://aasynagogue.org/wp-content/uploads/2024/04/Graphic-with-text.png
END:VEVENT
BEGIN:VEVENT
DTSTART;TZID=America/New_York:20240611T190000
DTEND;TZID=America/New_York:20240611T210000
DTSTAMP:20260421T185538
CREATED:20240606T205647Z
LAST-MODIFIED:20240611T235236Z
UID:10013482-1718132400-1718139600@aasynagogue.org
SUMMARY:Tikkun Leil Shavuot Opening Program—Music in Common 🔀
DESCRIPTION:Join us in kicking off our Tikkun Leil Shavuot program for a powerful opening program by Music in Common! The program will feature a documentary screening\, dialogue\, and musical performance focused on Music in Common's Israel-Palestine and interfaith work in the U.S. and Middle East. All are welcome to stay the rest of the night (and into the morning) for Tikkun Leil Shavuot: Singing at Sinai!  See the full program here. \nThe documentary filming "From Madness to Music" can be found here. \nThis event is free and open to the community. \n Join Via Zoom
URL:https://aasynagogue.org/event/tikkun-leil-shavuot-opening-program-music-in-common/
LOCATION:Ahavath Achim Synagogue—Paradies Hall\, 600 Peachtree Battle Ave. NW\, Atlanta\, GA\, 30327\, United States
CATEGORIES:Holidays,Kid Friendly,Music
ATTACH;FMTTYPE=image/png:https://aasynagogue.org/wp-content/uploads/2024/06/Music-in-Common.png
GEO:33.8233671;-84.4089772
X-APPLE-STRUCTURED-LOCATION;VALUE=URI;X-ADDRESS=Ahavath Achim Synagogue—Paradies Hall 600 Peachtree Battle Ave. NW Atlanta GA 30327 United States;X-APPLE-RADIUS=500;X-TITLE=600 Peachtree Battle Ave. NW:geo:-84.4089772,33.8233671
END:VEVENT
BEGIN:VEVENT
DTSTART;TZID=America/New_York:20240611T203000
DTEND;TZID=America/New_York:20240611T203000
DTSTAMP:20260421T185538
CREATED:20231220T195011Z
LAST-MODIFIED:20231220T195011Z
UID:10012354-1718137800-1718137800@aasynagogue.org
SUMMARY:Candle Lighting
DESCRIPTION:
URL:https://aasynagogue.org/event/candle-lighting-149/
LOCATION:GA
END:VEVENT
BEGIN:VEVENT
DTSTART;TZID=America/New_York:20240611T210000
DTEND;TZID=America/New_York:20240611T213000
DTSTAMP:20260421T185538
CREATED:20240610T005300Z
LAST-MODIFIED:20240719T160340Z
UID:10013516-1718139600-1718141400@aasynagogue.org
SUMMARY:Festival Ma'ariv Service 🔀
DESCRIPTION:After our plenary session with Music in Common\, we will join together for an Erev Shavuot evening service. \nFor a PDF version of the Tikkun Leil Shavuot program\, click here. \n Join Via Zoom
URL:https://aasynagogue.org/event/festival-maariv-service/
LOCATION:Ahavath Achim Synagogue—Ellman Chapel\, 600 Peachtree Battle Ave NW\, Atlanta\, GA\, 30327\, United States
CATEGORIES:Prayer
GEO:33.8233671;-84.4089772
X-APPLE-STRUCTURED-LOCATION;VALUE=URI;X-ADDRESS=Ahavath Achim Synagogue—Ellman Chapel 600 Peachtree Battle Ave NW Atlanta GA 30327 United States;X-APPLE-RADIUS=500;X-TITLE=600 Peachtree Battle Ave NW:geo:-84.4089772,33.8233671
END:VEVENT
BEGIN:VEVENT
DTSTART;TZID=America/New_York:20240612T000000
DTEND;TZID=America/New_York:20240612T003000
DTSTAMP:20260421T185538
CREATED:20240609T170051Z
LAST-MODIFIED:20240611T140918Z
UID:10013484-1718150400-1718152200@aasynagogue.org
SUMMARY:Midnight Kiddush Levana 🔀
DESCRIPTION:As part of our Tikkun Leil Shavuot program\, join Bonnie and Michael Levine for a musical moon blessing\, singing\, and dancing\, followed by cheesecake at 12:30 p.m. in Paradies Hall. \nYou can join virtually using this link. If you are joining us virtually\, we invite you to go outside where the moon is visible\, from wherever you are! \nFor the Kiddush Levana song sheet click here. \nFor a PDF version of the Tikkun Leil Shavuot program\, click here. \n 
URL:https://aasynagogue.org/event/midnight-kiddush-levana/
LOCATION:Ahavath Achim Synagogue—Garden\, 600 Peachtree Battle Ave NW\, Atlanta\, GA\, 30327
CATEGORIES:Holidays,Music
END:VEVENT
BEGIN:VEVENT
DTSTART;VALUE=DATE:20240612
DTEND;VALUE=DATE:20240613
DTSTAMP:20260421T185538
CREATED:20231220T195343Z
LAST-MODIFIED:20240508T180252Z
UID:10012474-1718150400-1718236799@aasynagogue.org
SUMMARY:Shavuot Day 1
DESCRIPTION:
URL:https://aasynagogue.org/event/shavuot-day-1-2/
LOCATION:GA
END:VEVENT
BEGIN:VEVENT
DTSTART;VALUE=DATE:20240612
DTEND;VALUE=DATE:20240614
DTSTAMP:20260421T185538
CREATED:20240521T180117Z
LAST-MODIFIED:20240521T180117Z
UID:10013046-1718150400-1718323199@aasynagogue.org
SUMMARY:Office Closed
DESCRIPTION:
URL:https://aasynagogue.org/event/office-closed-31/
LOCATION:GA
END:VEVENT
BEGIN:VEVENT
DTSTART;TZID=America/New_York:20240612T080000
DTEND;TZID=America/New_York:20240612T091500
DTSTAMP:20260421T185538
CREATED:20240611T124341Z
LAST-MODIFIED:20240611T141810Z
UID:10013525-1718179200-1718183700@aasynagogue.org
SUMMARY:Morning Yoga and Mindful Moments 🔀
DESCRIPTION:As part of our community Tikkun Leil Shavuot\, join Congregation Bet Haverim's Rebecca Leary Safon for 30 minutes of yoga in our garden\, followed by 30 minutes of Mindful Moments with chant practice.  This yoga session immediately follows our Sunrise Shacharit. Stay afterward for breakfast and Torah stufy. \nThis event is free and open to the community. \nFor a PDF version of the full Tikkun Leil Shavuot program\, click here. \n Join Via Zoom\n 
URL:https://aasynagogue.org/event/morning-yoga-and-mindful-moments-%f0%9f%94%80/
LOCATION:Ahavath Achim Synagogue—Breezeway\, 600 Peachtree Battle Ave NW\, Atlanta\, GA\, 30327
END:VEVENT
BEGIN:VEVENT
DTSTART;TZID=America/New_York:20240612T211400
DTEND;TZID=America/New_York:20240612T211400
DTSTAMP:20260421T185538
CREATED:20231220T195011Z
LAST-MODIFIED:20231220T195011Z
UID:10012355-1718226840-1718226840@aasynagogue.org
SUMMARY:Candle Lighting
DESCRIPTION:
URL:https://aasynagogue.org/event/candle-lighting-150/
LOCATION:GA
END:VEVENT
BEGIN:VEVENT
DTSTART;VALUE=DATE:20240613
DTEND;VALUE=DATE:20240614
DTSTAMP:20260421T185538
CREATED:20231220T195343Z
LAST-MODIFIED:20240508T180305Z
UID:10012475-1718236800-1718323199@aasynagogue.org
SUMMARY:Shavuot Day 2
DESCRIPTION:
URL:https://aasynagogue.org/event/shavuot-day-2-2/
LOCATION:GA
END:VEVENT
BEGIN:VEVENT
DTSTART;TZID=America/New_York:20240613T211500
DTEND;TZID=America/New_York:20240613T211500
DTSTAMP:20260421T185538
CREATED:20231220T195249Z
LAST-MODIFIED:20240529T170409Z
UID:10012430-1718313300-1718313300@aasynagogue.org
SUMMARY:Conclusion of Shavuot
DESCRIPTION:
URL:https://aasynagogue.org/event/conclusion-of-shavuot/
LOCATION:GA
END:VEVENT
BEGIN:VEVENT
DTSTART;TZID=America/New_York:20240614T180000
DTEND;TZID=America/New_York:20240614T190000
DTSTAMP:20260421T185538
CREATED:20240620T211520Z
LAST-MODIFIED:20241011T152149Z
UID:10013608-1718388000-1718391600@aasynagogue.org
SUMMARY:Shabbat Evening Service 🔀
DESCRIPTION:Join us in Ellman Chapel or via Zoom. \n Join Zoom
URL:https://aasynagogue.org/event/shabbat-evening-service/2024-06-14/
LOCATION:Ahavath Achim Synagogue—Ellman Chapel\, 600 Peachtree Battle Ave NW\, Atlanta\, GA\, 30327\, United States
CATEGORIES:Prayer
GEO:33.8233671;-84.4089772
X-APPLE-STRUCTURED-LOCATION;VALUE=URI;X-ADDRESS=Ahavath Achim Synagogue—Ellman Chapel 600 Peachtree Battle Ave NW Atlanta GA 30327 United States;X-APPLE-RADIUS=500;X-TITLE=600 Peachtree Battle Ave NW:geo:-84.4089772,33.8233671
END:VEVENT
BEGIN:VEVENT
DTSTART;TZID=America/New_York:20240614T203200
DTEND;TZID=America/New_York:20240614T203200
DTSTAMP:20260421T185538
CREATED:20231220T195011Z
LAST-MODIFIED:20231220T195011Z
UID:10012356-1718397120-1718397120@aasynagogue.org
SUMMARY:Candle Lighting
DESCRIPTION:
URL:https://aasynagogue.org/event/candle-lighting-151/
LOCATION:GA
END:VEVENT
BEGIN:VEVENT
DTSTART;TZID=America/New_York:20240615T093000
DTEND;TZID=America/New_York:20240615T120000
DTSTAMP:20260421T185538
CREATED:20221020T223252Z
LAST-MODIFIED:20241016T162544Z
UID:10005806-1718443800-1718452800@aasynagogue.org
SUMMARY:Shabbat Morning Service 🔀
DESCRIPTION:Join us in Ellman Chapel or via Zoom. \n Join Zoom
URL:https://aasynagogue.org/event/shabbat-morning-service/2024-06-15/
LOCATION:Ahavath Achim Synagogue—Ellman Chapel\, 600 Peachtree Battle Ave NW\, Atlanta\, GA\, 30327\, United States
CATEGORIES:Prayer
GEO:33.8233671;-84.4089772
X-APPLE-STRUCTURED-LOCATION;VALUE=URI;X-ADDRESS=Ahavath Achim Synagogue—Ellman Chapel 600 Peachtree Battle Ave NW Atlanta GA 30327 United States;X-APPLE-RADIUS=500;X-TITLE=600 Peachtree Battle Ave NW:geo:-84.4089772,33.8233671
END:VEVENT
BEGIN:VEVENT
DTSTART;TZID=America/New_York:20240615T194500
DTEND;TZID=America/New_York:20240615T211500
DTSTAMP:20260421T185538
CREATED:20240529T170146Z
LAST-MODIFIED:20240620T194929Z
UID:10013314-1718480700-1718486100@aasynagogue.org
SUMMARY:Mincha\, Seudah Sheleshet\, Ma'ariv\, Havdallah 🔀
DESCRIPTION:Join us each week as we say goodbye to Shabbat and start the following week anew. Prayer\, Torah reading\, a short study with the rabbi\, a light seudah sheleshet (third meal)\, and a musical havdallah will be part of this experience! \n Join Via Zoom
URL:https://aasynagogue.org/event/mincha-seudah-sheleshet-maariv-havdallah-5/2024-06-15/
LOCATION:Ahavath Achim Synagogue—Ellman Chapel\, 600 Peachtree Battle Ave NW\, Atlanta\, GA\, 30327\, United States
CATEGORIES:Prayer
GEO:33.8233671;-84.4089772
X-APPLE-STRUCTURED-LOCATION;VALUE=URI;X-ADDRESS=Ahavath Achim Synagogue—Ellman Chapel 600 Peachtree Battle Ave NW Atlanta GA 30327 United States;X-APPLE-RADIUS=500;X-TITLE=600 Peachtree Battle Ave NW:geo:-84.4089772,33.8233671
END:VEVENT
BEGIN:VEVENT
DTSTART;TZID=America/New_York:20240615T211500
DTEND;TZID=America/New_York:20240615T211500
DTSTAMP:20260421T185538
CREATED:20231220T195249Z
LAST-MODIFIED:20231220T195249Z
UID:10012431-1718486100-1718486100@aasynagogue.org
SUMMARY:Conclusion of Shabbat
DESCRIPTION:
URL:https://aasynagogue.org/event/conclusion-of-shabbat-130/
LOCATION:GA
END:VEVENT
BEGIN:VEVENT
DTSTART;TZID=America/New_York:20240618T193000
DTEND;TZID=America/New_York:20240618T210000
DTSTAMP:20260421T185538
CREATED:20240522T181907Z
LAST-MODIFIED:20260323T211215Z
UID:10013054-1718739000-1718744400@aasynagogue.org
SUMMARY:Biblical Hebrew Class ▶️
DESCRIPTION:Join us every Tuesday for Biblical Hebrew Class\, led by Hebrew instructor\, Jim Dricker. In this class\, we will cover all aspects of grammar and a well-rounded basic vocabulary. Students set the pace of the program\, and we will proceed as fast or as slow as the majority of the class requests. We might take two years to complete… maybe more… perhaps less! The only prerequisite is the ability to sound out Hebrew words. \nRequired textbook: The First Hebrew Primer: The Adult Beginner's Path to Biblical Hebrew\, Third Edition by Simon\, Resnikoff\, and Motzkin (available on Amazon and other book sellers) \n \n Join Zoom
URL:https://aasynagogue.org/event/biblical-hebrew-class-2/2024-06-18/
LOCATION:GA
CATEGORIES:Adult Education,Learning
ATTACH;FMTTYPE=image/jpeg:https://aasynagogue.org/wp-content/uploads/2020/08/AdobeStock_217894338-scaled-e1596639380820.jpeg
END:VEVENT
BEGIN:VEVENT
DTSTART;VALUE=DATE:20240619
DTEND;VALUE=DATE:20240620
DTSTAMP:20260421T185538
CREATED:20240529T173012Z
LAST-MODIFIED:20240529T173012Z
UID:10013421-1718755200-1718841599@aasynagogue.org
SUMMARY:Juneteenth
DESCRIPTION:
URL:https://aasynagogue.org/event/juneteenth-2/
LOCATION:GA
END:VEVENT
BEGIN:VEVENT
DTSTART;VALUE=DATE:20240619
DTEND;VALUE=DATE:20240620
DTSTAMP:20260421T185538
CREATED:20240529T173036Z
LAST-MODIFIED:20240529T173036Z
UID:10013422-1718755200-1718841599@aasynagogue.org
SUMMARY:Building Closed
DESCRIPTION:
URL:https://aasynagogue.org/event/building-closed/
LOCATION:GA
END:VEVENT
BEGIN:VEVENT
DTSTART;TZID=America/New_York:20240619T190000
DTEND;TZID=America/New_York:20240619T203000
DTSTAMP:20260421T185538
CREATED:20240616T185946Z
LAST-MODIFIED:20240618T173725Z
UID:10013008-1718823600-1718829000@aasynagogue.org
SUMMARY:Meshorerim Rehearsal and Juneteenth Singalong ⏺️
DESCRIPTION:On most Wednesday evenings\, musical ensembles will rehearse performance pieces for the High Holidays. No musical training or Hebrew ability is required. We will gather in Ellman Chapel. \nThis week is Juneteenth: in addition to singing through some of our High Holiday selections\, we will celebrate the Juneteenth holiday by singing some traditional spirituals and anthems of the civil rights movement. \nClick here for the song sheet which includes links to the sheet music. \nIf you are interested in joining our High Holiday meshorerim or a performance ensemble\, please contact the Interim Director of Music and Tefillah: Bonnie Levine (music@aasynagogue.org).
URL:https://aasynagogue.org/event/meshorerim-rehearsal-and-juneteenth-singalong/
LOCATION:Ahavath Achim Synagogue—Ellman Chapel\, 600 Peachtree Battle Ave NW\, Atlanta\, GA\, 30327\, United States
CATEGORIES:Music,Prayer
ATTACH;FMTTYPE=image/jpeg:https://aasynagogue.org/wp-content/uploads/2023/01/Singing-Songs-Voice-Choir-Melody-2.jpg
GEO:33.8233671;-84.4089772
X-APPLE-STRUCTURED-LOCATION;VALUE=URI;X-ADDRESS=Ahavath Achim Synagogue—Ellman Chapel 600 Peachtree Battle Ave NW Atlanta GA 30327 United States;X-APPLE-RADIUS=500;X-TITLE=600 Peachtree Battle Ave NW:geo:-84.4089772,33.8233671
END:VEVENT
BEGIN:VEVENT
DTSTART;TZID=America/New_York:20240621T203300
DTEND;TZID=America/New_York:20240621T203300
DTSTAMP:20260421T185538
CREATED:20231220T195016Z
LAST-MODIFIED:20231220T195016Z
UID:10012357-1719001980-1719001980@aasynagogue.org
SUMMARY:Candle Lighting
DESCRIPTION:
URL:https://aasynagogue.org/event/candle-lighting-152/
LOCATION:GA
END:VEVENT
BEGIN:VEVENT
DTSTART;TZID=America/New_York:20240622T123000
DTEND;TZID=America/New_York:20240622T140000
DTSTAMP:20260421T185538
CREATED:20240617T235517Z
LAST-MODIFIED:20240618T154231Z
UID:10011859-1719059400-1719064800@aasynagogue.org
SUMMARY:Juneteenth Rebbe's Tish with Rabbi Mike Rothbaum ⏺️
DESCRIPTION:Join us during kiddush lunch on Shabbat mornings for Rebbe's Tish where we'll sing\, do a bit of studying and kavanot\, celebrate simchas\, and fulfill the mitzvah of delighting in Shabbat and reciting the blessing after meals! Whether you attended the Shabbat morning service virtually\, in person\, or not at all\, you are welcome to join us—Grab a seat at the square table in the atrium between the Sanctuary and Srochi Auditorium. We'll start around 12:30 p.m. (or ~30 minutes after the service ends) and sing the blessing after meals (Birkat HaMazon) between 1:30 p.m. and 2:00 p.m. \n\n*** \nDuring this tish\, Congregation Bet Haverim's Rabbi Mike Rothbaum will lead a Juneteenth-themed study and song. \n\nQuestions? Contact music@aasynagogue.org.
URL:https://aasynagogue.org/event/juneteenth-rebbes-tish-with-rabbi-mike-rothbaum/
LOCATION:Ahavath Achim Synagogue—Srochi Auditorium\, 600 Peachtree Battle Ave. NW\, Atlanta\, GA\, 30327\, United States
CATEGORIES:Learning,Music
ATTACH;FMTTYPE=image/jpeg:https://aasynagogue.org/wp-content/uploads/2024/06/Juneteenth.jpeg
GEO:33.8233671;-84.4089772
X-APPLE-STRUCTURED-LOCATION;VALUE=URI;X-ADDRESS=Ahavath Achim Synagogue—Srochi Auditorium 600 Peachtree Battle Ave. NW Atlanta GA 30327 United States;X-APPLE-RADIUS=500;X-TITLE=600 Peachtree Battle Ave. NW:geo:-84.4089772,33.8233671
END:VEVENT
BEGIN:VEVENT
DTSTART;TZID=America/New_York:20240622T211700
DTEND;TZID=America/New_York:20240622T211700
DTSTAMP:20260421T185538
CREATED:20231220T195253Z
LAST-MODIFIED:20231220T195253Z
UID:10012432-1719091020-1719091020@aasynagogue.org
SUMMARY:Conclusion of Shabbat
DESCRIPTION:
URL:https://aasynagogue.org/event/conclusion-of-shabbat-131/
LOCATION:GA
END:VEVENT
BEGIN:VEVENT
DTSTART;TZID=America/New_York:20240628T203400
DTEND;TZID=America/New_York:20240628T203400
DTSTAMP:20260421T185538
CREATED:20231220T195017Z
LAST-MODIFIED:20231220T195017Z
UID:10012358-1719606840-1719606840@aasynagogue.org
SUMMARY:Candle Lighting
DESCRIPTION:
URL:https://aasynagogue.org/event/candle-lighting-153/
LOCATION:GA
END:VEVENT
BEGIN:VEVENT
DTSTART;TZID=America/New_York:20240629T211800
DTEND;TZID=America/New_York:20240629T211800
DTSTAMP:20260421T185538
CREATED:20231220T195253Z
LAST-MODIFIED:20231220T195253Z
UID:10012433-1719695880-1719695880@aasynagogue.org
SUMMARY:Conclusion of Shabbat
DESCRIPTION:
URL:https://aasynagogue.org/event/conclusion-of-shabbat-132/
LOCATION:GA
END:VEVENT
BEGIN:VEVENT
DTSTART;TZID=America/New_York:20240630T074500
DTEND;TZID=America/New_York:20240630T160000
DTSTAMP:20260421T185538
CREATED:20240516T190447Z
LAST-MODIFIED:20240606T003524Z
UID:10013032-1719733500-1719763200@aasynagogue.org
SUMMARY:Habitat for Humanity NW Metro Atlanta Interfaith Build ⏺️
DESCRIPTION:Ahavath Achim Synagogue has been a proud participating organization of Habitat for Humanity NW Metro Atlanta's Interfaith Build for over 25 years! This year\, we'll be joining Temple Kol Emett and Temple Sinai for this meaningful mitzvah! Eight volunteers are needed for this year's build. Anyone over the age of 16 can volunteer. \nIf you are interested in participating\, please contact Alan Wexler (alanwexler@databankinfo.com; 404.872.8880; 404.931.8561)\, who will send you more information on the build and how to register.
URL:https://aasynagogue.org/event/habitat-for-humanity-nw-metro-atlanta-interfaith-build/
LOCATION:2024 Habitat for Humanity NW Interfaith Build Site\, 136 Hedges St SE\, Marietta\, GA\, 30008
CATEGORIES:Community Events,Interfaith,Social Action
ATTACH;FMTTYPE=image/jpeg:https://aasynagogue.org/wp-content/uploads/2019/08/Habitat-for-Humanity-horizontal.jpg
END:VEVENT
BEGIN:VEVENT
DTSTART;TZID=America/New_York:20240701T101500
DTEND;TZID=America/New_York:20240701T113000
DTSTAMP:20260421T185538
CREATED:20231206T044031Z
LAST-MODIFIED:20240606T195351Z
UID:10012262-1719828900-1719833400@aasynagogue.org
SUMMARY:Naomi's Book Club 🔀
DESCRIPTION:Join Sisterhood on the first Monday of the month for a lively book discussion. July's book is Uniquely Stella by Deborah M. Menenberg\, and the discussion will be led by Rene Montaigne. \nQuestions? Contact Madeleine Gimbel (maddy_gimbel@yahoo.com; 404.355.7711). \n Join Via Zoom
URL:https://aasynagogue.org/event/naomis-book-club-25/
LOCATION:GA
CATEGORIES:Sisterhood
ATTACH;FMTTYPE=image/jpeg:https://aasynagogue.org/wp-content/uploads/2024/06/Uniquely-Stella.jpg
END:VEVENT
END:VCALENDAR