BEGIN:VCALENDAR
VERSION:2.0
PRODID:-//Ahavath Achim Synagogue - ECPv6.15.20//NONSGML v1.0//EN
CALSCALE:GREGORIAN
METHOD:PUBLISH
X-WR-CALNAME:Ahavath Achim Synagogue
X-ORIGINAL-URL:https://aasynagogue.org
X-WR-CALDESC:Events for Ahavath Achim Synagogue
REFRESH-INTERVAL;VALUE=DURATION:PT1H
X-Robots-Tag:noindex
X-PUBLISHED-TTL:PT1H
BEGIN:VTIMEZONE
TZID:America/New_York
BEGIN:DAYLIGHT
TZOFFSETFROM:-0500
TZOFFSETTO:-0400
TZNAME:EDT
DTSTART:20230312T070000
END:DAYLIGHT
BEGIN:STANDARD
TZOFFSETFROM:-0400
TZOFFSETTO:-0500
TZNAME:EST
DTSTART:20231105T060000
END:STANDARD
BEGIN:DAYLIGHT
TZOFFSETFROM:-0500
TZOFFSETTO:-0400
TZNAME:EDT
DTSTART:20240310T070000
END:DAYLIGHT
BEGIN:STANDARD
TZOFFSETFROM:-0400
TZOFFSETTO:-0500
TZNAME:EST
DTSTART:20241103T060000
END:STANDARD
BEGIN:DAYLIGHT
TZOFFSETFROM:-0500
TZOFFSETTO:-0400
TZNAME:EDT
DTSTART:20250309T070000
END:DAYLIGHT
BEGIN:STANDARD
TZOFFSETFROM:-0400
TZOFFSETTO:-0500
TZNAME:EST
DTSTART:20251102T060000
END:STANDARD
END:VTIMEZONE
BEGIN:VEVENT
DTSTART;VALUE=DATE:20240509
DTEND;VALUE=DATE:20240510
DTSTAMP:20260423T220942
CREATED:20240620T215509Z
LAST-MODIFIED:20240621T013617Z
UID:10013659-1715212800-1715299199@aasynagogue.org
SUMMARY:Rosh Chodesh Iyyar
DESCRIPTION:Start of month of Iyyar on the Hebrew calendar
URL:https://aasynagogue.org/event/rosh-chodesh-iyyar-2/
LOCATION:GA
END:VEVENT
BEGIN:VEVENT
DTSTART;TZID=America/New_York:20240509T183000
DTEND;TZID=America/New_York:20240509T220000
DTSTAMP:20260423T220942
CREATED:20240410T171054Z
LAST-MODIFIED:20240410T171054Z
UID:10012880-1715279400-1715292000@aasynagogue.org
SUMMARY:The Epstein School 50th Anniversary Celebration
DESCRIPTION:The Epstein School is celebrating 50 years of excellence in Jewish education throughout the 2023–24 school year. Founded in 1973 by Rabbi Harry Epstein and a group of thoughtful and visionary leaders from Atlanta's Ahavath Achim Synagogue\, the school has grown and flourished over the last five decades\, providing a welcoming\, nurturing\, and challenging education to students\, infants–8th grade. The celebration will be an experience to remember from the moment you arrive—in the very spot Epstein was founded. The evening's entertainment and delicious dinner will be accentuated by a spectacular silent auction and fund a need. There are many surprises planned—do not miss a minute of this once-in-a-generation celebration! In advance of the Celebration\, please check out Epstein's 50th Anniversary page to interact with their historic timeline\, walk through memories from alumni and past leadership of the school\, and photos from events during their 50th anniversary year. AA is a proud sponsor of this event. \nSchedule: \n\n6:30 p.m.: Registration opens\n7:00 p.m.: Program\nFollowing the Program: Dinner\, Silent Auction\, and Entertainment\n\nThe cost to attend is $180 per person. Please dress in theme—black\, white\, and gold! \n Get Tickets
URL:https://aasynagogue.org/event/the-epstein-school-50th-anniversary-celebration/
LOCATION:Ahavath Achim Synagogue — Epstein Sanctuary\, 600 Peachtree Battle Ave NW\, Atlanta\, GA\, 30327
CATEGORIES:Community Events
ATTACH;FMTTYPE=image/png:https://aasynagogue.org/wp-content/uploads/2024/04/The-Epstein-School-50th-Anniversary-e1712769043236.png
END:VEVENT
BEGIN:VEVENT
DTSTART;TZID=America/New_York:20240510T201000
DTEND;TZID=America/New_York:20240510T201000
DTSTAMP:20260423T220942
CREATED:20231220T194921Z
LAST-MODIFIED:20231220T194921Z
UID:10012349-1715371800-1715371800@aasynagogue.org
SUMMARY:Candle Lighting
DESCRIPTION:
URL:https://aasynagogue.org/event/candle-lighting-144/
LOCATION:GA
END:VEVENT
BEGIN:VEVENT
DTSTART;TZID=America/New_York:20240511T093000
DTEND;TZID=America/New_York:20240511T120000
DTSTAMP:20260423T220942
CREATED:20240418T215255Z
LAST-MODIFIED:20240418T215608Z
UID:10005801-1715419800-1715428800@aasynagogue.org
SUMMARY:Arnovitz Leadership Institute Shabbat 🔀
DESCRIPTION:Join us as we celebrate concluding our latest Arnovitz Leadership Institute with special honors throughout the service! \nPrevious Arnovitz graduates—Please reach out to the Director of Community Connection so we can ensure you are included in the Arnovitz graduate list for future communications: Jackie Nix (404.603.5743; jnix@aasynagogue.org). \n Join Via Zoom
URL:https://aasynagogue.org/event/arnovitz-leadership-institute-shabbat/
LOCATION:Ahavath Achim Synagogue—Ellman Chapel\, 600 Peachtree Battle Ave NW\, Atlanta\, GA\, 30327\, United States
CATEGORIES:Prayer
ATTACH;FMTTYPE=image/png:https://aasynagogue.org/wp-content/uploads/2019/05/Arnovitz-Leadership-Institute.png
GEO:33.8233671;-84.4089772
X-APPLE-STRUCTURED-LOCATION;VALUE=URI;X-ADDRESS=Ahavath Achim Synagogue—Ellman Chapel 600 Peachtree Battle Ave NW Atlanta GA 30327 United States;X-APPLE-RADIUS=500;X-TITLE=600 Peachtree Battle Ave NW:geo:-84.4089772,33.8233671
END:VEVENT
BEGIN:VEVENT
DTSTART;TZID=America/New_York:20240511T193000
DTEND;TZID=America/New_York:20240511T210000
DTSTAMP:20260423T220942
CREATED:20240506T190218Z
LAST-MODIFIED:20240617T185842Z
UID:10012909-1715455800-1715461200@aasynagogue.org
SUMMARY:Mincha\, Seudah Sheleshet\, Ma'ariv\, Havdallah 🔀
DESCRIPTION:Join us each week as we say goodbye to Shabbat and start the following week anew. Prayer\, Torah reading\, a short study with the rabbi\, a light seudah sheleshet (third meal)\, and a musical havdallah will be part of this experience! \n Join Via Zoom
URL:https://aasynagogue.org/event/mincha-seudah-sheleshet-maariv-havdallah-4/2024-05-11/
LOCATION:Ahavath Achim Synagogue—Ellman Chapel\, 600 Peachtree Battle Ave NW\, Atlanta\, GA\, 30327\, United States
CATEGORIES:Prayer
GEO:33.8233671;-84.4089772
X-APPLE-STRUCTURED-LOCATION;VALUE=URI;X-ADDRESS=Ahavath Achim Synagogue—Ellman Chapel 600 Peachtree Battle Ave NW Atlanta GA 30327 United States;X-APPLE-RADIUS=500;X-TITLE=600 Peachtree Battle Ave NW:geo:-84.4089772,33.8233671
END:VEVENT
BEGIN:VEVENT
DTSTART;TZID=America/New_York:20240511T205400
DTEND;TZID=America/New_York:20240511T205400
DTSTAMP:20260423T220942
CREATED:20231220T195242Z
LAST-MODIFIED:20231220T195242Z
UID:10012425-1715460840-1715460840@aasynagogue.org
SUMMARY:Conclusion of Shabbat
DESCRIPTION:
URL:https://aasynagogue.org/event/conclusion-of-shabbat-124/
LOCATION:GA
END:VEVENT
BEGIN:VEVENT
DTSTART;TZID=America/New_York:20240512T103000
DTEND;TZID=America/New_York:20240512T120000
DTSTAMP:20260423T220942
CREATED:20240402T025153Z
LAST-MODIFIED:20240516T174730Z
UID:10012907-1715509800-1715515200@aasynagogue.org
SUMMARY:Meshorerim Melodies ⏺️
DESCRIPTION:All are welcome to join our meshorerim rehearsals! Come to sing or sit in while familiarizing yourself with High Holiday music. While the meshorerim puts together a few small ensembles for specific pieces\, it is not a choir but a vessel for spiritual uplift. No musical experience is required. \nQuestions? Contact Interim Director of Music and Tefillah: Bonnie Levine (blevine@aasynagogue.org).
URL:https://aasynagogue.org/event/meshorerim-melodies/
LOCATION:Ahavath Achim Synagogue — Epstein Sanctuary\, 600 Peachtree Battle Ave NW\, Atlanta\, GA\, 30327
CATEGORIES:Music
ATTACH;FMTTYPE=image/jpeg:https://aasynagogue.org/wp-content/uploads/2023/01/Singing-Songs-Voice-Choir-Melody-2.jpg
END:VEVENT
BEGIN:VEVENT
DTSTART;TZID=America/New_York:20240512T170000
DTEND;TZID=America/New_York:20240512T200000
DTSTAMP:20260423T220942
CREATED:20240404T163342Z
LAST-MODIFIED:20240510T190624Z
UID:10012879-1715533200-1715544000@aasynagogue.org
SUMMARY:Yom HaZikaron Memorial for Israel's Fallen Soldiers and Victims of Terror 🔀
DESCRIPTION:Please join the Consulate General of Israel to the Southeast for a community Yom HaZikaron ceremony honoring Israel's fallen soldiers and victims of terror. Our personal and collective pain is far greater following the murderous terror attack of October 7\, 2023\, and the many lives lost in the war since then.\n \nIf you have lost a loved one in the past or more recently in the war against Hamas\, either as a fallen soldier or victim of terror\, fill out this form with your loved one's name\, and it will be included in the slideshow which will be shown during the commemoration. \nPlease wear a white shirt to honor the fallen. Security check-in begins at 5:00 p.m. Please arrive early to allow sufficient time for security screening. No large bags will be permitted at the entrance\, and no weapons will be allowed. \nThis event is free and open to the community. AA is a proud sponsor of this event. \n Livestream
URL:https://aasynagogue.org/event/yom-hazikaron-memorial-for-israels-fallen-soldiers-and-victims-of-terror/
LOCATION:Ahavath Achim Synagogue\, 600 Peachtree Battle Ave NW\, Atlanta\, GA\, 30327
CATEGORIES:Community Events,Holidays
ATTACH;FMTTYPE=image/jpeg:https://aasynagogue.org/wp-content/uploads/2019/04/yom-hazikaron-e1556649914329.jpg
END:VEVENT
BEGIN:VEVENT
DTSTART;VALUE=DATE:20240513
DTEND;VALUE=DATE:20240514
DTSTAMP:20260423T220942
CREATED:20231220T195402Z
LAST-MODIFIED:20240412T034229Z
UID:10012490-1715558400-1715644799@aasynagogue.org
SUMMARY:Yom HaZikaron
DESCRIPTION:
URL:https://aasynagogue.org/event/yom-hazikaron-2/
LOCATION:GA
CATEGORIES:Holidays
END:VEVENT
BEGIN:VEVENT
DTSTART;TZID=America/New_York:20240513T101500
DTEND;TZID=America/New_York:20240513T113000
DTSTAMP:20260423T220942
CREATED:20231206T043648Z
LAST-MODIFIED:20240404T155346Z
UID:10012260-1715595300-1715599800@aasynagogue.org
SUMMARY:Naomi's Book Club 🔀
DESCRIPTION:Join Sisterhood on the first Monday of the month for a lively book discussion. May's book is Bluebird by Sharon Cameron\, and the discussion will be led by Sandybeck Lease. \nQuestions? Contact Madeleine Gimbel (maddy_gimbel@yahoo.com; 404.355.7711). \n Join Via Zoom
URL:https://aasynagogue.org/event/naomis-book-club-23/
LOCATION:GA
CATEGORIES:Sisterhood
ATTACH;FMTTYPE=image/jpeg:https://aasynagogue.org/wp-content/uploads/2023/12/Bluebird.jpg
END:VEVENT
BEGIN:VEVENT
DTSTART;TZID=America/New_York:20240513T160000
DTEND;TZID=America/New_York:20240513T170000
DTSTAMP:20260423T220942
CREATED:20240221T162728Z
LAST-MODIFIED:20240517T182643Z
UID:10012101-1715616000-1715619600@aasynagogue.org
SUMMARY:mAAc Meets: Current Events with Rabbi Neil Sandler ▶️
DESCRIPTION:Join mAAc members\, fellow congregants\, and Rabbi Neil Sandler twice a month for Rabbi Sandler's current events discussion group! Rabbi Sandler continues to keep us informed about current events affecting the Jewish Community. He teaches us not only to be aware of current events but also to understand them. \n Join Via Zoom
URL:https://aasynagogue.org/event/maac-meets-current-events-with-rabbi-neil-sandler-2-2/2024-05-13/
LOCATION:GA
CATEGORIES:Mature Active Adult Community (mAAc)
ATTACH;FMTTYPE=image/jpeg:https://aasynagogue.org/wp-content/uploads/2023/10/AdobeStock_102269578-scaled.jpeg
END:VEVENT
BEGIN:VEVENT
DTSTART;VALUE=DATE:20240514
DTEND;VALUE=DATE:20240515
DTSTAMP:20260423T220942
CREATED:20231220T195401Z
LAST-MODIFIED:20240412T034234Z
UID:10012488-1715644800-1715731199@aasynagogue.org
SUMMARY:Yom HaAtzma'ut
DESCRIPTION:
URL:https://aasynagogue.org/event/yom-haatzmaut-2/
LOCATION:GA
CATEGORIES:Holidays
END:VEVENT
BEGIN:VEVENT
DTSTART;TZID=America/New_York:20240514T193000
DTEND;TZID=America/New_York:20240514T210000
DTSTAMP:20260423T220942
CREATED:20240522T181907Z
LAST-MODIFIED:20260323T211215Z
UID:10013049-1715715000-1715720400@aasynagogue.org
SUMMARY:Biblical Hebrew Class ▶️
DESCRIPTION:Join us every Tuesday for Biblical Hebrew Class\, led by Hebrew instructor\, Jim Dricker. In this class\, we will cover all aspects of grammar and a well-rounded basic vocabulary. Students set the pace of the program\, and we will proceed as fast or as slow as the majority of the class requests. We might take two years to complete… maybe more… perhaps less! The only prerequisite is the ability to sound out Hebrew words. \nRequired textbook: The First Hebrew Primer: The Adult Beginner's Path to Biblical Hebrew\, Third Edition by Simon\, Resnikoff\, and Motzkin (available on Amazon and other book sellers) \n \n Join Zoom
URL:https://aasynagogue.org/event/biblical-hebrew-class-2/2024-05-14/
LOCATION:GA
CATEGORIES:Adult Education,Learning
ATTACH;FMTTYPE=image/jpeg:https://aasynagogue.org/wp-content/uploads/2020/08/AdobeStock_217894338-scaled-e1596639380820.jpeg
END:VEVENT
BEGIN:VEVENT
DTSTART;TZID=America/New_York:20240515T170000
DTEND;TZID=America/New_York:20240515T180000
DTSTAMP:20260423T220942
CREATED:20231026T183550Z
LAST-MODIFIED:20240521T152908Z
UID:10012191-1715792400-1715796000@aasynagogue.org
SUMMARY:Rabbi Rosenthal's Talmud Class 🔀
DESCRIPTION:Join Rabbi Rosenthal every Wednesday for an exploration into the minds of our rabbis to better understand our modern Jewish world and the innovative process of Rabbinic Judaism. This year we will be studying Tractate Megillah\, Chapter 1 "Megillah Nikret\," understanding the days that different Jewish communities and townships can read the Biblical Book of Esther in celebration of the Purim Holiday. As always\, this study will take us far beyond the holiday of Purim giving us an insight into the lives Jews lived in the past and a better idea of the spiritual life we live today. No experience of Talmud study is needed. We will work in English translation and the conversation will flow from our hearts and minds. \nAlthough an online text will be shared\, Rabbi Rosenthal encourages all students to purchase their own copy of Tractate Megillah. He recommends the Koren Steinsaltz edition. \n Join Via Zoom
URL:https://aasynagogue.org/event/rabbi-rosenthals-talmud-class-2/2024-05-15/
LOCATION:Ahavath Achim Synagogue—Foyer\, 600 Peachtree Battle Ave NW\, Atlanta\, GA\, 30327
CATEGORIES:Learning
END:VEVENT
BEGIN:VEVENT
DTSTART;TZID=America/New_York:20240517T201500
DTEND;TZID=America/New_York:20240517T201500
DTSTAMP:20260423T220942
CREATED:20231220T194921Z
LAST-MODIFIED:20231220T194921Z
UID:10012350-1715976900-1715976900@aasynagogue.org
SUMMARY:Candle Lighting
DESCRIPTION:
URL:https://aasynagogue.org/event/candle-lighting-145/
LOCATION:GA
END:VEVENT
BEGIN:VEVENT
DTSTART;TZID=America/New_York:20240518T123000
DTEND;TZID=America/New_York:20240518T140000
DTSTAMP:20260423T220942
CREATED:20240506T192837Z
LAST-MODIFIED:20240521T160220Z
UID:10011854-1716035400-1716040800@aasynagogue.org
SUMMARY:Pirkei Avot Rebbe's Tish ⏺️
DESCRIPTION:Join us during kiddush lunch on Shabbat mornings from Passover to Shavuot for a special Pirkei Avot Rebbe's Tish. During the period of long Shabbos afternoons in the Omer count period\, we will use our Rebbe's Tish time to observe the tradition of studying Pirkei Avot\, "Ethics of the Fathers." Each week one of our rabbi friends will lead a session covering one chapter per week. \nSchedule: \n\nSaturday\, April 27—Chol HaMoed Chapter 1: Jordan Forman and Rabbi Neil Sandler\nSaturday\, May 4— Pirkei Avot Chapter 2: Rabbi Hillel Norry\nSaturday\, May 11—Israel Exploration Table and Pirkei Avot: Rabbi Laurence Rosenthal\nSaturday\, May 18—Pirkei Avot Chapter 3: Rabbi Laurence Rosenthal\nSaturday\, May 25—Pirkei Avot Chapter 4: Rabbi Michael Rothbaum\nSaturday\, June 1—Pirkei Avot Chapter 5: Rabbi Shulamit Cenker\nSaturday\, June 8—Pirkei Avot Chapter 6: Rabbi Chaim Listfield\n\nQuestions? Contact music@aasynagogue.org.
URL:https://aasynagogue.org/event/pirkei-avot-rebbes-tish/2024-05-18/
LOCATION:Ahavath Achim Synagogue—Srochi Auditorium\, 600 Peachtree Battle Ave. NW\, Atlanta\, GA\, 30327\, United States
CATEGORIES:Learning,Music
ATTACH;FMTTYPE=image/jpeg:https://aasynagogue.org/wp-content/uploads/2017/10/People-Singing-e1598502653135.jpg
GEO:33.8233671;-84.4089772
X-APPLE-STRUCTURED-LOCATION;VALUE=URI;X-ADDRESS=Ahavath Achim Synagogue—Srochi Auditorium 600 Peachtree Battle Ave. NW Atlanta GA 30327 United States;X-APPLE-RADIUS=500;X-TITLE=600 Peachtree Battle Ave. NW:geo:-84.4089772,33.8233671
END:VEVENT
BEGIN:VEVENT
DTSTART;TZID=America/New_York:20240518T210000
DTEND;TZID=America/New_York:20240518T210000
DTSTAMP:20260423T220942
CREATED:20231220T195242Z
LAST-MODIFIED:20231220T195242Z
UID:10012426-1716066000-1716066000@aasynagogue.org
SUMMARY:Conclusion of Shabbat
DESCRIPTION:
URL:https://aasynagogue.org/event/conclusion-of-shabbat-125/
LOCATION:GA
END:VEVENT
BEGIN:VEVENT
DTSTART;TZID=America/New_York:20240519T093000
DTEND;TZID=America/New_York:20240519T130000
DTSTAMP:20260423T220942
CREATED:20240402T013115Z
LAST-MODIFIED:20240405T191650Z
UID:10012864-1716111000-1716123600@aasynagogue.org
SUMMARY:The Great Big Recycling Event ⏺️
DESCRIPTION:Start collecting your unwanted\, hard-to-recycle items for the spring Great Big Recycling Event! The AA Greening Group will take these items to CHaRM (the Center for Hard to Recycle Materials) for you\, keeping harmful contaminants out of landfills. \nPlease bring only the items listed below to the Synagogue's upper parking lot. Greening Group volunteers will help you unload and collect fees and donations (always welcomed). \n\nStyrofoam (e.g.\, old coolers\, appliance packing—must be bagged)\nSmall appliances (e.g.\, toasters\, space heaters)\nComputers and monitors (fee of $20 per item)\nElectric cords\, batteries (no alkaline)\, and chargers\nGlass bottles (clean and dry with no lids)\nBooks (hardcover or paperback—no wire binding)\nPlastic bags (stretchy\, not crackly/bubbly)\nFlorescent tubes (fee of $1 per two tubes)\nCDs and CD cases (separated)\nPlastic containers (with triangular recycling numbers 1\, 2\, 4\, 5\, or 6)\nHousehold chemicals (e.g.\, herbicides\, pesticides\, bug spray\, drain cleaner\, etc.)\nScrap metals\n\nSpring specials! The Greening Group will allow the collection of the following items for the Spring event: \n\nPaint (fee of $1 per gallon/can\, $5 per 5-gallon can)\nPacking peanuts (styrofoam only\, no cornstarch)\nPlastic pill bottles (with recycling numbers 1\, 2\, or 5)\nPlastic film (filmy white or CLEAN food service)\nPlastic cutlery (okay if used but must be clean)\nTowels to be donated to the Fulton County Animal Shelter (not too small—children or adult bath size)\n\nQuestions? Call June Neumark (404.213.7540)\, Patsy Little (770.823.7609)\, or Myrtle Lewin (404.409.3169).
URL:https://aasynagogue.org/event/the-great-big-recycling-event-4/
LOCATION:Ahavath Achim Synagogue—Breezeway\, 600 Peachtree Battle Ave NW\, Atlanta\, GA\, 30327
CATEGORIES:Social Action
ATTACH;FMTTYPE=image/jpeg:https://aasynagogue.org/wp-content/uploads/2017/10/Recycle-Hands-8.5x4.6-1-e1665692664467.png
END:VEVENT
BEGIN:VEVENT
DTSTART;TZID=America/New_York:20240519T133000
DTEND;TZID=America/New_York:20240519T160000
DTSTAMP:20260423T220942
CREATED:20240403T154551Z
LAST-MODIFIED:20240507T224816Z
UID:10012877-1716125400-1716134400@aasynagogue.org
SUMMARY:Breman Museum Exhibition Tour—Absence of Humanity: The Holocaust Years ⏺️
DESCRIPTION:The Ahavath Achim Synagogue Antisemitism Task Force is organizing an outing to The Breman Museum\, which will offer a docent-led tour of its exhibition "Absence of Humanity: The Holocaust Years." This exhibition presents the history of the Holocaust through artifacts and stories of Atlanta area Holocaust survivors. Following the tour\, a Holocaust survivor\, a relative of a survivor\, or a video of a survivor will offer a presentation. Attendance is limited to 60 participants\, and registration is required (link below). Attendees will pay a group rate admission fee upon arrival at the Breman Museum ($5 for seniors and $7 for adults). \n Register
URL:https://aasynagogue.org/event/breman-museum-exhibition-tour-absence-of-humanity-the-holocaust-years/
LOCATION:The Breman Museum\, 1440 Spring St NW\, Atlanta\, GA\, 30309
CATEGORIES:Learning
ATTACH;FMTTYPE=image/jpeg:https://aasynagogue.org/wp-content/uploads/2024/04/D3S_9733-flipped-scaled.jpg
END:VEVENT
BEGIN:VEVENT
DTSTART;TZID=America/New_York:20240521T183000
DTEND;TZID=America/New_York:20240521T203000
DTSTAMP:20260423T220942
CREATED:20240516T183034Z
LAST-MODIFIED:20240520T202133Z
UID:10013029-1716316200-1716323400@aasynagogue.org
SUMMARY:Honeymoon Israel Reset & Refresh Series ⏺️
DESCRIPTION:AA's Interfaith Inclusion Committee invites you to the Honeymoon Reset & Refresh Series! The series is all about providing couples a welcoming Jewish space for self-discovery\, rejuvenation\, and community building. This five-session program uses Shabbat as a compass to explore Jewish life\, deepen relationships\, and make meaningful connections with other couples through engaging conversation\, delicious meals\, and experiential learning. This series will be led by HMI Rabbi Elizabeth Breit in partnership the Jewish Federation of Greater Atlanta's Interfaith Connector. \nThis program will take place as a five-part series: \n\nTuesday\, May 21\, 6:30–8:30 p.m.\nTuesday\, May 28\, 6:30–8:30 p.m.\nTuesday\, June 4\, 6:30–8:30 p.m.\nFriday\, June 14: Shabbat dinner at private home in Sandy Springs (details to follow)\nSaturday\, June 29: Havdallah (end of Shabbat) event (details to follow)\n\nThe cost to register is $72 per couple. Locations of the events will vary to prioritize the geographic convenience of the group. \nSpots are limited. If you are interested in registering for this series\, please contact Rabbi Laurence Rosenthal (lrosenthal@aasynagogue.org; 404.603.5744).
URL:https://aasynagogue.org/event/honeymoon-israel-reset-refresh-series/2024-05-21/
LOCATION:GA
CATEGORIES:Community Events,Interfaith
ATTACH;FMTTYPE=image/jpeg:https://aasynagogue.org/wp-content/uploads/2024/05/9385620-logo.jpg
END:VEVENT
BEGIN:VEVENT
DTSTART;TZID=America/New_York:20240524T202000
DTEND;TZID=America/New_York:20240524T202000
DTSTAMP:20260423T220942
CREATED:20231220T194922Z
LAST-MODIFIED:20231220T194922Z
UID:10012351-1716582000-1716582000@aasynagogue.org
SUMMARY:Candle Lighting
DESCRIPTION:
URL:https://aasynagogue.org/event/candle-lighting-146/
LOCATION:GA
END:VEVENT
BEGIN:VEVENT
DTSTART;TZID=America/New_York:20240525T210500
DTEND;TZID=America/New_York:20240525T210500
DTSTAMP:20260423T220942
CREATED:20231220T195248Z
LAST-MODIFIED:20231220T195248Z
UID:10012427-1716671100-1716671100@aasynagogue.org
SUMMARY:Conclusion of Shabbat
DESCRIPTION:
URL:https://aasynagogue.org/event/conclusion-of-shabbat-126/
LOCATION:GA
END:VEVENT
BEGIN:VEVENT
DTSTART;TZID=America/New_York:20240525T213000
DTEND;TZID=America/New_York:20240525T213000
DTSTAMP:20260423T220942
CREATED:20240411T180947Z
LAST-MODIFIED:20240412T034251Z
UID:10012881-1716672600-1716672600@aasynagogue.org
SUMMARY:Graduation of Jai Jones ⏺️
DESCRIPTION:The community is invited to Jai Jones's graduation party! Jai is the son of our very own Director of Security\, Joe Jones\, and Addis Jones. Jai will be attending Clemson University to study automobile engineering. \nIf you are able to attend\, please RSVP through the link below. \nIf you would like to make a donation toward Jai's college fund\, you can send it via check (made out to Joe Jones and sent to the Synagogue) or via Zelle (404.450.9356/Addis Jones). \n RSVP
URL:https://aasynagogue.org/event/graduation-of-jai-jones/
LOCATION:Ahavath Achim Synagogue—Srochi Auditorium\, 600 Peachtree Battle Ave. NW\, Atlanta\, GA\, 30327\, United States
ATTACH;FMTTYPE=image/jpeg:https://aasynagogue.org/wp-content/uploads/2024/04/Jai-Jones.jpg
GEO:33.8233671;-84.4089772
X-APPLE-STRUCTURED-LOCATION;VALUE=URI;X-ADDRESS=Ahavath Achim Synagogue—Srochi Auditorium 600 Peachtree Battle Ave. NW Atlanta GA 30327 United States;X-APPLE-RADIUS=500;X-TITLE=600 Peachtree Battle Ave. NW:geo:-84.4089772,33.8233671
END:VEVENT
BEGIN:VEVENT
DTSTART;VALUE=DATE:20240526
DTEND;VALUE=DATE:20240527
DTSTAMP:20260423T220942
CREATED:20231220T195325Z
LAST-MODIFIED:20240412T034242Z
UID:10012460-1716681600-1716767999@aasynagogue.org
SUMMARY:Lag BaOmer
DESCRIPTION:
URL:https://aasynagogue.org/event/lag-baomer/
LOCATION:GA
CATEGORIES:Holidays
END:VEVENT
BEGIN:VEVENT
DTSTART;TZID=America/New_York:20240526T190000
DTEND;TZID=America/New_York:20240526T210000
DTSTAMP:20260423T220942
CREATED:20240418T212151Z
LAST-MODIFIED:20240524T010912Z
UID:10012904-1716750000-1716757200@aasynagogue.org
SUMMARY:Lag B'Omer Fireside Chat ⏺️
DESCRIPTION:Exploring the Future of AA and Spiritual Music\nJoin Rabbi Laurence Rosenthal and our Meshorerim (spiritual singers) for an evening of music! We'll discuss AA's vision for the future and how music will be our path toward community\, tradition\, and God. Come with an open heart and your passion for our Jewish future. \nSchedule: \n\n\n7:00 p.m.: Schmooze\, fire building\, s'mores for kids\, and chill singing\n\n\n7:40 p.m.: Panel discussion\n\n\n8:40 p.m.: Singing and closing\n\n\nThis event is free and open to the community. \nQuestions? Contact Rabbi Laurence Rosenthal (404.603.5744; lrosenthal@aasynagogue.org).
URL:https://aasynagogue.org/event/lag-bomer-fireside-chat/
LOCATION:The Home of Steve and Heleen Grossman\, 5170 Trimble Rd NE\, Atlanta\, GA\, 30342
CATEGORIES:Holidays,Kid Friendly,Music,Prayer
ATTACH;FMTTYPE=image/jpeg:https://aasynagogue.org/wp-content/uploads/2024/04/Lag-BOmer.jpg
END:VEVENT
BEGIN:VEVENT
DTSTART;VALUE=DATE:20240527
DTEND;VALUE=DATE:20240528
DTSTAMP:20260423T220942
CREATED:20240521T175711Z
LAST-MODIFIED:20240521T175820Z
UID:10013041-1716768000-1716854399@aasynagogue.org
SUMMARY:Memorial Day
DESCRIPTION:
URL:https://aasynagogue.org/event/memorial-day-2/
LOCATION:GA
END:VEVENT
BEGIN:VEVENT
DTSTART;VALUE=DATE:20240527
DTEND;VALUE=DATE:20240528
DTSTAMP:20260423T220942
CREATED:20240521T175740Z
LAST-MODIFIED:20240521T175740Z
UID:10013042-1716768000-1716854399@aasynagogue.org
SUMMARY:Office Closed
DESCRIPTION:
URL:https://aasynagogue.org/event/office-closed-29/
LOCATION:GA
END:VEVENT
BEGIN:VEVENT
DTSTART;TZID=America/New_York:20240531T202500
DTEND;TZID=America/New_York:20240531T202500
DTSTAMP:20260423T220942
CREATED:20231220T195010Z
LAST-MODIFIED:20231220T195010Z
UID:10012352-1717187100-1717187100@aasynagogue.org
SUMMARY:Candle Lighting
DESCRIPTION:
URL:https://aasynagogue.org/event/candle-lighting-147/
LOCATION:GA
END:VEVENT
BEGIN:VEVENT
DTSTART;TZID=America/New_York:20240601T210900
DTEND;TZID=America/New_York:20240601T210900
DTSTAMP:20260423T220942
CREATED:20231220T195249Z
LAST-MODIFIED:20231220T195249Z
UID:10012428-1717276140-1717276140@aasynagogue.org
SUMMARY:Conclusion of Shabbat
DESCRIPTION:
URL:https://aasynagogue.org/event/conclusion-of-shabbat-127/
LOCATION:GA
END:VEVENT
BEGIN:VEVENT
DTSTART;VALUE=DATE:20240607
DTEND;VALUE=DATE:20240608
DTSTAMP:20260423T220942
CREATED:20240621T012642Z
LAST-MODIFIED:20240621T013316Z
UID:10013840-1717718400-1717804799@aasynagogue.org
SUMMARY:Rosh Chodesh Sivan
DESCRIPTION:Start of month of Sivan on the Hebrew calendar
URL:https://aasynagogue.org/event/rosh-chodesh-sivan/
LOCATION:GA
END:VEVENT
END:VCALENDAR