BEGIN:VCALENDAR
VERSION:2.0
PRODID:-//Ahavath Achim Synagogue - ECPv6.15.20//NONSGML v1.0//EN
CALSCALE:GREGORIAN
METHOD:PUBLISH
X-ORIGINAL-URL:https://aasynagogue.org
X-WR-CALDESC:Events for Ahavath Achim Synagogue
REFRESH-INTERVAL;VALUE=DURATION:PT1H
X-Robots-Tag:noindex
X-PUBLISHED-TTL:PT1H
BEGIN:VTIMEZONE
TZID:America/New_York
BEGIN:DAYLIGHT
TZOFFSETFROM:-0500
TZOFFSETTO:-0400
TZNAME:EDT
DTSTART:20250309T070000
END:DAYLIGHT
BEGIN:STANDARD
TZOFFSETFROM:-0400
TZOFFSETTO:-0500
TZNAME:EST
DTSTART:20251102T060000
END:STANDARD
BEGIN:DAYLIGHT
TZOFFSETFROM:-0500
TZOFFSETTO:-0400
TZNAME:EDT
DTSTART:20260308T070000
END:DAYLIGHT
BEGIN:STANDARD
TZOFFSETFROM:-0400
TZOFFSETTO:-0500
TZNAME:EST
DTSTART:20261101T060000
END:STANDARD
BEGIN:DAYLIGHT
TZOFFSETFROM:-0500
TZOFFSETTO:-0400
TZNAME:EDT
DTSTART:20270314T070000
END:DAYLIGHT
BEGIN:STANDARD
TZOFFSETFROM:-0400
TZOFFSETTO:-0500
TZNAME:EST
DTSTART:20271107T060000
END:STANDARD
END:VTIMEZONE
BEGIN:VEVENT
DTSTART;TZID=America/New_York:20260306T180000
DTEND;TZID=America/New_York:20260306T190000
DTSTAMP:20260424T102043
CREATED:20251106T024405Z
LAST-MODIFIED:20251212T190246Z
UID:10022774-1772820000-1772823600@aasynagogue.org
SUMMARY:Shabbat Evening Service 🔀
DESCRIPTION:Join us in Ellman Chapel or via Zoom. \n Join Via Zoom
URL:https://aasynagogue.org/event/shabbat-evening-service-4-4-3-2/2026-03-06/
LOCATION:Ahavath Achim Synagogue—Ellman Chapel\, 600 Peachtree Battle Ave NW\, Atlanta\, GA\, 30327\, United States
CATEGORIES:Shabbat
ATTACH;FMTTYPE=image/jpeg:https://aasynagogue.org/wp-content/uploads/2021/04/Shabbat-8.jpg
GEO:33.8233671;-84.4089772
X-APPLE-STRUCTURED-LOCATION;VALUE=URI;X-ADDRESS=Ahavath Achim Synagogue—Ellman Chapel 600 Peachtree Battle Ave NW Atlanta GA 30327 United States;X-APPLE-RADIUS=500;X-TITLE=600 Peachtree Battle Ave NW:geo:-84.4089772,33.8233671
END:VEVENT
BEGIN:VEVENT
DTSTART;TZID=America/New_York:20260307T103000
DTEND;TZID=America/New_York:20260307T113000
DTSTAMP:20260424T102043
CREATED:20260219T122618Z
LAST-MODIFIED:20260325T213806Z
UID:10023653-1772879400-1772883000@aasynagogue.org
SUMMARY:Torah Study 🔀
DESCRIPTION:TORAH \nSTUDY \nWhere lay leaders\, rabbis\, and congregants lead lively discussions about the weekly Parashat. \nJoin us every Shabbat morning for Torah Study\, where lay leaders\, rabbis\, and congregants lead lively discussions about the weekly Parashat. This discussion requires no special knowledge and is designed to deepen your understanding and appreciation of the Torah and the wisdom of our Sages. \n\nSource Sheet\n \nQuestions? Contact the chair:\nMichael Miller – mgmiller@sloan.mit.edu \n \nIn-Person @\nCavalier Room \n+ Online \n\nJoin Zoom
URL:https://aasynagogue.org/event/torah-study-v2/2026-03-07/
LOCATION:Ahavath Achim Synagogue—Cavalier Room\, 600 Peachtree Battle Ave NW\, Atlanta\, GA\, 30327
CATEGORIES:Adult Education,Learning,Shabbat
ATTACH;FMTTYPE=image/jpeg:https://aasynagogue.org/wp-content/uploads/2018/02/IMG_2149-e1518714512153-3-e1759173431500.jpg
GEO:33.8233671;-84.4089772
X-APPLE-STRUCTURED-LOCATION;VALUE=URI;X-ADDRESS=Ahavath Achim Synagogue—Cavalier Room 600 Peachtree Battle Ave NW Atlanta GA 30327;X-APPLE-RADIUS=500;X-TITLE=600 Peachtree Battle Ave NW:geo:-84.4089772,33.8233671
END:VEVENT
BEGIN:VEVENT
DTSTART;TZID=America/New_York:20260307T130000
DTEND;TZID=America/New_York:20260307T143000
DTSTAMP:20260424T102043
CREATED:20260306T205829Z
LAST-MODIFIED:20260310T152016Z
UID:10025987-1772888400-1772893800@aasynagogue.org
SUMMARY:🔀 Israel Exploration Table
DESCRIPTION:ISRAEL\nExploration\ntable \nWe must share and live our story\, and that begins with learning it. \nWe are invited to embrace this opportunity. \nIn-Person: Paradies Hall\nVirtual: Zoom \n\nJOIN ZOOM\n \nJoin us in a thoughtful discussion at our Israel Exploration Table\, during Shabbat kiddush lunch\, in Paradies Hall\, or on Zoom. \n\nACCESS SOURCE MATERIAL
URL:https://aasynagogue.org/event/israel-exploration-table/
LOCATION:Ahavath Achim Synagogue—Paradies Hall\, 600 Peachtree Battle Ave. NW\, Atlanta\, GA\, 30327\, United States
CATEGORIES:Adult Education,Learning,Shabbat
ATTACH;FMTTYPE=image/jpeg:https://aasynagogue.org/wp-content/uploads/2023/10/Israeli-Flag.jpg
GEO:33.8233671;-84.4089772
X-APPLE-STRUCTURED-LOCATION;VALUE=URI;X-ADDRESS=Ahavath Achim Synagogue—Paradies Hall 600 Peachtree Battle Ave. NW Atlanta GA 30327 United States;X-APPLE-RADIUS=500;X-TITLE=600 Peachtree Battle Ave. NW:geo:-84.4089772,33.8233671
END:VEVENT
BEGIN:VEVENT
DTSTART;TZID=America/New_York:20260307T173000
DTEND;TZID=America/New_York:20260307T193000
DTSTAMP:20260424T102043
CREATED:20251020T141351Z
LAST-MODIFIED:20260401T191603Z
UID:10025983-1772904600-1772911800@aasynagogue.org
SUMMARY:Mincha/Seudah Sheleshet/Ma'ariv/Havdallah 🔀
DESCRIPTION:Join us each week as we say goodbye to Shabbat and start the following week anew. Prayer\, Torah reading\, a short study with the rabbi\, a light seudah sheleshet (third meal)\, and a musical havdallah will be part of this experience! \nJoin us in Ellman Chapel or via Zoom. Join Zoom
URL:https://aasynagogue.org/event/mincha-seudah-sheleshet-maariv-havdallah-17-3-3/2026-03-07/
LOCATION:Ahavath Achim Synagogue—Ellman Chapel\, 600 Peachtree Battle Ave NW\, Atlanta\, GA\, 30327\, United States
CATEGORIES:Shabbat
GEO:33.8233671;-84.4089772
X-APPLE-STRUCTURED-LOCATION;VALUE=URI;X-ADDRESS=Ahavath Achim Synagogue—Ellman Chapel 600 Peachtree Battle Ave NW Atlanta GA 30327 United States;X-APPLE-RADIUS=500;X-TITLE=600 Peachtree Battle Ave NW:geo:-84.4089772,33.8233671
END:VEVENT
BEGIN:VEVENT
DTSTART;TZID=America/New_York:20260313T180000
DTEND;TZID=America/New_York:20260313T190000
DTSTAMP:20260424T102043
CREATED:20251020T142530Z
LAST-MODIFIED:20260312T155359Z
UID:10026058-1773424800-1773428400@aasynagogue.org
SUMMARY:Meshorerim Shabbat Service 🔀
DESCRIPTION:Each month\, gather with us in Epstein Sanctuary (or via Zoom) for one Friday evening and one Saturday morning Shabbat service\, both led by our inspiring meshorerim! \n Join Friday Evening Zoom\n Join Saturday Morning Zoom
URL:https://aasynagogue.org/event/meshorerim-shabbat-service-2/2026-03-13/
LOCATION:Ahavath Achim Synagogue\, 600 Peachtree Battle Ave NW\, Atlanta\, GA\, 30327
CATEGORIES:Music,Prayer,Shabbat
ATTACH;FMTTYPE=image/jpeg:https://aasynagogue.org/wp-content/uploads/2023/01/Singing-Songs-Voice-Choir-Melody-2.jpg
END:VEVENT
BEGIN:VEVENT
DTSTART;TZID=America/New_York:20260313T180000
DTEND;TZID=America/New_York:20260313T190000
DTSTAMP:20260424T102043
CREATED:20260323T184124Z
LAST-MODIFIED:20260323T184128Z
UID:10021671-1773424800-1773428400@aasynagogue.org
SUMMARY:Meshorerim Shabbat Service 🔀
DESCRIPTION:Each month\, gather with us in-person or virtually for one Friday evening and one Saturday morning Shabbat service\, as we pray together in song led by our inspiring meshorerim. \n Join Friday Evening Zoom\n Join Saturday Morning Zoom
URL:https://aasynagogue.org/event/meshorerim-shabbat-service-2-2/
LOCATION:Ahavath Achim Synagogue\, 600 Peachtree Battle Ave NW\, Atlanta\, GA\, 30327
CATEGORIES:Music,Prayer,Shabbat
ATTACH;FMTTYPE=image/jpeg:https://aasynagogue.org/wp-content/uploads/2023/01/Singing-Songs-Voice-Choir-Melody-2.jpg
END:VEVENT
BEGIN:VEVENT
DTSTART;TZID=America/New_York:20260314T103000
DTEND;TZID=America/New_York:20260314T113000
DTSTAMP:20260424T102043
CREATED:20260314T135707Z
LAST-MODIFIED:20260314T140030Z
UID:10023654-1773484200-1773487800@aasynagogue.org
SUMMARY:Torah Study 🔀
DESCRIPTION:TORAH \nSTUDY \nWhere lay leaders\, rabbis\, and congregants lead lively discussions about the weekly Parashat. \nJoin us every Shabbat morning for Torah Study\, where lay leaders\, rabbis\, and congregants lead lively discussions about the weekly Parashat. This discussion requires no special knowledge and is designed to deepen your understanding and appreciation of the Torah and the wisdom of our Sages. \n\nSource Sheet\n \nQuestions? Contact the chair:\nMichael Miller – mgmiller@sloan.mit.edu \n \nIn-Person @\nCavalier Room \n+ Online \n\nJoin Zoom
URL:https://aasynagogue.org/event/torah-study-%f0%9f%94%80-3/
LOCATION:Ahavath Achim Synagogue—Cavalier Room\, 600 Peachtree Battle Ave NW\, Atlanta\, GA\, 30327
CATEGORIES:Learning,Shabbat
ATTACH;FMTTYPE=image/png:https://aasynagogue.org/wp-content/uploads/2018/07/Torah-Scroll-vector-e1546635814931.png
GEO:33.8233671;-84.4089772
X-APPLE-STRUCTURED-LOCATION;VALUE=URI;X-ADDRESS=Ahavath Achim Synagogue—Cavalier Room 600 Peachtree Battle Ave NW Atlanta GA 30327;X-APPLE-RADIUS=500;X-TITLE=600 Peachtree Battle Ave NW:geo:-84.4089772,33.8233671
END:VEVENT
BEGIN:VEVENT
DTSTART;TZID=America/New_York:20260314T184500
DTEND;TZID=America/New_York:20260314T204500
DTSTAMP:20260424T102043
CREATED:20251020T141351Z
LAST-MODIFIED:20260401T191603Z
UID:10025984-1773513900-1773521100@aasynagogue.org
SUMMARY:Mincha/Seudah Sheleshet/Ma'ariv/Havdallah 🔀
DESCRIPTION:Join us each week as we say goodbye to Shabbat and start the following week anew. Prayer\, Torah reading\, a short study with the rabbi\, a light seudah sheleshet (third meal)\, and a musical havdallah will be part of this experience! \nJoin us in Ellman Chapel or via Zoom. Join Zoom
URL:https://aasynagogue.org/event/mincha-seudah-sheleshet-maariv-havdallah-17-3-3/2026-03-14/
LOCATION:Ahavath Achim Synagogue—Ellman Chapel\, 600 Peachtree Battle Ave NW\, Atlanta\, GA\, 30327\, United States
CATEGORIES:Shabbat
GEO:33.8233671;-84.4089772
X-APPLE-STRUCTURED-LOCATION;VALUE=URI;X-ADDRESS=Ahavath Achim Synagogue—Ellman Chapel 600 Peachtree Battle Ave NW Atlanta GA 30327 United States;X-APPLE-RADIUS=500;X-TITLE=600 Peachtree Battle Ave NW:geo:-84.4089772,33.8233671
END:VEVENT
BEGIN:VEVENT
DTSTART;TZID=America/New_York:20260320T181500
DTEND;TZID=America/New_York:20260320T190000
DTSTAMP:20260424T102043
CREATED:20260316T010931Z
LAST-MODIFIED:20260316T010934Z
UID:10022775-1774030500-1774033200@aasynagogue.org
SUMMARY:Shabbat Evening Service 🔀
DESCRIPTION:Join us in Ellman Chapel or via Zoom. \n Join Via Zoom
URL:https://aasynagogue.org/event/shabbat-evening-service-4-4-3-2-2/
LOCATION:Ahavath Achim Synagogue—Ellman Chapel\, 600 Peachtree Battle Ave NW\, Atlanta\, GA\, 30327\, United States
CATEGORIES:Shabbat
ATTACH;FMTTYPE=image/jpeg:https://aasynagogue.org/wp-content/uploads/2021/04/Shabbat-8.jpg
GEO:33.8233671;-84.4089772
X-APPLE-STRUCTURED-LOCATION;VALUE=URI;X-ADDRESS=Ahavath Achim Synagogue—Ellman Chapel 600 Peachtree Battle Ave NW Atlanta GA 30327 United States;X-APPLE-RADIUS=500;X-TITLE=600 Peachtree Battle Ave NW:geo:-84.4089772,33.8233671
END:VEVENT
BEGIN:VEVENT
DTSTART;TZID=America/New_York:20260321T100000
DTEND;TZID=America/New_York:20260321T100000
DTSTAMP:20260424T102043
CREATED:20260316T193842Z
LAST-MODIFIED:20260320T183614Z
UID:10023655-1774087200-1774087200@aasynagogue.org
SUMMARY:Torah Study 🔀
DESCRIPTION:TORAH \nSTUDY \nWhere lay leaders\, rabbis\, and congregants lead lively discussions about the weekly Parashat. \nJoin us every Shabbat morning for Torah Study\, where lay leaders\, rabbis\, and congregants lead lively discussions about the weekly Parashat. This discussion requires no special knowledge and is designed to deepen your understanding and appreciation of the Torah and the wisdom of our Sages. \n\nSource Sheet\n \nQuestions? Contact the chair:\nMichael Miller – mgmiller@sloan.mit.edu \n \nIn-Person @\nCavalier Room \n+ Online \n\nJoin Zoom
URL:https://aasynagogue.org/event/torah-study-v2-2/
LOCATION:Ahavath Achim Synagogue—Cavalier Room\, 600 Peachtree Battle Ave NW\, Atlanta\, GA\, 30327
CATEGORIES:Adult Education,Shabbat
ATTACH;FMTTYPE=image/png:https://aasynagogue.org/wp-content/uploads/2018/07/Torah-Scroll-vector-e1546635814931.png
GEO:33.8233671;-84.4089772
X-APPLE-STRUCTURED-LOCATION;VALUE=URI;X-ADDRESS=Ahavath Achim Synagogue—Cavalier Room 600 Peachtree Battle Ave NW Atlanta GA 30327;X-APPLE-RADIUS=500;X-TITLE=600 Peachtree Battle Ave NW:geo:-84.4089772,33.8233671
END:VEVENT
BEGIN:VEVENT
DTSTART;TZID=America/New_York:20260321T184500
DTEND;TZID=America/New_York:20260321T204500
DTSTAMP:20260424T102043
CREATED:20251020T141351Z
LAST-MODIFIED:20260401T191603Z
UID:10025985-1774118700-1774125900@aasynagogue.org
SUMMARY:Mincha/Seudah Sheleshet/Ma'ariv/Havdallah 🔀
DESCRIPTION:Join us each week as we say goodbye to Shabbat and start the following week anew. Prayer\, Torah reading\, a short study with the rabbi\, a light seudah sheleshet (third meal)\, and a musical havdallah will be part of this experience! \nJoin us in Ellman Chapel or via Zoom. Join Zoom
URL:https://aasynagogue.org/event/mincha-seudah-sheleshet-maariv-havdallah-17-3-3/2026-03-21/
LOCATION:Ahavath Achim Synagogue—Ellman Chapel\, 600 Peachtree Battle Ave NW\, Atlanta\, GA\, 30327\, United States
CATEGORIES:Shabbat
GEO:33.8233671;-84.4089772
X-APPLE-STRUCTURED-LOCATION;VALUE=URI;X-ADDRESS=Ahavath Achim Synagogue—Ellman Chapel 600 Peachtree Battle Ave NW Atlanta GA 30327 United States;X-APPLE-RADIUS=500;X-TITLE=600 Peachtree Battle Ave NW:geo:-84.4089772,33.8233671
END:VEVENT
BEGIN:VEVENT
DTSTART;TZID=America/New_York:20260327T180000
DTEND;TZID=America/New_York:20260327T190000
DTSTAMP:20260424T102043
CREATED:20251106T024405Z
LAST-MODIFIED:20251212T190246Z
UID:10022776-1774634400-1774638000@aasynagogue.org
SUMMARY:Shabbat Evening Service 🔀
DESCRIPTION:Join us in Ellman Chapel or via Zoom. \n Join Via Zoom
URL:https://aasynagogue.org/event/shabbat-evening-service-4-4-3-2/2026-03-27/
LOCATION:Ahavath Achim Synagogue—Ellman Chapel\, 600 Peachtree Battle Ave NW\, Atlanta\, GA\, 30327\, United States
CATEGORIES:Shabbat
ATTACH;FMTTYPE=image/jpeg:https://aasynagogue.org/wp-content/uploads/2021/04/Shabbat-8.jpg
GEO:33.8233671;-84.4089772
X-APPLE-STRUCTURED-LOCATION;VALUE=URI;X-ADDRESS=Ahavath Achim Synagogue—Ellman Chapel 600 Peachtree Battle Ave NW Atlanta GA 30327 United States;X-APPLE-RADIUS=500;X-TITLE=600 Peachtree Battle Ave NW:geo:-84.4089772,33.8233671
END:VEVENT
BEGIN:VEVENT
DTSTART;TZID=America/New_York:20260328T093000
DTEND;TZID=America/New_York:20260328T120000
DTSTAMP:20260424T102043
CREATED:20250604T185420Z
LAST-MODIFIED:20260323T221410Z
UID:10018975-1774690200-1774699200@aasynagogue.org
SUMMARY:Shabbat Morning Service—Bar Mitzvah of Ryan Posner 🔀
DESCRIPTION:Join us in the Sanctuary or via Zoom. \n Join Via Zoom
URL:https://aasynagogue.org/event/shabbat-morning-service-bar-mitzvah-of-ryan-posner/
LOCATION:Ahavath Achim Synagogue — Epstein Sanctuary\, 600 Peachtree Battle Ave NW\, Atlanta\, GA\, 30327
CATEGORIES:Prayer,Shabbat
END:VEVENT
BEGIN:VEVENT
DTSTART;TZID=America/New_York:20260328T103000
DTEND;TZID=America/New_York:20260328T113000
DTSTAMP:20260424T102043
CREATED:20260326T201353Z
LAST-MODIFIED:20260326T201425Z
UID:10023656-1774693800-1774697400@aasynagogue.org
SUMMARY:Torah Study 🔀
DESCRIPTION:TORAH STUDY\nWhere lay leaders\, rabbis\, and congregants lead lively discussions about the weekly Parashat.\nJoin us every Shabbat morning for Torah Study\, where lay leaders\, rabbis\, and congregants lead lively discussions about the weekly Parashat. This discussion requires no special knowledge and is designed to deepen your understanding and appreciation of the Torah and the wisdom of our Sages. \nIn-Person: Cavalier Room\nOnline:  Zoom \n\nWeekly Source Sheet (When Applicable)\n \nQuestions? Contact the chair:\nMichael Miller – mgmiller@sloan.mit.edu
URL:https://aasynagogue.org/event/torah-study-v2-3-2/
LOCATION:Ahavath Achim Synagogue—Cavalier Room\, 600 Peachtree Battle Ave NW\, Atlanta\, GA\, 30327
CATEGORIES:Adult Education,Learning,Shabbat
ATTACH;FMTTYPE=image/jpeg:https://aasynagogue.org/wp-content/uploads/2018/02/IMG_2149-e1518714512153-3-e1759173431500.jpg
GEO:33.8233671;-84.4089772
X-APPLE-STRUCTURED-LOCATION;VALUE=URI;X-ADDRESS=Ahavath Achim Synagogue—Cavalier Room 600 Peachtree Battle Ave NW Atlanta GA 30327;X-APPLE-RADIUS=500;X-TITLE=600 Peachtree Battle Ave NW:geo:-84.4089772,33.8233671
END:VEVENT
BEGIN:VEVENT
DTSTART;TZID=America/New_York:20260328T130000
DTEND;TZID=America/New_York:20260328T130000
DTSTAMP:20260424T102043
CREATED:20260326T195213Z
LAST-MODIFIED:20260326T203353Z
UID:10026149-1774702800-1774702800@aasynagogue.org
SUMMARY:Israel Exploration Table
DESCRIPTION:Israel Exploration Table\nWe must share and live our story\, and that begins with learning it.\nWe are invited to embrace this opportunity.\nIn Person: Paradies Hall\nOnline:  + Zoom \nJoin us in a thoughtful discussion at our Israel Exploration Table\, during Shabbat kiddush lunch\, in Paradies Hall\, or on Zoom.
URL:https://aasynagogue.org/event/israel-exploration-table-2/
LOCATION:Ahavath Achim Synagogue—Paradies Hall\, 600 Peachtree Battle Ave. NW\, Atlanta\, GA\, 30327\, United States
CATEGORIES:Adult Education,Learning,Shabbat
ATTACH;FMTTYPE=image/jpeg:https://aasynagogue.org/wp-content/uploads/2023/10/Israeli-Flag-square-1.jpg
GEO:33.8233671;-84.4089772
X-APPLE-STRUCTURED-LOCATION;VALUE=URI;X-ADDRESS=Ahavath Achim Synagogue—Paradies Hall 600 Peachtree Battle Ave. NW Atlanta GA 30327 United States;X-APPLE-RADIUS=500;X-TITLE=600 Peachtree Battle Ave. NW:geo:-84.4089772,33.8233671
END:VEVENT
BEGIN:VEVENT
DTSTART;TZID=America/New_York:20260328T184500
DTEND;TZID=America/New_York:20260328T204500
DTSTAMP:20260424T102043
CREATED:20251020T141351Z
LAST-MODIFIED:20260401T191603Z
UID:10025986-1774723500-1774730700@aasynagogue.org
SUMMARY:Mincha/Seudah Sheleshet/Ma'ariv/Havdallah 🔀
DESCRIPTION:Join us each week as we say goodbye to Shabbat and start the following week anew. Prayer\, Torah reading\, a short study with the rabbi\, a light seudah sheleshet (third meal)\, and a musical havdallah will be part of this experience! \nJoin us in Ellman Chapel or via Zoom. Join Zoom
URL:https://aasynagogue.org/event/mincha-seudah-sheleshet-maariv-havdallah-17-3-3/2026-03-28/
LOCATION:Ahavath Achim Synagogue—Ellman Chapel\, 600 Peachtree Battle Ave NW\, Atlanta\, GA\, 30327\, United States
CATEGORIES:Shabbat
GEO:33.8233671;-84.4089772
X-APPLE-STRUCTURED-LOCATION;VALUE=URI;X-ADDRESS=Ahavath Achim Synagogue—Ellman Chapel 600 Peachtree Battle Ave NW Atlanta GA 30327 United States;X-APPLE-RADIUS=500;X-TITLE=600 Peachtree Battle Ave NW:geo:-84.4089772,33.8233671
END:VEVENT
END:VCALENDAR