BEGIN:VCALENDAR
VERSION:2.0
PRODID:-//Ahavath Achim Synagogue - ECPv6.15.20//NONSGML v1.0//EN
CALSCALE:GREGORIAN
METHOD:PUBLISH
X-ORIGINAL-URL:https://aasynagogue.org
X-WR-CALDESC:Events for Ahavath Achim Synagogue
REFRESH-INTERVAL;VALUE=DURATION:PT1H
X-Robots-Tag:noindex
X-PUBLISHED-TTL:PT1H
BEGIN:VTIMEZONE
TZID:America/New_York
BEGIN:DAYLIGHT
TZOFFSETFROM:-0500
TZOFFSETTO:-0400
TZNAME:EDT
DTSTART:20250309T070000
END:DAYLIGHT
BEGIN:STANDARD
TZOFFSETFROM:-0400
TZOFFSETTO:-0500
TZNAME:EST
DTSTART:20251102T060000
END:STANDARD
BEGIN:DAYLIGHT
TZOFFSETFROM:-0500
TZOFFSETTO:-0400
TZNAME:EDT
DTSTART:20260308T070000
END:DAYLIGHT
BEGIN:STANDARD
TZOFFSETFROM:-0400
TZOFFSETTO:-0500
TZNAME:EST
DTSTART:20261101T060000
END:STANDARD
BEGIN:DAYLIGHT
TZOFFSETFROM:-0500
TZOFFSETTO:-0400
TZNAME:EDT
DTSTART:20270314T070000
END:DAYLIGHT
BEGIN:STANDARD
TZOFFSETFROM:-0400
TZOFFSETTO:-0500
TZNAME:EST
DTSTART:20271107T060000
END:STANDARD
END:VTIMEZONE
BEGIN:VEVENT
DTSTART;TZID=America/New_York:20260206T180000
DTEND;TZID=America/New_York:20260206T190000
DTSTAMP:20260424T042939
CREATED:20260205T134059Z
LAST-MODIFIED:20260205T134527Z
UID:10023012-1770400800-1770404400@aasynagogue.org
SUMMARY:Sisterhood Shabbat Shira Service 🔀
DESCRIPTION:Join in a very special Friday evening Shabbat service presented by AA's Sisterhood: Shabbat Shira! \n Join Friday Evening Zoom
URL:https://aasynagogue.org/event/meshorerim-shabbat-service-%f0%9f%94%80-2/
LOCATION:Ahavath Achim Synagogue — Epstein Sanctuary\, 600 Peachtree Battle Ave NW\, Atlanta\, GA\, 30327
CATEGORIES:Music,Prayer,Shabbat,Sisterhood
ATTACH;FMTTYPE=image/jpeg:https://aasynagogue.org/wp-content/uploads/2023/01/Singing-Songs-Voice-Choir-Melody-2.jpg
END:VEVENT
BEGIN:VEVENT
DTSTART;TZID=America/New_York:20260206T190000
DTEND;TZID=America/New_York:20260206T210000
DTSTAMP:20260424T042939
CREATED:20260101T211847Z
LAST-MODIFIED:20260109T165122Z
UID:10023109-1770404400-1770411600@aasynagogue.org
SUMMARY:Sisterhood Shabbat Shira Dinner
DESCRIPTION:Sisterhood Shabbat Shira Service + dinner \nSisterhood invites you to Shabbat Shira\, an experience that will bring our community together through song in celebration of the women of Sisterhood and the many incredible initiatives created\, curated\, and sustained through the hard work of their members! \nThis special service from 6-7 PM will be led by Mindy and Andy Margolis. \nFollowing the Shabbat Shira service\, please join us for a special family dinner : \n$36 for adults \n$18 for ages 12 and up \n$10 for children under 3-12 \nMaximum $100 per family unit \n\n>> RSVP for Dinner Here
URL:https://aasynagogue.org/event/sisterhood-shabbat-shira-dinner/
LOCATION:Ahavath Achim Synagogue\, 600 Peachtree Battle Ave NW\, Atlanta\, GA\, 30327
CATEGORIES:Shabbat,Sisterhood
ATTACH;FMTTYPE=image/png:https://aasynagogue.org/wp-content/uploads/2022/04/Logo-tp.png
END:VEVENT
BEGIN:VEVENT
DTSTART;TZID=America/New_York:20260207T103000
DTEND;TZID=America/New_York:20260207T113000
DTSTAMP:20260424T042939
CREATED:20260219T122618Z
LAST-MODIFIED:20260325T213806Z
UID:10023649-1770460200-1770463800@aasynagogue.org
SUMMARY:Torah Study 🔀
DESCRIPTION:TORAH \nSTUDY \nWhere lay leaders\, rabbis\, and congregants lead lively discussions about the weekly Parashat. \nJoin us every Shabbat morning for Torah Study\, where lay leaders\, rabbis\, and congregants lead lively discussions about the weekly Parashat. This discussion requires no special knowledge and is designed to deepen your understanding and appreciation of the Torah and the wisdom of our Sages. \n\nSource Sheet\n \nQuestions? Contact the chair:\nMichael Miller – mgmiller@sloan.mit.edu \n \nIn-Person @\nCavalier Room \n+ Online \n\nJoin Zoom
URL:https://aasynagogue.org/event/torah-study-v2/2026-02-07/
LOCATION:Ahavath Achim Synagogue—Cavalier Room\, 600 Peachtree Battle Ave NW\, Atlanta\, GA\, 30327
CATEGORIES:Adult Education,Learning,Shabbat
ATTACH;FMTTYPE=image/jpeg:https://aasynagogue.org/wp-content/uploads/2018/02/IMG_2149-e1518714512153-3-e1759173431500.jpg
GEO:33.8233671;-84.4089772
X-APPLE-STRUCTURED-LOCATION;VALUE=URI;X-ADDRESS=Ahavath Achim Synagogue—Cavalier Room 600 Peachtree Battle Ave NW Atlanta GA 30327;X-APPLE-RADIUS=500;X-TITLE=600 Peachtree Battle Ave NW:geo:-84.4089772,33.8233671
END:VEVENT
BEGIN:VEVENT
DTSTART;TZID=America/New_York:20260207T110000
DTEND;TZID=America/New_York:20260207T120000
DTSTAMP:20260424T042939
CREATED:20251031T191452Z
LAST-MODIFIED:20260401T153853Z
UID:10021690-1770462000-1770465600@aasynagogue.org
SUMMARY:AA Play and Pray ⏺️
DESCRIPTION:Join us for a very special family service! Bring your little ones (ages 0-8) for a joyful\, interactive Shabbat morning designed just for young families! We will guide you and your children through a prayer-filled experience where you'll learn the beautiful prayers of the Shabbat morning service\, explore meaningful Shabbat rituals\, and reconnect with the soul-stirring melodies that make Shabbat special. \nWhat awaits your family: \n\nInteractive learning of Shabbat prayers and rituals\nTraditional melodies that will touch your hearts\nDelicious snacks\, Kiddush juice\, and fresh challah\nOpportunities to build lasting friendships within our community\nA welcoming space for children to engage with their Jewish heritage\n\nWhether you're a longtime member or new to our synagogue family\, Play and Pray creates the perfect environment for spiritual connection\, community building\, and making cherished memories with your children. Come as you are and leave with hearts full of Shabbat joy and new connections! \nQuestions? Contact the Associate Rabbi and Director of Lifelong Learning: Eric Feld (efeld@aasynagogue.org). \nAhavath Achim Synagogue's youth education programming is generously endowed by the Judith and Aaron z"l Alembik Ahavath Achim Youth Education Program.
URL:https://aasynagogue.org/event/aa-play-and-pray-2/2026-02-07/
LOCATION:Ahavath Achim Synagogue—Paradies Hall\, 600 Peachtree Battle Ave. NW\, Atlanta\, GA\, 30327\, United States
CATEGORIES:Kid Friendly,Learning,Shabbat,Youth Education
GEO:33.8233671;-84.4089772
X-APPLE-STRUCTURED-LOCATION;VALUE=URI;X-ADDRESS=Ahavath Achim Synagogue—Paradies Hall 600 Peachtree Battle Ave. NW Atlanta GA 30327 United States;X-APPLE-RADIUS=500;X-TITLE=600 Peachtree Battle Ave. NW:geo:-84.4089772,33.8233671
END:VEVENT
BEGIN:VEVENT
DTSTART;TZID=America/New_York:20260207T170000
DTEND;TZID=America/New_York:20260207T190000
DTSTAMP:20260424T042939
CREATED:20251020T141351Z
LAST-MODIFIED:20260401T191603Z
UID:10023202-1770483600-1770490800@aasynagogue.org
SUMMARY:Mincha/Seudah Sheleshet/Ma'ariv/Havdallah 🔀
DESCRIPTION:Join us each week as we say goodbye to Shabbat and start the following week anew. Prayer\, Torah reading\, a short study with the rabbi\, a light seudah sheleshet (third meal)\, and a musical havdallah will be part of this experience! \nJoin us in Ellman Chapel or via Zoom. Join Zoom
URL:https://aasynagogue.org/event/mincha-seudah-sheleshet-maariv-havdallah-17-3-3/2026-02-07/
LOCATION:Ahavath Achim Synagogue—Ellman Chapel\, 600 Peachtree Battle Ave NW\, Atlanta\, GA\, 30327\, United States
CATEGORIES:Shabbat
GEO:33.8233671;-84.4089772
X-APPLE-STRUCTURED-LOCATION;VALUE=URI;X-ADDRESS=Ahavath Achim Synagogue—Ellman Chapel 600 Peachtree Battle Ave NW Atlanta GA 30327 United States;X-APPLE-RADIUS=500;X-TITLE=600 Peachtree Battle Ave NW:geo:-84.4089772,33.8233671
END:VEVENT
BEGIN:VEVENT
DTSTART;TZID=America/New_York:20260213T180000
DTEND;TZID=America/New_York:20260213T190000
DTSTAMP:20260424T042939
CREATED:20251106T024405Z
LAST-MODIFIED:20251212T190246Z
UID:10022771-1771005600-1771009200@aasynagogue.org
SUMMARY:Shabbat Evening Service 🔀
DESCRIPTION:Join us in Ellman Chapel or via Zoom. \n Join Via Zoom
URL:https://aasynagogue.org/event/shabbat-evening-service-4-4-3-2/2026-02-13/
LOCATION:Ahavath Achim Synagogue—Ellman Chapel\, 600 Peachtree Battle Ave NW\, Atlanta\, GA\, 30327\, United States
CATEGORIES:Shabbat
ATTACH;FMTTYPE=image/jpeg:https://aasynagogue.org/wp-content/uploads/2021/04/Shabbat-8.jpg
GEO:33.8233671;-84.4089772
X-APPLE-STRUCTURED-LOCATION;VALUE=URI;X-ADDRESS=Ahavath Achim Synagogue—Ellman Chapel 600 Peachtree Battle Ave NW Atlanta GA 30327 United States;X-APPLE-RADIUS=500;X-TITLE=600 Peachtree Battle Ave NW:geo:-84.4089772,33.8233671
END:VEVENT
BEGIN:VEVENT
DTSTART;TZID=America/New_York:20260214T093000
DTEND;TZID=America/New_York:20260214T140000
DTSTAMP:20260424T042939
CREATED:20260109T160842Z
LAST-MODIFIED:20260121T181623Z
UID:10023207-1771061400-1771077600@aasynagogue.org
SUMMARY:Repro Shabbat at AA
DESCRIPTION:REPRO SHABBAT\nat Ahavath Achim \nJoin Ahavath Achim\, event co-sponsors the AA Sisterhood and the National Council of Jewish Women\, Atlanta section\, on Saturday\,  February 14\, 2026\, as we stand with hundreds of congregations nationwide for Repro Shabbat 2026. \nDive into an engaging and thought-provoking Torah study\, listen to a spiritually engaging sermon\, and then stay for a stimulating\, important and impactful panel discussion where experts will discuss the state of reproductive health and rights in Georgia—and what you can do to help protect them. \nBe part of a powerful conversation rooted in Jewish values\, justice\, and action. \n\nRegister Here\n \nProgram\nHighlights \n10:30 – 11:30 AM\nCavalier Room \nLois Frank leads a Torah study discussion of Mishpatim (Exodus 21:22–25) and the Jewish legal framework governing the termination of pregnancy. \n11:30 AM – 12:00 PM\nEpstein Sanctuary \nJewish Views on the Sanctity of Life and Terminating Pregnancy \nSermon presented by Rabbi Laurence Rosenthal \n12:45 – 2:00 PM\nParadies Hall \nThe Current State of Reproductive Health and Rights in Georgia \nAn exclusive panel discussion facilitated by Susie Greenberg\, National Council of Jewish Women\, Atlanta section\, Co-President\, and chaired by Nancy Levine\, AA Executive Vice President. \nFeatured\nPanelists \nSusie\nGreenberg \n \nFacilitator \nCo-President of National Council of Jewish Women\, Atlanta Section\, attorney\, reproductive health advocate\, and small business owner \nMs. Greenberg served on the board of Planned Parenthood Southeast and has volunteered extensively as a Court Appointed Special Advocate for foster children\, mentor to legal refugees\, and college counselor with the Sandy Springs Education Force. \nDr. Megan Cohen\, MD \n \nFormer Medical Director of Planned Parenthood Southeast and a full-spectrum OB/GYN in Atlanta\, specializing in complex family planning\, abortion\, and contraception care \nDr. Cohen brings over 11 years of experience in reproductive health care\, advocacy\, and contributions to national contraceptive guidelines. \nAndrea\nYoung \n \nAttorney and Executive Director of the ACLU of Georgia\, representing more than 22\,000 members \nA lifelong civil and human rights advocate\, Ms. Young previously served as legislative assistant to Senator Edward Kennedy and as Vice President for External Affairs at Planned Parenthood of Metropolitan Washington. \nRep. Shea Roberts \n \nGeorgia State House District 52 (Sandy Springs\, Brookhaven\, and Dunwoody) \nAn attorney\, small business owner\, and founder of United for Georgia Women\, Rep. Roberts entered public office following Georgia's passage of a six-week abortion ban. Since 2021\, she has worked to restore reproductive rights and is the lead sponsor of HB 598\, Georgia's Reproductive Freedom Act\, aimed at expanding abortion access and protecting patients and providers from political interference. \n\nclick here to join the conversation
URL:https://aasynagogue.org/event/repro-shabbat-at-aa/
LOCATION:Ahavath Achim Synagogue\, 600 Peachtree Battle Ave NW\, Atlanta\, GA\, 30327
CATEGORIES:Learning,Shabbat,Social Action
ATTACH;FMTTYPE=image/jpeg:https://drive.google.com/thumbnail?sz=w1920&id=171NjR8O3WNoBbSX89Wyo7JqdNobz_pft
END:VEVENT
BEGIN:VEVENT
DTSTART;TZID=America/New_York:20260214T103000
DTEND;TZID=America/New_York:20260214T113000
DTSTAMP:20260424T042939
CREATED:20260219T122618Z
LAST-MODIFIED:20260325T213806Z
UID:10023650-1771065000-1771068600@aasynagogue.org
SUMMARY:Torah Study 🔀
DESCRIPTION:TORAH \nSTUDY \nWhere lay leaders\, rabbis\, and congregants lead lively discussions about the weekly Parashat. \nJoin us every Shabbat morning for Torah Study\, where lay leaders\, rabbis\, and congregants lead lively discussions about the weekly Parashat. This discussion requires no special knowledge and is designed to deepen your understanding and appreciation of the Torah and the wisdom of our Sages. \n\nSource Sheet\n \nQuestions? Contact the chair:\nMichael Miller – mgmiller@sloan.mit.edu \n \nIn-Person @\nCavalier Room \n+ Online \n\nJoin Zoom
URL:https://aasynagogue.org/event/torah-study-v2/2026-02-14/
LOCATION:Ahavath Achim Synagogue—Cavalier Room\, 600 Peachtree Battle Ave NW\, Atlanta\, GA\, 30327
CATEGORIES:Adult Education,Learning,Shabbat
ATTACH;FMTTYPE=image/jpeg:https://aasynagogue.org/wp-content/uploads/2018/02/IMG_2149-e1518714512153-3-e1759173431500.jpg
GEO:33.8233671;-84.4089772
X-APPLE-STRUCTURED-LOCATION;VALUE=URI;X-ADDRESS=Ahavath Achim Synagogue—Cavalier Room 600 Peachtree Battle Ave NW Atlanta GA 30327;X-APPLE-RADIUS=500;X-TITLE=600 Peachtree Battle Ave NW:geo:-84.4089772,33.8233671
END:VEVENT
BEGIN:VEVENT
DTSTART;TZID=America/New_York:20260214T171500
DTEND;TZID=America/New_York:20260214T191500
DTSTAMP:20260424T042939
CREATED:20251020T141351Z
LAST-MODIFIED:20260401T191603Z
UID:10023203-1771089300-1771096500@aasynagogue.org
SUMMARY:Mincha/Seudah Sheleshet/Ma'ariv/Havdallah 🔀
DESCRIPTION:Join us each week as we say goodbye to Shabbat and start the following week anew. Prayer\, Torah reading\, a short study with the rabbi\, a light seudah sheleshet (third meal)\, and a musical havdallah will be part of this experience! \nJoin us in Ellman Chapel or via Zoom. Join Zoom
URL:https://aasynagogue.org/event/mincha-seudah-sheleshet-maariv-havdallah-17-3-3/2026-02-14/
LOCATION:Ahavath Achim Synagogue—Ellman Chapel\, 600 Peachtree Battle Ave NW\, Atlanta\, GA\, 30327\, United States
CATEGORIES:Shabbat
GEO:33.8233671;-84.4089772
X-APPLE-STRUCTURED-LOCATION;VALUE=URI;X-ADDRESS=Ahavath Achim Synagogue—Ellman Chapel 600 Peachtree Battle Ave NW Atlanta GA 30327 United States;X-APPLE-RADIUS=500;X-TITLE=600 Peachtree Battle Ave NW:geo:-84.4089772,33.8233671
END:VEVENT
BEGIN:VEVENT
DTSTART;TZID=America/New_York:20260220T180000
DTEND;TZID=America/New_York:20260220T190000
DTSTAMP:20260424T042939
CREATED:20251106T024405Z
LAST-MODIFIED:20251212T190246Z
UID:10022772-1771610400-1771614000@aasynagogue.org
SUMMARY:Shabbat Evening Service 🔀
DESCRIPTION:Join us in Ellman Chapel or via Zoom. \n Join Via Zoom
URL:https://aasynagogue.org/event/shabbat-evening-service-4-4-3-2/2026-02-20/
LOCATION:Ahavath Achim Synagogue—Ellman Chapel\, 600 Peachtree Battle Ave NW\, Atlanta\, GA\, 30327\, United States
CATEGORIES:Shabbat
ATTACH;FMTTYPE=image/jpeg:https://aasynagogue.org/wp-content/uploads/2021/04/Shabbat-8.jpg
GEO:33.8233671;-84.4089772
X-APPLE-STRUCTURED-LOCATION;VALUE=URI;X-ADDRESS=Ahavath Achim Synagogue—Ellman Chapel 600 Peachtree Battle Ave NW Atlanta GA 30327 United States;X-APPLE-RADIUS=500;X-TITLE=600 Peachtree Battle Ave NW:geo:-84.4089772,33.8233671
END:VEVENT
BEGIN:VEVENT
DTSTART;TZID=America/New_York:20260221T103000
DTEND;TZID=America/New_York:20260221T113000
DTSTAMP:20260424T042939
CREATED:20260219T122618Z
LAST-MODIFIED:20260325T213806Z
UID:10023651-1771669800-1771673400@aasynagogue.org
SUMMARY:Torah Study 🔀
DESCRIPTION:TORAH \nSTUDY \nWhere lay leaders\, rabbis\, and congregants lead lively discussions about the weekly Parashat. \nJoin us every Shabbat morning for Torah Study\, where lay leaders\, rabbis\, and congregants lead lively discussions about the weekly Parashat. This discussion requires no special knowledge and is designed to deepen your understanding and appreciation of the Torah and the wisdom of our Sages. \n\nSource Sheet\n \nQuestions? Contact the chair:\nMichael Miller – mgmiller@sloan.mit.edu \n \nIn-Person @\nCavalier Room \n+ Online \n\nJoin Zoom
URL:https://aasynagogue.org/event/torah-study-v2/2026-02-21/
LOCATION:Ahavath Achim Synagogue—Cavalier Room\, 600 Peachtree Battle Ave NW\, Atlanta\, GA\, 30327
CATEGORIES:Adult Education,Learning,Shabbat
ATTACH;FMTTYPE=image/jpeg:https://aasynagogue.org/wp-content/uploads/2018/02/IMG_2149-e1518714512153-3-e1759173431500.jpg
GEO:33.8233671;-84.4089772
X-APPLE-STRUCTURED-LOCATION;VALUE=URI;X-ADDRESS=Ahavath Achim Synagogue—Cavalier Room 600 Peachtree Battle Ave NW Atlanta GA 30327;X-APPLE-RADIUS=500;X-TITLE=600 Peachtree Battle Ave NW:geo:-84.4089772,33.8233671
END:VEVENT
BEGIN:VEVENT
DTSTART;TZID=America/New_York:20260221T171500
DTEND;TZID=America/New_York:20260221T191500
DTSTAMP:20260424T042939
CREATED:20251020T141351Z
LAST-MODIFIED:20260401T191603Z
UID:10023204-1771694100-1771701300@aasynagogue.org
SUMMARY:Mincha/Seudah Sheleshet/Ma'ariv/Havdallah 🔀
DESCRIPTION:Join us each week as we say goodbye to Shabbat and start the following week anew. Prayer\, Torah reading\, a short study with the rabbi\, a light seudah sheleshet (third meal)\, and a musical havdallah will be part of this experience! \nJoin us in Ellman Chapel or via Zoom. Join Zoom
URL:https://aasynagogue.org/event/mincha-seudah-sheleshet-maariv-havdallah-17-3-3/2026-02-21/
LOCATION:Ahavath Achim Synagogue—Ellman Chapel\, 600 Peachtree Battle Ave NW\, Atlanta\, GA\, 30327\, United States
CATEGORIES:Shabbat
GEO:33.8233671;-84.4089772
X-APPLE-STRUCTURED-LOCATION;VALUE=URI;X-ADDRESS=Ahavath Achim Synagogue—Ellman Chapel 600 Peachtree Battle Ave NW Atlanta GA 30327 United States;X-APPLE-RADIUS=500;X-TITLE=600 Peachtree Battle Ave NW:geo:-84.4089772,33.8233671
END:VEVENT
BEGIN:VEVENT
DTSTART;TZID=America/New_York:20260227T180000
DTEND;TZID=America/New_York:20260227T190000
DTSTAMP:20260424T042939
CREATED:20251106T024405Z
LAST-MODIFIED:20251212T190246Z
UID:10022773-1772215200-1772218800@aasynagogue.org
SUMMARY:Shabbat Evening Service 🔀
DESCRIPTION:Join us in Ellman Chapel or via Zoom. \n Join Via Zoom
URL:https://aasynagogue.org/event/shabbat-evening-service-4-4-3-2/2026-02-27/
LOCATION:Ahavath Achim Synagogue—Ellman Chapel\, 600 Peachtree Battle Ave NW\, Atlanta\, GA\, 30327\, United States
CATEGORIES:Shabbat
ATTACH;FMTTYPE=image/jpeg:https://aasynagogue.org/wp-content/uploads/2021/04/Shabbat-8.jpg
GEO:33.8233671;-84.4089772
X-APPLE-STRUCTURED-LOCATION;VALUE=URI;X-ADDRESS=Ahavath Achim Synagogue—Ellman Chapel 600 Peachtree Battle Ave NW Atlanta GA 30327 United States;X-APPLE-RADIUS=500;X-TITLE=600 Peachtree Battle Ave NW:geo:-84.4089772,33.8233671
END:VEVENT
BEGIN:VEVENT
DTSTART;TZID=America/New_York:20260228T093000
DTEND;TZID=America/New_York:20260228T120000
DTSTAMP:20260424T042939
CREATED:20251020T142530Z
LAST-MODIFIED:20260312T155359Z
UID:10021670-1772271000-1772280000@aasynagogue.org
SUMMARY:Meshorerim Shabbat Service 🔀
DESCRIPTION:Each month\, gather with us in Epstein Sanctuary (or via Zoom) for one Friday evening and one Saturday morning Shabbat service\, both led by our inspiring meshorerim! \n Join Friday Evening Zoom\n Join Saturday Morning Zoom
URL:https://aasynagogue.org/event/meshorerim-shabbat-service-2/2026-02-28/
LOCATION:Ahavath Achim Synagogue\, 600 Peachtree Battle Ave NW\, Atlanta\, GA\, 30327
CATEGORIES:Music,Prayer,Shabbat
ATTACH;FMTTYPE=image/jpeg:https://aasynagogue.org/wp-content/uploads/2023/01/Singing-Songs-Voice-Choir-Melody-2.jpg
END:VEVENT
BEGIN:VEVENT
DTSTART;TZID=America/New_York:20260228T103000
DTEND;TZID=America/New_York:20260228T113000
DTSTAMP:20260424T042939
CREATED:20260219T122618Z
LAST-MODIFIED:20260325T213806Z
UID:10023652-1772274600-1772278200@aasynagogue.org
SUMMARY:Torah Study 🔀
DESCRIPTION:TORAH \nSTUDY \nWhere lay leaders\, rabbis\, and congregants lead lively discussions about the weekly Parashat. \nJoin us every Shabbat morning for Torah Study\, where lay leaders\, rabbis\, and congregants lead lively discussions about the weekly Parashat. This discussion requires no special knowledge and is designed to deepen your understanding and appreciation of the Torah and the wisdom of our Sages. \n\nSource Sheet\n \nQuestions? Contact the chair:\nMichael Miller – mgmiller@sloan.mit.edu \n \nIn-Person @\nCavalier Room \n+ Online \n\nJoin Zoom
URL:https://aasynagogue.org/event/torah-study-v2/2026-02-28/
LOCATION:Ahavath Achim Synagogue—Cavalier Room\, 600 Peachtree Battle Ave NW\, Atlanta\, GA\, 30327
CATEGORIES:Adult Education,Learning,Shabbat
ATTACH;FMTTYPE=image/jpeg:https://aasynagogue.org/wp-content/uploads/2018/02/IMG_2149-e1518714512153-3-e1759173431500.jpg
GEO:33.8233671;-84.4089772
X-APPLE-STRUCTURED-LOCATION;VALUE=URI;X-ADDRESS=Ahavath Achim Synagogue—Cavalier Room 600 Peachtree Battle Ave NW Atlanta GA 30327;X-APPLE-RADIUS=500;X-TITLE=600 Peachtree Battle Ave NW:geo:-84.4089772,33.8233671
END:VEVENT
BEGIN:VEVENT
DTSTART;TZID=America/New_York:20260228T110000
DTEND;TZID=America/New_York:20260228T120000
DTSTAMP:20260424T042939
CREATED:20260226T204338Z
LAST-MODIFIED:20260226T210111Z
UID:10023721-1772276400-1772280000@aasynagogue.org
SUMMARY:Tot Shabbat
DESCRIPTION:
URL:https://aasynagogue.org/event/tot-shabbat-3/
LOCATION:Ahavath Achim Synagogue\, 600 Peachtree Battle Ave NW\, Atlanta\, GA\, 30327
CATEGORIES:Kid Friendly,Shabbat
ATTACH;FMTTYPE=image/jpeg:https://drive.google.com/thumbnail?sz=w1920&id=15PJLSuuxqrSft_V0NjkJ0qzInsDLI3d3
END:VEVENT
BEGIN:VEVENT
DTSTART;TZID=America/New_York:20260228T173000
DTEND;TZID=America/New_York:20260228T193000
DTSTAMP:20260424T042939
CREATED:20251020T141351Z
LAST-MODIFIED:20260401T191603Z
UID:10023205-1772299800-1772307000@aasynagogue.org
SUMMARY:Mincha/Seudah Sheleshet/Ma'ariv/Havdallah 🔀
DESCRIPTION:Join us each week as we say goodbye to Shabbat and start the following week anew. Prayer\, Torah reading\, a short study with the rabbi\, a light seudah sheleshet (third meal)\, and a musical havdallah will be part of this experience! \nJoin us in Ellman Chapel or via Zoom. Join Zoom
URL:https://aasynagogue.org/event/mincha-seudah-sheleshet-maariv-havdallah-17-3-3/2026-02-28/
LOCATION:Ahavath Achim Synagogue—Ellman Chapel\, 600 Peachtree Battle Ave NW\, Atlanta\, GA\, 30327\, United States
CATEGORIES:Shabbat
GEO:33.8233671;-84.4089772
X-APPLE-STRUCTURED-LOCATION;VALUE=URI;X-ADDRESS=Ahavath Achim Synagogue—Ellman Chapel 600 Peachtree Battle Ave NW Atlanta GA 30327 United States;X-APPLE-RADIUS=500;X-TITLE=600 Peachtree Battle Ave NW:geo:-84.4089772,33.8233671
END:VEVENT
END:VCALENDAR