BEGIN:VCALENDAR
VERSION:2.0
PRODID:-//Ahavath Achim Synagogue - ECPv6.15.20//NONSGML v1.0//EN
CALSCALE:GREGORIAN
METHOD:PUBLISH
X-ORIGINAL-URL:https://aasynagogue.org
X-WR-CALDESC:Events for Ahavath Achim Synagogue
REFRESH-INTERVAL;VALUE=DURATION:PT1H
X-Robots-Tag:noindex
X-PUBLISHED-TTL:PT1H
BEGIN:VTIMEZONE
TZID:America/New_York
BEGIN:DAYLIGHT
TZOFFSETFROM:-0500
TZOFFSETTO:-0400
TZNAME:EDT
DTSTART:20240310T070000
END:DAYLIGHT
BEGIN:STANDARD
TZOFFSETFROM:-0400
TZOFFSETTO:-0500
TZNAME:EST
DTSTART:20241103T060000
END:STANDARD
BEGIN:DAYLIGHT
TZOFFSETFROM:-0500
TZOFFSETTO:-0400
TZNAME:EDT
DTSTART:20250309T070000
END:DAYLIGHT
BEGIN:STANDARD
TZOFFSETFROM:-0400
TZOFFSETTO:-0500
TZNAME:EST
DTSTART:20251102T060000
END:STANDARD
BEGIN:DAYLIGHT
TZOFFSETFROM:-0500
TZOFFSETTO:-0400
TZNAME:EDT
DTSTART:20260308T070000
END:DAYLIGHT
BEGIN:STANDARD
TZOFFSETFROM:-0400
TZOFFSETTO:-0500
TZNAME:EST
DTSTART:20261101T060000
END:STANDARD
END:VTIMEZONE
BEGIN:VEVENT
DTSTART;TZID=America/New_York:20251205T180000
DTEND;TZID=America/New_York:20251205T190000
DTSTAMP:20260424T091444
CREATED:20251106T024405Z
LAST-MODIFIED:20251212T190246Z
UID:10022764-1764957600-1764961200@aasynagogue.org
SUMMARY:Shabbat Evening Service 🔀
DESCRIPTION:Join us in Ellman Chapel or via Zoom. \n Join Via Zoom
URL:https://aasynagogue.org/event/shabbat-evening-service-4-4-3-2/2025-12-05/
LOCATION:Ahavath Achim Synagogue—Ellman Chapel\, 600 Peachtree Battle Ave NW\, Atlanta\, GA\, 30327\, United States
CATEGORIES:Shabbat
ATTACH;FMTTYPE=image/jpeg:https://aasynagogue.org/wp-content/uploads/2021/04/Shabbat-8.jpg
GEO:33.8233671;-84.4089772
X-APPLE-STRUCTURED-LOCATION;VALUE=URI;X-ADDRESS=Ahavath Achim Synagogue—Ellman Chapel 600 Peachtree Battle Ave NW Atlanta GA 30327 United States;X-APPLE-RADIUS=500;X-TITLE=600 Peachtree Battle Ave NW:geo:-84.4089772,33.8233671
END:VEVENT
BEGIN:VEVENT
DTSTART;TZID=America/New_York:20251206T110000
DTEND;TZID=America/New_York:20251206T120000
DTSTAMP:20260424T091444
CREATED:20251031T191452Z
LAST-MODIFIED:20260401T153853Z
UID:10021688-1765018800-1765022400@aasynagogue.org
SUMMARY:AA Play and Pray ⏺️
DESCRIPTION:Join us for a very special family service! Bring your little ones (ages 0-8) for a joyful\, interactive Shabbat morning designed just for young families! We will guide you and your children through a prayer-filled experience where you'll learn the beautiful prayers of the Shabbat morning service\, explore meaningful Shabbat rituals\, and reconnect with the soul-stirring melodies that make Shabbat special. \nWhat awaits your family: \n\nInteractive learning of Shabbat prayers and rituals\nTraditional melodies that will touch your hearts\nDelicious snacks\, Kiddush juice\, and fresh challah\nOpportunities to build lasting friendships within our community\nA welcoming space for children to engage with their Jewish heritage\n\nWhether you're a longtime member or new to our synagogue family\, Play and Pray creates the perfect environment for spiritual connection\, community building\, and making cherished memories with your children. Come as you are and leave with hearts full of Shabbat joy and new connections! \nQuestions? Contact the Associate Rabbi and Director of Lifelong Learning: Eric Feld (efeld@aasynagogue.org). \nAhavath Achim Synagogue's youth education programming is generously endowed by the Judith and Aaron z"l Alembik Ahavath Achim Youth Education Program.
URL:https://aasynagogue.org/event/aa-play-and-pray-2/2025-12-06/
LOCATION:Ahavath Achim Synagogue—Paradies Hall\, 600 Peachtree Battle Ave. NW\, Atlanta\, GA\, 30327\, United States
CATEGORIES:Kid Friendly,Learning,Shabbat,Youth Education
GEO:33.8233671;-84.4089772
X-APPLE-STRUCTURED-LOCATION;VALUE=URI;X-ADDRESS=Ahavath Achim Synagogue—Paradies Hall 600 Peachtree Battle Ave. NW Atlanta GA 30327 United States;X-APPLE-RADIUS=500;X-TITLE=600 Peachtree Battle Ave. NW:geo:-84.4089772,33.8233671
END:VEVENT
BEGIN:VEVENT
DTSTART;TZID=America/New_York:20251206T161500
DTEND;TZID=America/New_York:20251206T180000
DTSTAMP:20260424T091444
CREATED:20251118T165906Z
LAST-MODIFIED:20251118T165907Z
UID:10022506-1765037700-1765044000@aasynagogue.org
SUMMARY:Mincha/Seudah Sheleshet/Ma'ariv/Havdallah 🔀
DESCRIPTION:Join us each week as we say goodbye to Shabbat and start the following week anew. Prayer\, Torah reading\, a short study with the rabbi\, a light seudah sheleshet (third meal)\, and a musical havdallah will be part of this experience! \nJoin us in Ellman Chapel or via Zoom. Join Zoom
URL:https://aasynagogue.org/event/mincha-seudah-sheleshet-maariv-havdallah-17-3-3-2/
LOCATION:Ahavath Achim Synagogue—Ellman Chapel\, 600 Peachtree Battle Ave NW\, Atlanta\, GA\, 30327\, United States
CATEGORIES:Shabbat
GEO:33.8233671;-84.4089772
X-APPLE-STRUCTURED-LOCATION;VALUE=URI;X-ADDRESS=Ahavath Achim Synagogue—Ellman Chapel 600 Peachtree Battle Ave NW Atlanta GA 30327 United States;X-APPLE-RADIUS=500;X-TITLE=600 Peachtree Battle Ave NW:geo:-84.4089772,33.8233671
END:VEVENT
BEGIN:VEVENT
DTSTART;TZID=America/New_York:20251212T180000
DTEND;TZID=America/New_York:20251212T190000
DTSTAMP:20260424T091444
CREATED:20251106T024405Z
LAST-MODIFIED:20251212T190246Z
UID:10023092-1765562400-1765566000@aasynagogue.org
SUMMARY:Shabbat Evening Service 🔀
DESCRIPTION:Join us in Ellman Chapel or via Zoom. \n Join Via Zoom
URL:https://aasynagogue.org/event/shabbat-evening-service-4-4-3-2/2025-12-12/
LOCATION:Ahavath Achim Synagogue—Ellman Chapel\, 600 Peachtree Battle Ave NW\, Atlanta\, GA\, 30327\, United States
CATEGORIES:Shabbat
ATTACH;FMTTYPE=image/jpeg:https://aasynagogue.org/wp-content/uploads/2021/04/Shabbat-8.jpg
GEO:33.8233671;-84.4089772
X-APPLE-STRUCTURED-LOCATION;VALUE=URI;X-ADDRESS=Ahavath Achim Synagogue—Ellman Chapel 600 Peachtree Battle Ave NW Atlanta GA 30327 United States;X-APPLE-RADIUS=500;X-TITLE=600 Peachtree Battle Ave NW:geo:-84.4089772,33.8233671
END:VEVENT
BEGIN:VEVENT
DTSTART;TZID=America/New_York:20251219T180000
DTEND;TZID=America/New_York:20251219T190000
DTSTAMP:20260424T091444
CREATED:20251106T024405Z
LAST-MODIFIED:20251212T190246Z
UID:10022765-1766167200-1766170800@aasynagogue.org
SUMMARY:Shabbat Evening Service 🔀
DESCRIPTION:Join us in Ellman Chapel or via Zoom. \n Join Via Zoom
URL:https://aasynagogue.org/event/shabbat-evening-service-4-4-3-2/2025-12-19/
LOCATION:Ahavath Achim Synagogue—Ellman Chapel\, 600 Peachtree Battle Ave NW\, Atlanta\, GA\, 30327\, United States
CATEGORIES:Shabbat
ATTACH;FMTTYPE=image/jpeg:https://aasynagogue.org/wp-content/uploads/2021/04/Shabbat-8.jpg
GEO:33.8233671;-84.4089772
X-APPLE-STRUCTURED-LOCATION;VALUE=URI;X-ADDRESS=Ahavath Achim Synagogue—Ellman Chapel 600 Peachtree Battle Ave NW Atlanta GA 30327 United States;X-APPLE-RADIUS=500;X-TITLE=600 Peachtree Battle Ave NW:geo:-84.4089772,33.8233671
END:VEVENT
BEGIN:VEVENT
DTSTART;TZID=America/New_York:20251220T093000
DTEND;TZID=America/New_York:20251220T120000
DTSTAMP:20260424T091444
CREATED:20251020T142530Z
LAST-MODIFIED:20260312T155359Z
UID:10021666-1766223000-1766232000@aasynagogue.org
SUMMARY:Meshorerim Shabbat Service 🔀
DESCRIPTION:Each month\, gather with us in Epstein Sanctuary (or via Zoom) for one Friday evening and one Saturday morning Shabbat service\, both led by our inspiring meshorerim! \n Join Friday Evening Zoom\n Join Saturday Morning Zoom
URL:https://aasynagogue.org/event/meshorerim-shabbat-service-2/2025-12-20/
LOCATION:Ahavath Achim Synagogue\, 600 Peachtree Battle Ave NW\, Atlanta\, GA\, 30327
CATEGORIES:Music,Prayer,Shabbat
ATTACH;FMTTYPE=image/jpeg:https://aasynagogue.org/wp-content/uploads/2023/01/Singing-Songs-Voice-Choir-Melody-2.jpg
END:VEVENT
BEGIN:VEVENT
DTSTART;TZID=America/New_York:20251226T180000
DTEND;TZID=America/New_York:20251226T190000
DTSTAMP:20260424T091444
CREATED:20251106T024405Z
LAST-MODIFIED:20251212T190246Z
UID:10022766-1766772000-1766775600@aasynagogue.org
SUMMARY:Shabbat Evening Service 🔀
DESCRIPTION:Join us in Ellman Chapel or via Zoom. \n Join Via Zoom
URL:https://aasynagogue.org/event/shabbat-evening-service-4-4-3-2/2025-12-26/
LOCATION:Ahavath Achim Synagogue—Ellman Chapel\, 600 Peachtree Battle Ave NW\, Atlanta\, GA\, 30327\, United States
CATEGORIES:Shabbat
ATTACH;FMTTYPE=image/jpeg:https://aasynagogue.org/wp-content/uploads/2021/04/Shabbat-8.jpg
GEO:33.8233671;-84.4089772
X-APPLE-STRUCTURED-LOCATION;VALUE=URI;X-ADDRESS=Ahavath Achim Synagogue—Ellman Chapel 600 Peachtree Battle Ave NW Atlanta GA 30327 United States;X-APPLE-RADIUS=500;X-TITLE=600 Peachtree Battle Ave NW:geo:-84.4089772,33.8233671
END:VEVENT
END:VCALENDAR