BEGIN:VCALENDAR
VERSION:2.0
PRODID:-//Ahavath Achim Synagogue - ECPv6.15.20//NONSGML v1.0//EN
CALSCALE:GREGORIAN
METHOD:PUBLISH
X-ORIGINAL-URL:https://aasynagogue.org
X-WR-CALDESC:Events for Ahavath Achim Synagogue
REFRESH-INTERVAL;VALUE=DURATION:PT1H
X-Robots-Tag:noindex
X-PUBLISHED-TTL:PT1H
BEGIN:VTIMEZONE
TZID:America/New_York
BEGIN:DAYLIGHT
TZOFFSETFROM:-0500
TZOFFSETTO:-0400
TZNAME:EDT
DTSTART:20240310T070000
END:DAYLIGHT
BEGIN:STANDARD
TZOFFSETFROM:-0400
TZOFFSETTO:-0500
TZNAME:EST
DTSTART:20241103T060000
END:STANDARD
BEGIN:DAYLIGHT
TZOFFSETFROM:-0500
TZOFFSETTO:-0400
TZNAME:EDT
DTSTART:20250309T070000
END:DAYLIGHT
BEGIN:STANDARD
TZOFFSETFROM:-0400
TZOFFSETTO:-0500
TZNAME:EST
DTSTART:20251102T060000
END:STANDARD
BEGIN:DAYLIGHT
TZOFFSETFROM:-0500
TZOFFSETTO:-0400
TZNAME:EDT
DTSTART:20260308T070000
END:DAYLIGHT
BEGIN:STANDARD
TZOFFSETFROM:-0400
TZOFFSETTO:-0500
TZNAME:EST
DTSTART:20261101T060000
END:STANDARD
END:VTIMEZONE
BEGIN:VEVENT
DTSTART;TZID=America/New_York:20251004T183000
DTEND;TZID=America/New_York:20251004T203000
DTSTAMP:20260424T234130
CREATED:20250728T190128Z
LAST-MODIFIED:20251004T154426Z
UID:10021872-1759602600-1759609800@aasynagogue.org
SUMMARY:Mincha/Seudah Sheleshet/Ma'ariv/Havdallah 🔀
DESCRIPTION:Join us each week as we say goodbye to Shabbat and start the following week anew. Prayer\, Torah reading\, a short study with the rabbi\, a light seudah sheleshet (third meal)\, and a musical havdallah will be part of this experience! \nJoin us in Ellman Chapel or via Zoom. Join Zoom
URL:https://aasynagogue.org/event/mincha-seudah-sheleshet-maariv-havdallah-17/2025-10-04/
LOCATION:Ahavath Achim Synagogue—Ellman Chapel\, 600 Peachtree Battle Ave NW\, Atlanta\, GA\, 30327\, United States
CATEGORIES:Shabbat
GEO:33.8233671;-84.4089772
X-APPLE-STRUCTURED-LOCATION;VALUE=URI;X-ADDRESS=Ahavath Achim Synagogue—Ellman Chapel 600 Peachtree Battle Ave NW Atlanta GA 30327 United States;X-APPLE-RADIUS=500;X-TITLE=600 Peachtree Battle Ave NW:geo:-84.4089772,33.8233671
END:VEVENT
BEGIN:VEVENT
DTSTART;TZID=America/New_York:20251010T180000
DTEND;TZID=America/New_York:20251010T190000
DTSTAMP:20260424T234130
CREATED:20251010T203811Z
LAST-MODIFIED:20251010T205351Z
UID:10018320-1760119200-1760122800@aasynagogue.org
SUMMARY:Kabbalat Shabbat Evening Service 🔀
DESCRIPTION:Join us in Ellman Chapel or via Zoom. \n Join Via Zoom
URL:https://aasynagogue.org/event/shabbat-evening-service-%f0%9f%94%80/
LOCATION:Ahavath Achim Synagogue—Ellman Chapel\, 600 Peachtree Battle Ave NW\, Atlanta\, GA\, 30327\, United States
CATEGORIES:Shabbat
GEO:33.8233671;-84.4089772
X-APPLE-STRUCTURED-LOCATION;VALUE=URI;X-ADDRESS=Ahavath Achim Synagogue—Ellman Chapel 600 Peachtree Battle Ave NW Atlanta GA 30327 United States;X-APPLE-RADIUS=500;X-TITLE=600 Peachtree Battle Ave NW:geo:-84.4089772,33.8233671
END:VEVENT
BEGIN:VEVENT
DTSTART;TZID=America/New_York:20251011T180000
DTEND;TZID=America/New_York:20251011T200000
DTSTAMP:20260424T234130
CREATED:20251010T201928Z
LAST-MODIFIED:20251010T201929Z
UID:10021873-1760205600-1760212800@aasynagogue.org
SUMMARY:Mincha/Seudah Sheleshet/Ma'ariv/Havdallah 🔀
DESCRIPTION:Join us each week as we say goodbye to Shabbat and start the following week anew. Prayer\, Torah reading\, a short study with the rabbi\, a light seudah sheleshet (third meal)\, and a musical havdallah will be part of this experience! \nJoin us in Ellman Chapel or via Zoom. Join Zoom
URL:https://aasynagogue.org/event/mincha-seudah-sheleshet-maariv-havdallah-17-2/
LOCATION:Ahavath Achim Synagogue—Ellman Chapel\, 600 Peachtree Battle Ave NW\, Atlanta\, GA\, 30327\, United States
CATEGORIES:Shabbat
GEO:33.8233671;-84.4089772
X-APPLE-STRUCTURED-LOCATION;VALUE=URI;X-ADDRESS=Ahavath Achim Synagogue—Ellman Chapel 600 Peachtree Battle Ave NW Atlanta GA 30327 United States;X-APPLE-RADIUS=500;X-TITLE=600 Peachtree Battle Ave NW:geo:-84.4089772,33.8233671
END:VEVENT
BEGIN:VEVENT
DTSTART;TZID=America/New_York:20251017T180000
DTEND;TZID=America/New_York:20251017T190000
DTSTAMP:20260424T234130
CREATED:20251017T152357Z
LAST-MODIFIED:20251017T153240Z
UID:10018321-1760724000-1760727600@aasynagogue.org
SUMMARY:Shabbat Evening Service 🔀
DESCRIPTION:Join Ahavath Achim's Meshorerim for Kabbalat Shabbat evening service.\n					\n									Join Zoom\n					 \nIn Person: Epstein Sanctuary
URL:https://aasynagogue.org/event/shabbat-evening-service-4-4-2/
LOCATION:Ahavath Achim Synagogue—Ellman Chapel\, 600 Peachtree Battle Ave NW\, Atlanta\, GA\, 30327\, United States
CATEGORIES:Shabbat
GEO:33.8233671;-84.4089772
X-APPLE-STRUCTURED-LOCATION;VALUE=URI;X-ADDRESS=Ahavath Achim Synagogue—Ellman Chapel 600 Peachtree Battle Ave NW Atlanta GA 30327 United States;X-APPLE-RADIUS=500;X-TITLE=600 Peachtree Battle Ave NW:geo:-84.4089772,33.8233671
END:VEVENT
BEGIN:VEVENT
DTSTART;TZID=America/New_York:20251018T183000
DTEND;TZID=America/New_York:20251018T203000
DTSTAMP:20260424T234130
CREATED:20250728T190128Z
LAST-MODIFIED:20251004T154426Z
UID:10021874-1760812200-1760819400@aasynagogue.org
SUMMARY:Mincha/Seudah Sheleshet/Ma'ariv/Havdallah 🔀
DESCRIPTION:Join us each week as we say goodbye to Shabbat and start the following week anew. Prayer\, Torah reading\, a short study with the rabbi\, a light seudah sheleshet (third meal)\, and a musical havdallah will be part of this experience! \nJoin us in Ellman Chapel or via Zoom. Join Zoom
URL:https://aasynagogue.org/event/mincha-seudah-sheleshet-maariv-havdallah-17/2025-10-18/
LOCATION:Ahavath Achim Synagogue—Ellman Chapel\, 600 Peachtree Battle Ave NW\, Atlanta\, GA\, 30327\, United States
CATEGORIES:Shabbat
GEO:33.8233671;-84.4089772
X-APPLE-STRUCTURED-LOCATION;VALUE=URI;X-ADDRESS=Ahavath Achim Synagogue—Ellman Chapel 600 Peachtree Battle Ave NW Atlanta GA 30327 United States;X-APPLE-RADIUS=500;X-TITLE=600 Peachtree Battle Ave NW:geo:-84.4089772,33.8233671
END:VEVENT
BEGIN:VEVENT
DTSTART;TZID=America/New_York:20251024T180000
DTEND;TZID=America/New_York:20251024T190000
DTSTAMP:20260424T234130
CREATED:20251009T024528Z
LAST-MODIFIED:20251017T152314Z
UID:10018322-1761328800-1761332400@aasynagogue.org
SUMMARY:Shabbat Evening Service 🔀
DESCRIPTION:Join us in Ellman Chapel or via Zoom. \n Join Via Zoom
URL:https://aasynagogue.org/event/shabbat-evening-service-4-4/2025-10-24/
LOCATION:Ahavath Achim Synagogue—Ellman Chapel\, 600 Peachtree Battle Ave NW\, Atlanta\, GA\, 30327\, United States
CATEGORIES:Shabbat
GEO:33.8233671;-84.4089772
X-APPLE-STRUCTURED-LOCATION;VALUE=URI;X-ADDRESS=Ahavath Achim Synagogue—Ellman Chapel 600 Peachtree Battle Ave NW Atlanta GA 30327 United States;X-APPLE-RADIUS=500;X-TITLE=600 Peachtree Battle Ave NW:geo:-84.4089772,33.8233671
END:VEVENT
BEGIN:VEVENT
DTSTART;TZID=America/New_York:20251025T174500
DTEND;TZID=America/New_York:20251025T194500
DTSTAMP:20260424T234130
CREATED:20251017T201018Z
LAST-MODIFIED:20251024T165810Z
UID:10022241-1761414300-1761421500@aasynagogue.org
SUMMARY:Mincha/Seudah Sheleshet/Ma'ariv/Havdallah 🔀
DESCRIPTION:Join us each week as we say goodbye to Shabbat and start the following week anew. Prayer\, Torah reading\, a short study with the rabbi\, a light seudah sheleshet (third meal)\, and a musical havdallah will be part of this experience! \nJoin us in Ellman Chapel or via Zoom. Join Zoom
URL:https://aasynagogue.org/event/mincha-seudah-sheleshet-maariv-havdallah-17-3/
LOCATION:Ahavath Achim Synagogue—Ellman Chapel\, 600 Peachtree Battle Ave NW\, Atlanta\, GA\, 30327\, United States
CATEGORIES:Shabbat
GEO:33.8233671;-84.4089772
X-APPLE-STRUCTURED-LOCATION;VALUE=URI;X-ADDRESS=Ahavath Achim Synagogue—Ellman Chapel 600 Peachtree Battle Ave NW Atlanta GA 30327 United States;X-APPLE-RADIUS=500;X-TITLE=600 Peachtree Battle Ave NW:geo:-84.4089772,33.8233671
END:VEVENT
BEGIN:VEVENT
DTSTART;TZID=America/New_York:20251031T180000
DTEND;TZID=America/New_York:20251031T190000
DTSTAMP:20260424T234130
CREATED:20251020T141848Z
LAST-MODIFIED:20251030T183246Z
UID:10018323-1761933600-1761937200@aasynagogue.org
SUMMARY:Shabbat Evening Service 🔀
DESCRIPTION:Join us in Ellman Chapel or via Zoom. \n Join Via Zoom
URL:https://aasynagogue.org/event/shabbat-evening-service-4-4-3/
LOCATION:Ahavath Achim Synagogue—Ellman Chapel\, 600 Peachtree Battle Ave NW\, Atlanta\, GA\, 30327\, United States
CATEGORIES:Shabbat
GEO:33.8233671;-84.4089772
X-APPLE-STRUCTURED-LOCATION;VALUE=URI;X-ADDRESS=Ahavath Achim Synagogue—Ellman Chapel 600 Peachtree Battle Ave NW Atlanta GA 30327 United States;X-APPLE-RADIUS=500;X-TITLE=600 Peachtree Battle Ave NW:geo:-84.4089772,33.8233671
END:VEVENT
END:VCALENDAR