BEGIN:VCALENDAR
VERSION:2.0
PRODID:-//Ahavath Achim Synagogue - ECPv6.15.20//NONSGML v1.0//EN
CALSCALE:GREGORIAN
METHOD:PUBLISH
X-WR-CALNAME:Ahavath Achim Synagogue
X-ORIGINAL-URL:https://aasynagogue.org
X-WR-CALDESC:Events for Ahavath Achim Synagogue
REFRESH-INTERVAL;VALUE=DURATION:PT1H
X-Robots-Tag:noindex
X-PUBLISHED-TTL:PT1H
BEGIN:VTIMEZONE
TZID:America/New_York
BEGIN:DAYLIGHT
TZOFFSETFROM:-0500
TZOFFSETTO:-0400
TZNAME:EDT
DTSTART:20290311T070000
END:DAYLIGHT
BEGIN:STANDARD
TZOFFSETFROM:-0400
TZOFFSETTO:-0500
TZNAME:EST
DTSTART:20291104T060000
END:STANDARD
BEGIN:DAYLIGHT
TZOFFSETFROM:-0500
TZOFFSETTO:-0400
TZNAME:EDT
DTSTART:20300310T070000
END:DAYLIGHT
BEGIN:STANDARD
TZOFFSETFROM:-0400
TZOFFSETTO:-0500
TZNAME:EST
DTSTART:20301103T060000
END:STANDARD
BEGIN:DAYLIGHT
TZOFFSETFROM:-0500
TZOFFSETTO:-0400
TZNAME:EDT
DTSTART:20310309T070000
END:DAYLIGHT
BEGIN:STANDARD
TZOFFSETFROM:-0400
TZOFFSETTO:-0500
TZNAME:EST
DTSTART:20311102T060000
END:STANDARD
END:VTIMEZONE
BEGIN:VEVENT
DTSTART;TZID=America/New_York:20300701T180000
DTEND;TZID=America/New_York:20300701T190000
DTSTAMP:20260426T000112
CREATED:20260327T143335Z
LAST-MODIFIED:20260327T143407Z
UID:10021726-1909159200-1909162800@aasynagogue.org
SUMMARY:Evening Minyan 🔀
DESCRIPTION:Join us in Ellman Chapel or via Zoom. \n Join Zoom
URL:https://aasynagogue.org/event/evening-minyan-5-2-3-2-2/2030-07-01/
LOCATION:Ahavath Achim Synagogue—Ellman Chapel\, 600 Peachtree Battle Ave NW\, Atlanta\, GA\, 30327\, United States
CATEGORIES:Prayer
GEO:33.8233671;-84.4089772
X-APPLE-STRUCTURED-LOCATION;VALUE=URI;X-ADDRESS=Ahavath Achim Synagogue—Ellman Chapel 600 Peachtree Battle Ave NW Atlanta GA 30327 United States;X-APPLE-RADIUS=500;X-TITLE=600 Peachtree Battle Ave NW:geo:-84.4089772,33.8233671
END:VEVENT
BEGIN:VEVENT
DTSTART;TZID=America/New_York:20300702T180000
DTEND;TZID=America/New_York:20300702T190000
DTSTAMP:20260426T000112
CREATED:20260327T143335Z
LAST-MODIFIED:20260327T143407Z
UID:10021727-1909245600-1909249200@aasynagogue.org
SUMMARY:Evening Minyan 🔀
DESCRIPTION:Join us in Ellman Chapel or via Zoom. \n Join Zoom
URL:https://aasynagogue.org/event/evening-minyan-5-2-3-2-2/2030-07-02/
LOCATION:Ahavath Achim Synagogue—Ellman Chapel\, 600 Peachtree Battle Ave NW\, Atlanta\, GA\, 30327\, United States
CATEGORIES:Prayer
GEO:33.8233671;-84.4089772
X-APPLE-STRUCTURED-LOCATION;VALUE=URI;X-ADDRESS=Ahavath Achim Synagogue—Ellman Chapel 600 Peachtree Battle Ave NW Atlanta GA 30327 United States;X-APPLE-RADIUS=500;X-TITLE=600 Peachtree Battle Ave NW:geo:-84.4089772,33.8233671
END:VEVENT
BEGIN:VEVENT
DTSTART;TZID=America/New_York:20300703T180000
DTEND;TZID=America/New_York:20300703T190000
DTSTAMP:20260426T000112
CREATED:20260327T143335Z
LAST-MODIFIED:20260327T143407Z
UID:10021728-1909332000-1909335600@aasynagogue.org
SUMMARY:Evening Minyan 🔀
DESCRIPTION:Join us in Ellman Chapel or via Zoom. \n Join Zoom
URL:https://aasynagogue.org/event/evening-minyan-5-2-3-2-2/2030-07-03/
LOCATION:Ahavath Achim Synagogue—Ellman Chapel\, 600 Peachtree Battle Ave NW\, Atlanta\, GA\, 30327\, United States
CATEGORIES:Prayer
GEO:33.8233671;-84.4089772
X-APPLE-STRUCTURED-LOCATION;VALUE=URI;X-ADDRESS=Ahavath Achim Synagogue—Ellman Chapel 600 Peachtree Battle Ave NW Atlanta GA 30327 United States;X-APPLE-RADIUS=500;X-TITLE=600 Peachtree Battle Ave NW:geo:-84.4089772,33.8233671
END:VEVENT
BEGIN:VEVENT
DTSTART;TZID=America/New_York:20300704T180000
DTEND;TZID=America/New_York:20300704T190000
DTSTAMP:20260426T000112
CREATED:20260327T143335Z
LAST-MODIFIED:20260327T143407Z
UID:10021729-1909418400-1909422000@aasynagogue.org
SUMMARY:Evening Minyan 🔀
DESCRIPTION:Join us in Ellman Chapel or via Zoom. \n Join Zoom
URL:https://aasynagogue.org/event/evening-minyan-5-2-3-2-2/2030-07-04/
LOCATION:Ahavath Achim Synagogue—Ellman Chapel\, 600 Peachtree Battle Ave NW\, Atlanta\, GA\, 30327\, United States
CATEGORIES:Prayer
GEO:33.8233671;-84.4089772
X-APPLE-STRUCTURED-LOCATION;VALUE=URI;X-ADDRESS=Ahavath Achim Synagogue—Ellman Chapel 600 Peachtree Battle Ave NW Atlanta GA 30327 United States;X-APPLE-RADIUS=500;X-TITLE=600 Peachtree Battle Ave NW:geo:-84.4089772,33.8233671
END:VEVENT
BEGIN:VEVENT
DTSTART;TZID=America/New_York:20300707T180000
DTEND;TZID=America/New_York:20300707T190000
DTSTAMP:20260426T000112
CREATED:20260327T143335Z
LAST-MODIFIED:20260327T143407Z
UID:10021730-1909677600-1909681200@aasynagogue.org
SUMMARY:Evening Minyan 🔀
DESCRIPTION:Join us in Ellman Chapel or via Zoom. \n Join Zoom
URL:https://aasynagogue.org/event/evening-minyan-5-2-3-2-2/2030-07-07/
LOCATION:Ahavath Achim Synagogue—Ellman Chapel\, 600 Peachtree Battle Ave NW\, Atlanta\, GA\, 30327\, United States
CATEGORIES:Prayer
GEO:33.8233671;-84.4089772
X-APPLE-STRUCTURED-LOCATION;VALUE=URI;X-ADDRESS=Ahavath Achim Synagogue—Ellman Chapel 600 Peachtree Battle Ave NW Atlanta GA 30327 United States;X-APPLE-RADIUS=500;X-TITLE=600 Peachtree Battle Ave NW:geo:-84.4089772,33.8233671
END:VEVENT
BEGIN:VEVENT
DTSTART;TZID=America/New_York:20300708T180000
DTEND;TZID=America/New_York:20300708T190000
DTSTAMP:20260426T000112
CREATED:20260327T143335Z
LAST-MODIFIED:20260327T143407Z
UID:10021731-1909764000-1909767600@aasynagogue.org
SUMMARY:Evening Minyan 🔀
DESCRIPTION:Join us in Ellman Chapel or via Zoom. \n Join Zoom
URL:https://aasynagogue.org/event/evening-minyan-5-2-3-2-2/2030-07-08/
LOCATION:Ahavath Achim Synagogue—Ellman Chapel\, 600 Peachtree Battle Ave NW\, Atlanta\, GA\, 30327\, United States
CATEGORIES:Prayer
GEO:33.8233671;-84.4089772
X-APPLE-STRUCTURED-LOCATION;VALUE=URI;X-ADDRESS=Ahavath Achim Synagogue—Ellman Chapel 600 Peachtree Battle Ave NW Atlanta GA 30327 United States;X-APPLE-RADIUS=500;X-TITLE=600 Peachtree Battle Ave NW:geo:-84.4089772,33.8233671
END:VEVENT
BEGIN:VEVENT
DTSTART;TZID=America/New_York:20300709T180000
DTEND;TZID=America/New_York:20300709T190000
DTSTAMP:20260426T000112
CREATED:20260327T143335Z
LAST-MODIFIED:20260327T143407Z
UID:10021732-1909850400-1909854000@aasynagogue.org
SUMMARY:Evening Minyan 🔀
DESCRIPTION:Join us in Ellman Chapel or via Zoom. \n Join Zoom
URL:https://aasynagogue.org/event/evening-minyan-5-2-3-2-2/2030-07-09/
LOCATION:Ahavath Achim Synagogue—Ellman Chapel\, 600 Peachtree Battle Ave NW\, Atlanta\, GA\, 30327\, United States
CATEGORIES:Prayer
GEO:33.8233671;-84.4089772
X-APPLE-STRUCTURED-LOCATION;VALUE=URI;X-ADDRESS=Ahavath Achim Synagogue—Ellman Chapel 600 Peachtree Battle Ave NW Atlanta GA 30327 United States;X-APPLE-RADIUS=500;X-TITLE=600 Peachtree Battle Ave NW:geo:-84.4089772,33.8233671
END:VEVENT
BEGIN:VEVENT
DTSTART;TZID=America/New_York:20300710T180000
DTEND;TZID=America/New_York:20300710T190000
DTSTAMP:20260426T000112
CREATED:20260327T143335Z
LAST-MODIFIED:20260327T143407Z
UID:10021733-1909936800-1909940400@aasynagogue.org
SUMMARY:Evening Minyan 🔀
DESCRIPTION:Join us in Ellman Chapel or via Zoom. \n Join Zoom
URL:https://aasynagogue.org/event/evening-minyan-5-2-3-2-2/2030-07-10/
LOCATION:Ahavath Achim Synagogue—Ellman Chapel\, 600 Peachtree Battle Ave NW\, Atlanta\, GA\, 30327\, United States
CATEGORIES:Prayer
GEO:33.8233671;-84.4089772
X-APPLE-STRUCTURED-LOCATION;VALUE=URI;X-ADDRESS=Ahavath Achim Synagogue—Ellman Chapel 600 Peachtree Battle Ave NW Atlanta GA 30327 United States;X-APPLE-RADIUS=500;X-TITLE=600 Peachtree Battle Ave NW:geo:-84.4089772,33.8233671
END:VEVENT
BEGIN:VEVENT
DTSTART;TZID=America/New_York:20300711T180000
DTEND;TZID=America/New_York:20300711T190000
DTSTAMP:20260426T000112
CREATED:20260327T143335Z
LAST-MODIFIED:20260327T143407Z
UID:10021734-1910023200-1910026800@aasynagogue.org
SUMMARY:Evening Minyan 🔀
DESCRIPTION:Join us in Ellman Chapel or via Zoom. \n Join Zoom
URL:https://aasynagogue.org/event/evening-minyan-5-2-3-2-2/2030-07-11/
LOCATION:Ahavath Achim Synagogue—Ellman Chapel\, 600 Peachtree Battle Ave NW\, Atlanta\, GA\, 30327\, United States
CATEGORIES:Prayer
GEO:33.8233671;-84.4089772
X-APPLE-STRUCTURED-LOCATION;VALUE=URI;X-ADDRESS=Ahavath Achim Synagogue—Ellman Chapel 600 Peachtree Battle Ave NW Atlanta GA 30327 United States;X-APPLE-RADIUS=500;X-TITLE=600 Peachtree Battle Ave NW:geo:-84.4089772,33.8233671
END:VEVENT
BEGIN:VEVENT
DTSTART;TZID=America/New_York:20300714T180000
DTEND;TZID=America/New_York:20300714T190000
DTSTAMP:20260426T000112
CREATED:20260327T143335Z
LAST-MODIFIED:20260327T143407Z
UID:10021735-1910282400-1910286000@aasynagogue.org
SUMMARY:Evening Minyan 🔀
DESCRIPTION:Join us in Ellman Chapel or via Zoom. \n Join Zoom
URL:https://aasynagogue.org/event/evening-minyan-5-2-3-2-2/2030-07-14/
LOCATION:Ahavath Achim Synagogue—Ellman Chapel\, 600 Peachtree Battle Ave NW\, Atlanta\, GA\, 30327\, United States
CATEGORIES:Prayer
GEO:33.8233671;-84.4089772
X-APPLE-STRUCTURED-LOCATION;VALUE=URI;X-ADDRESS=Ahavath Achim Synagogue—Ellman Chapel 600 Peachtree Battle Ave NW Atlanta GA 30327 United States;X-APPLE-RADIUS=500;X-TITLE=600 Peachtree Battle Ave NW:geo:-84.4089772,33.8233671
END:VEVENT
BEGIN:VEVENT
DTSTART;TZID=America/New_York:20300715T180000
DTEND;TZID=America/New_York:20300715T190000
DTSTAMP:20260426T000112
CREATED:20260327T143335Z
LAST-MODIFIED:20260327T143407Z
UID:10021736-1910368800-1910372400@aasynagogue.org
SUMMARY:Evening Minyan 🔀
DESCRIPTION:Join us in Ellman Chapel or via Zoom. \n Join Zoom
URL:https://aasynagogue.org/event/evening-minyan-5-2-3-2-2/2030-07-15/
LOCATION:Ahavath Achim Synagogue—Ellman Chapel\, 600 Peachtree Battle Ave NW\, Atlanta\, GA\, 30327\, United States
CATEGORIES:Prayer
GEO:33.8233671;-84.4089772
X-APPLE-STRUCTURED-LOCATION;VALUE=URI;X-ADDRESS=Ahavath Achim Synagogue—Ellman Chapel 600 Peachtree Battle Ave NW Atlanta GA 30327 United States;X-APPLE-RADIUS=500;X-TITLE=600 Peachtree Battle Ave NW:geo:-84.4089772,33.8233671
END:VEVENT
BEGIN:VEVENT
DTSTART;TZID=America/New_York:20300716T180000
DTEND;TZID=America/New_York:20300716T190000
DTSTAMP:20260426T000113
CREATED:20260327T143335Z
LAST-MODIFIED:20260327T143407Z
UID:10021737-1910455200-1910458800@aasynagogue.org
SUMMARY:Evening Minyan 🔀
DESCRIPTION:Join us in Ellman Chapel or via Zoom. \n Join Zoom
URL:https://aasynagogue.org/event/evening-minyan-5-2-3-2-2/2030-07-16/
LOCATION:Ahavath Achim Synagogue—Ellman Chapel\, 600 Peachtree Battle Ave NW\, Atlanta\, GA\, 30327\, United States
CATEGORIES:Prayer
GEO:33.8233671;-84.4089772
X-APPLE-STRUCTURED-LOCATION;VALUE=URI;X-ADDRESS=Ahavath Achim Synagogue—Ellman Chapel 600 Peachtree Battle Ave NW Atlanta GA 30327 United States;X-APPLE-RADIUS=500;X-TITLE=600 Peachtree Battle Ave NW:geo:-84.4089772,33.8233671
END:VEVENT
BEGIN:VEVENT
DTSTART;TZID=America/New_York:20300717T180000
DTEND;TZID=America/New_York:20300717T190000
DTSTAMP:20260426T000113
CREATED:20260327T143335Z
LAST-MODIFIED:20260327T143407Z
UID:10021738-1910541600-1910545200@aasynagogue.org
SUMMARY:Evening Minyan 🔀
DESCRIPTION:Join us in Ellman Chapel or via Zoom. \n Join Zoom
URL:https://aasynagogue.org/event/evening-minyan-5-2-3-2-2/2030-07-17/
LOCATION:Ahavath Achim Synagogue—Ellman Chapel\, 600 Peachtree Battle Ave NW\, Atlanta\, GA\, 30327\, United States
CATEGORIES:Prayer
GEO:33.8233671;-84.4089772
X-APPLE-STRUCTURED-LOCATION;VALUE=URI;X-ADDRESS=Ahavath Achim Synagogue—Ellman Chapel 600 Peachtree Battle Ave NW Atlanta GA 30327 United States;X-APPLE-RADIUS=500;X-TITLE=600 Peachtree Battle Ave NW:geo:-84.4089772,33.8233671
END:VEVENT
BEGIN:VEVENT
DTSTART;TZID=America/New_York:20300718T180000
DTEND;TZID=America/New_York:20300718T190000
DTSTAMP:20260426T000113
CREATED:20260327T143335Z
LAST-MODIFIED:20260327T143407Z
UID:10021739-1910628000-1910631600@aasynagogue.org
SUMMARY:Evening Minyan 🔀
DESCRIPTION:Join us in Ellman Chapel or via Zoom. \n Join Zoom
URL:https://aasynagogue.org/event/evening-minyan-5-2-3-2-2/2030-07-18/
LOCATION:Ahavath Achim Synagogue—Ellman Chapel\, 600 Peachtree Battle Ave NW\, Atlanta\, GA\, 30327\, United States
CATEGORIES:Prayer
GEO:33.8233671;-84.4089772
X-APPLE-STRUCTURED-LOCATION;VALUE=URI;X-ADDRESS=Ahavath Achim Synagogue—Ellman Chapel 600 Peachtree Battle Ave NW Atlanta GA 30327 United States;X-APPLE-RADIUS=500;X-TITLE=600 Peachtree Battle Ave NW:geo:-84.4089772,33.8233671
END:VEVENT
BEGIN:VEVENT
DTSTART;TZID=America/New_York:20300721T180000
DTEND;TZID=America/New_York:20300721T190000
DTSTAMP:20260426T000113
CREATED:20260327T143335Z
LAST-MODIFIED:20260327T143407Z
UID:10021740-1910887200-1910890800@aasynagogue.org
SUMMARY:Evening Minyan 🔀
DESCRIPTION:Join us in Ellman Chapel or via Zoom. \n Join Zoom
URL:https://aasynagogue.org/event/evening-minyan-5-2-3-2-2/2030-07-21/
LOCATION:Ahavath Achim Synagogue—Ellman Chapel\, 600 Peachtree Battle Ave NW\, Atlanta\, GA\, 30327\, United States
CATEGORIES:Prayer
GEO:33.8233671;-84.4089772
X-APPLE-STRUCTURED-LOCATION;VALUE=URI;X-ADDRESS=Ahavath Achim Synagogue—Ellman Chapel 600 Peachtree Battle Ave NW Atlanta GA 30327 United States;X-APPLE-RADIUS=500;X-TITLE=600 Peachtree Battle Ave NW:geo:-84.4089772,33.8233671
END:VEVENT
BEGIN:VEVENT
DTSTART;TZID=America/New_York:20300722T180000
DTEND;TZID=America/New_York:20300722T190000
DTSTAMP:20260426T000113
CREATED:20260327T143335Z
LAST-MODIFIED:20260327T143407Z
UID:10021741-1910973600-1910977200@aasynagogue.org
SUMMARY:Evening Minyan 🔀
DESCRIPTION:Join us in Ellman Chapel or via Zoom. \n Join Zoom
URL:https://aasynagogue.org/event/evening-minyan-5-2-3-2-2/2030-07-22/
LOCATION:Ahavath Achim Synagogue—Ellman Chapel\, 600 Peachtree Battle Ave NW\, Atlanta\, GA\, 30327\, United States
CATEGORIES:Prayer
GEO:33.8233671;-84.4089772
X-APPLE-STRUCTURED-LOCATION;VALUE=URI;X-ADDRESS=Ahavath Achim Synagogue—Ellman Chapel 600 Peachtree Battle Ave NW Atlanta GA 30327 United States;X-APPLE-RADIUS=500;X-TITLE=600 Peachtree Battle Ave NW:geo:-84.4089772,33.8233671
END:VEVENT
BEGIN:VEVENT
DTSTART;TZID=America/New_York:20300723T180000
DTEND;TZID=America/New_York:20300723T190000
DTSTAMP:20260426T000113
CREATED:20260327T143335Z
LAST-MODIFIED:20260327T143407Z
UID:10021742-1911060000-1911063600@aasynagogue.org
SUMMARY:Evening Minyan 🔀
DESCRIPTION:Join us in Ellman Chapel or via Zoom. \n Join Zoom
URL:https://aasynagogue.org/event/evening-minyan-5-2-3-2-2/2030-07-23/
LOCATION:Ahavath Achim Synagogue—Ellman Chapel\, 600 Peachtree Battle Ave NW\, Atlanta\, GA\, 30327\, United States
CATEGORIES:Prayer
GEO:33.8233671;-84.4089772
X-APPLE-STRUCTURED-LOCATION;VALUE=URI;X-ADDRESS=Ahavath Achim Synagogue—Ellman Chapel 600 Peachtree Battle Ave NW Atlanta GA 30327 United States;X-APPLE-RADIUS=500;X-TITLE=600 Peachtree Battle Ave NW:geo:-84.4089772,33.8233671
END:VEVENT
BEGIN:VEVENT
DTSTART;TZID=America/New_York:20300724T180000
DTEND;TZID=America/New_York:20300724T190000
DTSTAMP:20260426T000113
CREATED:20260327T143335Z
LAST-MODIFIED:20260327T143407Z
UID:10021743-1911146400-1911150000@aasynagogue.org
SUMMARY:Evening Minyan 🔀
DESCRIPTION:Join us in Ellman Chapel or via Zoom. \n Join Zoom
URL:https://aasynagogue.org/event/evening-minyan-5-2-3-2-2/2030-07-24/
LOCATION:Ahavath Achim Synagogue—Ellman Chapel\, 600 Peachtree Battle Ave NW\, Atlanta\, GA\, 30327\, United States
CATEGORIES:Prayer
GEO:33.8233671;-84.4089772
X-APPLE-STRUCTURED-LOCATION;VALUE=URI;X-ADDRESS=Ahavath Achim Synagogue—Ellman Chapel 600 Peachtree Battle Ave NW Atlanta GA 30327 United States;X-APPLE-RADIUS=500;X-TITLE=600 Peachtree Battle Ave NW:geo:-84.4089772,33.8233671
END:VEVENT
BEGIN:VEVENT
DTSTART;TZID=America/New_York:20300725T180000
DTEND;TZID=America/New_York:20300725T190000
DTSTAMP:20260426T000113
CREATED:20260327T143335Z
LAST-MODIFIED:20260327T143407Z
UID:10021744-1911232800-1911236400@aasynagogue.org
SUMMARY:Evening Minyan 🔀
DESCRIPTION:Join us in Ellman Chapel or via Zoom. \n Join Zoom
URL:https://aasynagogue.org/event/evening-minyan-5-2-3-2-2/2030-07-25/
LOCATION:Ahavath Achim Synagogue—Ellman Chapel\, 600 Peachtree Battle Ave NW\, Atlanta\, GA\, 30327\, United States
CATEGORIES:Prayer
GEO:33.8233671;-84.4089772
X-APPLE-STRUCTURED-LOCATION;VALUE=URI;X-ADDRESS=Ahavath Achim Synagogue—Ellman Chapel 600 Peachtree Battle Ave NW Atlanta GA 30327 United States;X-APPLE-RADIUS=500;X-TITLE=600 Peachtree Battle Ave NW:geo:-84.4089772,33.8233671
END:VEVENT
BEGIN:VEVENT
DTSTART;TZID=America/New_York:20300728T180000
DTEND;TZID=America/New_York:20300728T190000
DTSTAMP:20260426T000113
CREATED:20260327T143335Z
LAST-MODIFIED:20260327T143407Z
UID:10021745-1911492000-1911495600@aasynagogue.org
SUMMARY:Evening Minyan 🔀
DESCRIPTION:Join us in Ellman Chapel or via Zoom. \n Join Zoom
URL:https://aasynagogue.org/event/evening-minyan-5-2-3-2-2/2030-07-28/
LOCATION:Ahavath Achim Synagogue—Ellman Chapel\, 600 Peachtree Battle Ave NW\, Atlanta\, GA\, 30327\, United States
CATEGORIES:Prayer
GEO:33.8233671;-84.4089772
X-APPLE-STRUCTURED-LOCATION;VALUE=URI;X-ADDRESS=Ahavath Achim Synagogue—Ellman Chapel 600 Peachtree Battle Ave NW Atlanta GA 30327 United States;X-APPLE-RADIUS=500;X-TITLE=600 Peachtree Battle Ave NW:geo:-84.4089772,33.8233671
END:VEVENT
BEGIN:VEVENT
DTSTART;TZID=America/New_York:20300729T180000
DTEND;TZID=America/New_York:20300729T190000
DTSTAMP:20260426T000113
CREATED:20260327T143335Z
LAST-MODIFIED:20260327T143407Z
UID:10021746-1911578400-1911582000@aasynagogue.org
SUMMARY:Evening Minyan 🔀
DESCRIPTION:Join us in Ellman Chapel or via Zoom. \n Join Zoom
URL:https://aasynagogue.org/event/evening-minyan-5-2-3-2-2/2030-07-29/
LOCATION:Ahavath Achim Synagogue—Ellman Chapel\, 600 Peachtree Battle Ave NW\, Atlanta\, GA\, 30327\, United States
CATEGORIES:Prayer
GEO:33.8233671;-84.4089772
X-APPLE-STRUCTURED-LOCATION;VALUE=URI;X-ADDRESS=Ahavath Achim Synagogue—Ellman Chapel 600 Peachtree Battle Ave NW Atlanta GA 30327 United States;X-APPLE-RADIUS=500;X-TITLE=600 Peachtree Battle Ave NW:geo:-84.4089772,33.8233671
END:VEVENT
BEGIN:VEVENT
DTSTART;TZID=America/New_York:20300730T180000
DTEND;TZID=America/New_York:20300730T190000
DTSTAMP:20260426T000113
CREATED:20260327T143335Z
LAST-MODIFIED:20260327T143407Z
UID:10021747-1911664800-1911668400@aasynagogue.org
SUMMARY:Evening Minyan 🔀
DESCRIPTION:Join us in Ellman Chapel or via Zoom. \n Join Zoom
URL:https://aasynagogue.org/event/evening-minyan-5-2-3-2-2/2030-07-30/
LOCATION:Ahavath Achim Synagogue—Ellman Chapel\, 600 Peachtree Battle Ave NW\, Atlanta\, GA\, 30327\, United States
CATEGORIES:Prayer
GEO:33.8233671;-84.4089772
X-APPLE-STRUCTURED-LOCATION;VALUE=URI;X-ADDRESS=Ahavath Achim Synagogue—Ellman Chapel 600 Peachtree Battle Ave NW Atlanta GA 30327 United States;X-APPLE-RADIUS=500;X-TITLE=600 Peachtree Battle Ave NW:geo:-84.4089772,33.8233671
END:VEVENT
BEGIN:VEVENT
DTSTART;TZID=America/New_York:20300731T180000
DTEND;TZID=America/New_York:20300731T190000
DTSTAMP:20260426T000113
CREATED:20260327T143335Z
LAST-MODIFIED:20260327T143407Z
UID:10022133-1911751200-1911754800@aasynagogue.org
SUMMARY:Evening Minyan 🔀
DESCRIPTION:Join us in Ellman Chapel or via Zoom. \n Join Zoom
URL:https://aasynagogue.org/event/evening-minyan-5-2-3-2-2/2030-07-31/
LOCATION:Ahavath Achim Synagogue—Ellman Chapel\, 600 Peachtree Battle Ave NW\, Atlanta\, GA\, 30327\, United States
CATEGORIES:Prayer
GEO:33.8233671;-84.4089772
X-APPLE-STRUCTURED-LOCATION;VALUE=URI;X-ADDRESS=Ahavath Achim Synagogue—Ellman Chapel 600 Peachtree Battle Ave NW Atlanta GA 30327 United States;X-APPLE-RADIUS=500;X-TITLE=600 Peachtree Battle Ave NW:geo:-84.4089772,33.8233671
END:VEVENT
END:VCALENDAR