BEGIN:VCALENDAR
VERSION:2.0
PRODID:-//Ahavath Achim Synagogue - ECPv6.15.20//NONSGML v1.0//EN
CALSCALE:GREGORIAN
METHOD:PUBLISH
X-WR-CALNAME:Ahavath Achim Synagogue
X-ORIGINAL-URL:https://aasynagogue.org
X-WR-CALDESC:Events for Ahavath Achim Synagogue
REFRESH-INTERVAL;VALUE=DURATION:PT1H
X-Robots-Tag:noindex
X-PUBLISHED-TTL:PT1H
BEGIN:VTIMEZONE
TZID:America/New_York
BEGIN:DAYLIGHT
TZOFFSETFROM:-0500
TZOFFSETTO:-0400
TZNAME:EDT
DTSTART:20290311T070000
END:DAYLIGHT
BEGIN:STANDARD
TZOFFSETFROM:-0400
TZOFFSETTO:-0500
TZNAME:EST
DTSTART:20291104T060000
END:STANDARD
BEGIN:DAYLIGHT
TZOFFSETFROM:-0500
TZOFFSETTO:-0400
TZNAME:EDT
DTSTART:20300310T070000
END:DAYLIGHT
BEGIN:STANDARD
TZOFFSETFROM:-0400
TZOFFSETTO:-0500
TZNAME:EST
DTSTART:20301103T060000
END:STANDARD
BEGIN:DAYLIGHT
TZOFFSETFROM:-0500
TZOFFSETTO:-0400
TZNAME:EDT
DTSTART:20310309T070000
END:DAYLIGHT
BEGIN:STANDARD
TZOFFSETFROM:-0400
TZOFFSETTO:-0500
TZNAME:EST
DTSTART:20311102T060000
END:STANDARD
END:VTIMEZONE
BEGIN:VEVENT
DTSTART;TZID=America/New_York:20300501T180000
DTEND;TZID=America/New_York:20300501T190000
DTSTAMP:20260425T143726
CREATED:20260327T143335Z
LAST-MODIFIED:20260327T143407Z
UID:10021569-1903888800-1903892400@aasynagogue.org
SUMMARY:Evening Minyan 🔀
DESCRIPTION:Join us in Ellman Chapel or via Zoom. \n Join Zoom
URL:https://aasynagogue.org/event/evening-minyan-5-2-3-2-2/2030-05-01/
LOCATION:Ahavath Achim Synagogue—Ellman Chapel\, 600 Peachtree Battle Ave NW\, Atlanta\, GA\, 30327\, United States
CATEGORIES:Prayer
GEO:33.8233671;-84.4089772
X-APPLE-STRUCTURED-LOCATION;VALUE=URI;X-ADDRESS=Ahavath Achim Synagogue—Ellman Chapel 600 Peachtree Battle Ave NW Atlanta GA 30327 United States;X-APPLE-RADIUS=500;X-TITLE=600 Peachtree Battle Ave NW:geo:-84.4089772,33.8233671
END:VEVENT
BEGIN:VEVENT
DTSTART;TZID=America/New_York:20300502T180000
DTEND;TZID=America/New_York:20300502T190000
DTSTAMP:20260425T143727
CREATED:20260327T143335Z
LAST-MODIFIED:20260327T143407Z
UID:10021570-1903975200-1903978800@aasynagogue.org
SUMMARY:Evening Minyan 🔀
DESCRIPTION:Join us in Ellman Chapel or via Zoom. \n Join Zoom
URL:https://aasynagogue.org/event/evening-minyan-5-2-3-2-2/2030-05-02/
LOCATION:Ahavath Achim Synagogue—Ellman Chapel\, 600 Peachtree Battle Ave NW\, Atlanta\, GA\, 30327\, United States
CATEGORIES:Prayer
GEO:33.8233671;-84.4089772
X-APPLE-STRUCTURED-LOCATION;VALUE=URI;X-ADDRESS=Ahavath Achim Synagogue—Ellman Chapel 600 Peachtree Battle Ave NW Atlanta GA 30327 United States;X-APPLE-RADIUS=500;X-TITLE=600 Peachtree Battle Ave NW:geo:-84.4089772,33.8233671
END:VEVENT
BEGIN:VEVENT
DTSTART;TZID=America/New_York:20300505T180000
DTEND;TZID=America/New_York:20300505T190000
DTSTAMP:20260425T143727
CREATED:20260327T143335Z
LAST-MODIFIED:20260327T143407Z
UID:10021571-1904234400-1904238000@aasynagogue.org
SUMMARY:Evening Minyan 🔀
DESCRIPTION:Join us in Ellman Chapel or via Zoom. \n Join Zoom
URL:https://aasynagogue.org/event/evening-minyan-5-2-3-2-2/2030-05-05/
LOCATION:Ahavath Achim Synagogue—Ellman Chapel\, 600 Peachtree Battle Ave NW\, Atlanta\, GA\, 30327\, United States
CATEGORIES:Prayer
GEO:33.8233671;-84.4089772
X-APPLE-STRUCTURED-LOCATION;VALUE=URI;X-ADDRESS=Ahavath Achim Synagogue—Ellman Chapel 600 Peachtree Battle Ave NW Atlanta GA 30327 United States;X-APPLE-RADIUS=500;X-TITLE=600 Peachtree Battle Ave NW:geo:-84.4089772,33.8233671
END:VEVENT
BEGIN:VEVENT
DTSTART;TZID=America/New_York:20300506T180000
DTEND;TZID=America/New_York:20300506T190000
DTSTAMP:20260425T143727
CREATED:20260327T143335Z
LAST-MODIFIED:20260327T143407Z
UID:10021572-1904320800-1904324400@aasynagogue.org
SUMMARY:Evening Minyan 🔀
DESCRIPTION:Join us in Ellman Chapel or via Zoom. \n Join Zoom
URL:https://aasynagogue.org/event/evening-minyan-5-2-3-2-2/2030-05-06/
LOCATION:Ahavath Achim Synagogue—Ellman Chapel\, 600 Peachtree Battle Ave NW\, Atlanta\, GA\, 30327\, United States
CATEGORIES:Prayer
GEO:33.8233671;-84.4089772
X-APPLE-STRUCTURED-LOCATION;VALUE=URI;X-ADDRESS=Ahavath Achim Synagogue—Ellman Chapel 600 Peachtree Battle Ave NW Atlanta GA 30327 United States;X-APPLE-RADIUS=500;X-TITLE=600 Peachtree Battle Ave NW:geo:-84.4089772,33.8233671
END:VEVENT
BEGIN:VEVENT
DTSTART;TZID=America/New_York:20300507T180000
DTEND;TZID=America/New_York:20300507T190000
DTSTAMP:20260425T143727
CREATED:20260327T143335Z
LAST-MODIFIED:20260327T143407Z
UID:10021573-1904407200-1904410800@aasynagogue.org
SUMMARY:Evening Minyan 🔀
DESCRIPTION:Join us in Ellman Chapel or via Zoom. \n Join Zoom
URL:https://aasynagogue.org/event/evening-minyan-5-2-3-2-2/2030-05-07/
LOCATION:Ahavath Achim Synagogue—Ellman Chapel\, 600 Peachtree Battle Ave NW\, Atlanta\, GA\, 30327\, United States
CATEGORIES:Prayer
GEO:33.8233671;-84.4089772
X-APPLE-STRUCTURED-LOCATION;VALUE=URI;X-ADDRESS=Ahavath Achim Synagogue—Ellman Chapel 600 Peachtree Battle Ave NW Atlanta GA 30327 United States;X-APPLE-RADIUS=500;X-TITLE=600 Peachtree Battle Ave NW:geo:-84.4089772,33.8233671
END:VEVENT
BEGIN:VEVENT
DTSTART;TZID=America/New_York:20300508T180000
DTEND;TZID=America/New_York:20300508T190000
DTSTAMP:20260425T143727
CREATED:20260327T143335Z
LAST-MODIFIED:20260327T143407Z
UID:10021574-1904493600-1904497200@aasynagogue.org
SUMMARY:Evening Minyan 🔀
DESCRIPTION:Join us in Ellman Chapel or via Zoom. \n Join Zoom
URL:https://aasynagogue.org/event/evening-minyan-5-2-3-2-2/2030-05-08/
LOCATION:Ahavath Achim Synagogue—Ellman Chapel\, 600 Peachtree Battle Ave NW\, Atlanta\, GA\, 30327\, United States
CATEGORIES:Prayer
GEO:33.8233671;-84.4089772
X-APPLE-STRUCTURED-LOCATION;VALUE=URI;X-ADDRESS=Ahavath Achim Synagogue—Ellman Chapel 600 Peachtree Battle Ave NW Atlanta GA 30327 United States;X-APPLE-RADIUS=500;X-TITLE=600 Peachtree Battle Ave NW:geo:-84.4089772,33.8233671
END:VEVENT
BEGIN:VEVENT
DTSTART;TZID=America/New_York:20300509T180000
DTEND;TZID=America/New_York:20300509T190000
DTSTAMP:20260425T143727
CREATED:20260327T143335Z
LAST-MODIFIED:20260327T143407Z
UID:10021575-1904580000-1904583600@aasynagogue.org
SUMMARY:Evening Minyan 🔀
DESCRIPTION:Join us in Ellman Chapel or via Zoom. \n Join Zoom
URL:https://aasynagogue.org/event/evening-minyan-5-2-3-2-2/2030-05-09/
LOCATION:Ahavath Achim Synagogue—Ellman Chapel\, 600 Peachtree Battle Ave NW\, Atlanta\, GA\, 30327\, United States
CATEGORIES:Prayer
GEO:33.8233671;-84.4089772
X-APPLE-STRUCTURED-LOCATION;VALUE=URI;X-ADDRESS=Ahavath Achim Synagogue—Ellman Chapel 600 Peachtree Battle Ave NW Atlanta GA 30327 United States;X-APPLE-RADIUS=500;X-TITLE=600 Peachtree Battle Ave NW:geo:-84.4089772,33.8233671
END:VEVENT
BEGIN:VEVENT
DTSTART;TZID=America/New_York:20300512T180000
DTEND;TZID=America/New_York:20300512T190000
DTSTAMP:20260425T143727
CREATED:20260327T143335Z
LAST-MODIFIED:20260327T143407Z
UID:10021576-1904839200-1904842800@aasynagogue.org
SUMMARY:Evening Minyan 🔀
DESCRIPTION:Join us in Ellman Chapel or via Zoom. \n Join Zoom
URL:https://aasynagogue.org/event/evening-minyan-5-2-3-2-2/2030-05-12/
LOCATION:Ahavath Achim Synagogue—Ellman Chapel\, 600 Peachtree Battle Ave NW\, Atlanta\, GA\, 30327\, United States
CATEGORIES:Prayer
GEO:33.8233671;-84.4089772
X-APPLE-STRUCTURED-LOCATION;VALUE=URI;X-ADDRESS=Ahavath Achim Synagogue—Ellman Chapel 600 Peachtree Battle Ave NW Atlanta GA 30327 United States;X-APPLE-RADIUS=500;X-TITLE=600 Peachtree Battle Ave NW:geo:-84.4089772,33.8233671
END:VEVENT
BEGIN:VEVENT
DTSTART;TZID=America/New_York:20300513T180000
DTEND;TZID=America/New_York:20300513T190000
DTSTAMP:20260425T143727
CREATED:20260327T143335Z
LAST-MODIFIED:20260327T143407Z
UID:10021577-1904925600-1904929200@aasynagogue.org
SUMMARY:Evening Minyan 🔀
DESCRIPTION:Join us in Ellman Chapel or via Zoom. \n Join Zoom
URL:https://aasynagogue.org/event/evening-minyan-5-2-3-2-2/2030-05-13/
LOCATION:Ahavath Achim Synagogue—Ellman Chapel\, 600 Peachtree Battle Ave NW\, Atlanta\, GA\, 30327\, United States
CATEGORIES:Prayer
GEO:33.8233671;-84.4089772
X-APPLE-STRUCTURED-LOCATION;VALUE=URI;X-ADDRESS=Ahavath Achim Synagogue—Ellman Chapel 600 Peachtree Battle Ave NW Atlanta GA 30327 United States;X-APPLE-RADIUS=500;X-TITLE=600 Peachtree Battle Ave NW:geo:-84.4089772,33.8233671
END:VEVENT
BEGIN:VEVENT
DTSTART;TZID=America/New_York:20300514T180000
DTEND;TZID=America/New_York:20300514T190000
DTSTAMP:20260425T143727
CREATED:20260327T143335Z
LAST-MODIFIED:20260327T143407Z
UID:10021578-1905012000-1905015600@aasynagogue.org
SUMMARY:Evening Minyan 🔀
DESCRIPTION:Join us in Ellman Chapel or via Zoom. \n Join Zoom
URL:https://aasynagogue.org/event/evening-minyan-5-2-3-2-2/2030-05-14/
LOCATION:Ahavath Achim Synagogue—Ellman Chapel\, 600 Peachtree Battle Ave NW\, Atlanta\, GA\, 30327\, United States
CATEGORIES:Prayer
GEO:33.8233671;-84.4089772
X-APPLE-STRUCTURED-LOCATION;VALUE=URI;X-ADDRESS=Ahavath Achim Synagogue—Ellman Chapel 600 Peachtree Battle Ave NW Atlanta GA 30327 United States;X-APPLE-RADIUS=500;X-TITLE=600 Peachtree Battle Ave NW:geo:-84.4089772,33.8233671
END:VEVENT
BEGIN:VEVENT
DTSTART;TZID=America/New_York:20300515T180000
DTEND;TZID=America/New_York:20300515T190000
DTSTAMP:20260425T143727
CREATED:20260327T143335Z
LAST-MODIFIED:20260327T143407Z
UID:10021579-1905098400-1905102000@aasynagogue.org
SUMMARY:Evening Minyan 🔀
DESCRIPTION:Join us in Ellman Chapel or via Zoom. \n Join Zoom
URL:https://aasynagogue.org/event/evening-minyan-5-2-3-2-2/2030-05-15/
LOCATION:Ahavath Achim Synagogue—Ellman Chapel\, 600 Peachtree Battle Ave NW\, Atlanta\, GA\, 30327\, United States
CATEGORIES:Prayer
GEO:33.8233671;-84.4089772
X-APPLE-STRUCTURED-LOCATION;VALUE=URI;X-ADDRESS=Ahavath Achim Synagogue—Ellman Chapel 600 Peachtree Battle Ave NW Atlanta GA 30327 United States;X-APPLE-RADIUS=500;X-TITLE=600 Peachtree Battle Ave NW:geo:-84.4089772,33.8233671
END:VEVENT
BEGIN:VEVENT
DTSTART;TZID=America/New_York:20300516T180000
DTEND;TZID=America/New_York:20300516T190000
DTSTAMP:20260425T143727
CREATED:20260327T143335Z
LAST-MODIFIED:20260327T143407Z
UID:10021580-1905184800-1905188400@aasynagogue.org
SUMMARY:Evening Minyan 🔀
DESCRIPTION:Join us in Ellman Chapel or via Zoom. \n Join Zoom
URL:https://aasynagogue.org/event/evening-minyan-5-2-3-2-2/2030-05-16/
LOCATION:Ahavath Achim Synagogue—Ellman Chapel\, 600 Peachtree Battle Ave NW\, Atlanta\, GA\, 30327\, United States
CATEGORIES:Prayer
GEO:33.8233671;-84.4089772
X-APPLE-STRUCTURED-LOCATION;VALUE=URI;X-ADDRESS=Ahavath Achim Synagogue—Ellman Chapel 600 Peachtree Battle Ave NW Atlanta GA 30327 United States;X-APPLE-RADIUS=500;X-TITLE=600 Peachtree Battle Ave NW:geo:-84.4089772,33.8233671
END:VEVENT
BEGIN:VEVENT
DTSTART;TZID=America/New_York:20300519T180000
DTEND;TZID=America/New_York:20300519T190000
DTSTAMP:20260425T143727
CREATED:20260327T143335Z
LAST-MODIFIED:20260327T143407Z
UID:10021581-1905444000-1905447600@aasynagogue.org
SUMMARY:Evening Minyan 🔀
DESCRIPTION:Join us in Ellman Chapel or via Zoom. \n Join Zoom
URL:https://aasynagogue.org/event/evening-minyan-5-2-3-2-2/2030-05-19/
LOCATION:Ahavath Achim Synagogue—Ellman Chapel\, 600 Peachtree Battle Ave NW\, Atlanta\, GA\, 30327\, United States
CATEGORIES:Prayer
GEO:33.8233671;-84.4089772
X-APPLE-STRUCTURED-LOCATION;VALUE=URI;X-ADDRESS=Ahavath Achim Synagogue—Ellman Chapel 600 Peachtree Battle Ave NW Atlanta GA 30327 United States;X-APPLE-RADIUS=500;X-TITLE=600 Peachtree Battle Ave NW:geo:-84.4089772,33.8233671
END:VEVENT
BEGIN:VEVENT
DTSTART;TZID=America/New_York:20300520T180000
DTEND;TZID=America/New_York:20300520T190000
DTSTAMP:20260425T143727
CREATED:20260327T143335Z
LAST-MODIFIED:20260327T143407Z
UID:10021582-1905530400-1905534000@aasynagogue.org
SUMMARY:Evening Minyan 🔀
DESCRIPTION:Join us in Ellman Chapel or via Zoom. \n Join Zoom
URL:https://aasynagogue.org/event/evening-minyan-5-2-3-2-2/2030-05-20/
LOCATION:Ahavath Achim Synagogue—Ellman Chapel\, 600 Peachtree Battle Ave NW\, Atlanta\, GA\, 30327\, United States
CATEGORIES:Prayer
GEO:33.8233671;-84.4089772
X-APPLE-STRUCTURED-LOCATION;VALUE=URI;X-ADDRESS=Ahavath Achim Synagogue—Ellman Chapel 600 Peachtree Battle Ave NW Atlanta GA 30327 United States;X-APPLE-RADIUS=500;X-TITLE=600 Peachtree Battle Ave NW:geo:-84.4089772,33.8233671
END:VEVENT
BEGIN:VEVENT
DTSTART;TZID=America/New_York:20300521T180000
DTEND;TZID=America/New_York:20300521T190000
DTSTAMP:20260425T143727
CREATED:20260327T143335Z
LAST-MODIFIED:20260327T143407Z
UID:10021583-1905616800-1905620400@aasynagogue.org
SUMMARY:Evening Minyan 🔀
DESCRIPTION:Join us in Ellman Chapel or via Zoom. \n Join Zoom
URL:https://aasynagogue.org/event/evening-minyan-5-2-3-2-2/2030-05-21/
LOCATION:Ahavath Achim Synagogue—Ellman Chapel\, 600 Peachtree Battle Ave NW\, Atlanta\, GA\, 30327\, United States
CATEGORIES:Prayer
GEO:33.8233671;-84.4089772
X-APPLE-STRUCTURED-LOCATION;VALUE=URI;X-ADDRESS=Ahavath Achim Synagogue—Ellman Chapel 600 Peachtree Battle Ave NW Atlanta GA 30327 United States;X-APPLE-RADIUS=500;X-TITLE=600 Peachtree Battle Ave NW:geo:-84.4089772,33.8233671
END:VEVENT
BEGIN:VEVENT
DTSTART;TZID=America/New_York:20300522T180000
DTEND;TZID=America/New_York:20300522T190000
DTSTAMP:20260425T143727
CREATED:20260327T143335Z
LAST-MODIFIED:20260327T143407Z
UID:10021584-1905703200-1905706800@aasynagogue.org
SUMMARY:Evening Minyan 🔀
DESCRIPTION:Join us in Ellman Chapel or via Zoom. \n Join Zoom
URL:https://aasynagogue.org/event/evening-minyan-5-2-3-2-2/2030-05-22/
LOCATION:Ahavath Achim Synagogue—Ellman Chapel\, 600 Peachtree Battle Ave NW\, Atlanta\, GA\, 30327\, United States
CATEGORIES:Prayer
GEO:33.8233671;-84.4089772
X-APPLE-STRUCTURED-LOCATION;VALUE=URI;X-ADDRESS=Ahavath Achim Synagogue—Ellman Chapel 600 Peachtree Battle Ave NW Atlanta GA 30327 United States;X-APPLE-RADIUS=500;X-TITLE=600 Peachtree Battle Ave NW:geo:-84.4089772,33.8233671
END:VEVENT
BEGIN:VEVENT
DTSTART;TZID=America/New_York:20300523T180000
DTEND;TZID=America/New_York:20300523T190000
DTSTAMP:20260425T143727
CREATED:20260327T143335Z
LAST-MODIFIED:20260327T143407Z
UID:10021585-1905789600-1905793200@aasynagogue.org
SUMMARY:Evening Minyan 🔀
DESCRIPTION:Join us in Ellman Chapel or via Zoom. \n Join Zoom
URL:https://aasynagogue.org/event/evening-minyan-5-2-3-2-2/2030-05-23/
LOCATION:Ahavath Achim Synagogue—Ellman Chapel\, 600 Peachtree Battle Ave NW\, Atlanta\, GA\, 30327\, United States
CATEGORIES:Prayer
GEO:33.8233671;-84.4089772
X-APPLE-STRUCTURED-LOCATION;VALUE=URI;X-ADDRESS=Ahavath Achim Synagogue—Ellman Chapel 600 Peachtree Battle Ave NW Atlanta GA 30327 United States;X-APPLE-RADIUS=500;X-TITLE=600 Peachtree Battle Ave NW:geo:-84.4089772,33.8233671
END:VEVENT
BEGIN:VEVENT
DTSTART;TZID=America/New_York:20300526T180000
DTEND;TZID=America/New_York:20300526T190000
DTSTAMP:20260425T143727
CREATED:20260327T143335Z
LAST-MODIFIED:20260327T143407Z
UID:10021586-1906048800-1906052400@aasynagogue.org
SUMMARY:Evening Minyan 🔀
DESCRIPTION:Join us in Ellman Chapel or via Zoom. \n Join Zoom
URL:https://aasynagogue.org/event/evening-minyan-5-2-3-2-2/2030-05-26/
LOCATION:Ahavath Achim Synagogue—Ellman Chapel\, 600 Peachtree Battle Ave NW\, Atlanta\, GA\, 30327\, United States
CATEGORIES:Prayer
GEO:33.8233671;-84.4089772
X-APPLE-STRUCTURED-LOCATION;VALUE=URI;X-ADDRESS=Ahavath Achim Synagogue—Ellman Chapel 600 Peachtree Battle Ave NW Atlanta GA 30327 United States;X-APPLE-RADIUS=500;X-TITLE=600 Peachtree Battle Ave NW:geo:-84.4089772,33.8233671
END:VEVENT
BEGIN:VEVENT
DTSTART;TZID=America/New_York:20300527T180000
DTEND;TZID=America/New_York:20300527T190000
DTSTAMP:20260425T143727
CREATED:20260327T143335Z
LAST-MODIFIED:20260327T143407Z
UID:10021587-1906135200-1906138800@aasynagogue.org
SUMMARY:Evening Minyan 🔀
DESCRIPTION:Join us in Ellman Chapel or via Zoom. \n Join Zoom
URL:https://aasynagogue.org/event/evening-minyan-5-2-3-2-2/2030-05-27/
LOCATION:Ahavath Achim Synagogue—Ellman Chapel\, 600 Peachtree Battle Ave NW\, Atlanta\, GA\, 30327\, United States
CATEGORIES:Prayer
GEO:33.8233671;-84.4089772
X-APPLE-STRUCTURED-LOCATION;VALUE=URI;X-ADDRESS=Ahavath Achim Synagogue—Ellman Chapel 600 Peachtree Battle Ave NW Atlanta GA 30327 United States;X-APPLE-RADIUS=500;X-TITLE=600 Peachtree Battle Ave NW:geo:-84.4089772,33.8233671
END:VEVENT
BEGIN:VEVENT
DTSTART;TZID=America/New_York:20300528T180000
DTEND;TZID=America/New_York:20300528T190000
DTSTAMP:20260425T143727
CREATED:20260327T143335Z
LAST-MODIFIED:20260327T143407Z
UID:10021588-1906221600-1906225200@aasynagogue.org
SUMMARY:Evening Minyan 🔀
DESCRIPTION:Join us in Ellman Chapel or via Zoom. \n Join Zoom
URL:https://aasynagogue.org/event/evening-minyan-5-2-3-2-2/2030-05-28/
LOCATION:Ahavath Achim Synagogue—Ellman Chapel\, 600 Peachtree Battle Ave NW\, Atlanta\, GA\, 30327\, United States
CATEGORIES:Prayer
GEO:33.8233671;-84.4089772
X-APPLE-STRUCTURED-LOCATION;VALUE=URI;X-ADDRESS=Ahavath Achim Synagogue—Ellman Chapel 600 Peachtree Battle Ave NW Atlanta GA 30327 United States;X-APPLE-RADIUS=500;X-TITLE=600 Peachtree Battle Ave NW:geo:-84.4089772,33.8233671
END:VEVENT
BEGIN:VEVENT
DTSTART;TZID=America/New_York:20300529T180000
DTEND;TZID=America/New_York:20300529T190000
DTSTAMP:20260425T143727
CREATED:20260327T143335Z
LAST-MODIFIED:20260327T143407Z
UID:10021589-1906308000-1906311600@aasynagogue.org
SUMMARY:Evening Minyan 🔀
DESCRIPTION:Join us in Ellman Chapel or via Zoom. \n Join Zoom
URL:https://aasynagogue.org/event/evening-minyan-5-2-3-2-2/2030-05-29/
LOCATION:Ahavath Achim Synagogue—Ellman Chapel\, 600 Peachtree Battle Ave NW\, Atlanta\, GA\, 30327\, United States
CATEGORIES:Prayer
GEO:33.8233671;-84.4089772
X-APPLE-STRUCTURED-LOCATION;VALUE=URI;X-ADDRESS=Ahavath Achim Synagogue—Ellman Chapel 600 Peachtree Battle Ave NW Atlanta GA 30327 United States;X-APPLE-RADIUS=500;X-TITLE=600 Peachtree Battle Ave NW:geo:-84.4089772,33.8233671
END:VEVENT
BEGIN:VEVENT
DTSTART;TZID=America/New_York:20300530T180000
DTEND;TZID=America/New_York:20300530T190000
DTSTAMP:20260425T143727
CREATED:20260327T143335Z
LAST-MODIFIED:20260327T143407Z
UID:10021590-1906394400-1906398000@aasynagogue.org
SUMMARY:Evening Minyan 🔀
DESCRIPTION:Join us in Ellman Chapel or via Zoom. \n Join Zoom
URL:https://aasynagogue.org/event/evening-minyan-5-2-3-2-2/2030-05-30/
LOCATION:Ahavath Achim Synagogue—Ellman Chapel\, 600 Peachtree Battle Ave NW\, Atlanta\, GA\, 30327\, United States
CATEGORIES:Prayer
GEO:33.8233671;-84.4089772
X-APPLE-STRUCTURED-LOCATION;VALUE=URI;X-ADDRESS=Ahavath Achim Synagogue—Ellman Chapel 600 Peachtree Battle Ave NW Atlanta GA 30327 United States;X-APPLE-RADIUS=500;X-TITLE=600 Peachtree Battle Ave NW:geo:-84.4089772,33.8233671
END:VEVENT
END:VCALENDAR