BEGIN:VCALENDAR
VERSION:2.0
PRODID:-//Ahavath Achim Synagogue - ECPv6.15.20//NONSGML v1.0//EN
CALSCALE:GREGORIAN
METHOD:PUBLISH
X-WR-CALNAME:Ahavath Achim Synagogue
X-ORIGINAL-URL:https://aasynagogue.org
X-WR-CALDESC:Events for Ahavath Achim Synagogue
REFRESH-INTERVAL;VALUE=DURATION:PT1H
X-Robots-Tag:noindex
X-PUBLISHED-TTL:PT1H
BEGIN:VTIMEZONE
TZID:America/New_York
BEGIN:DAYLIGHT
TZOFFSETFROM:-0500
TZOFFSETTO:-0400
TZNAME:EDT
DTSTART:20280312T070000
END:DAYLIGHT
BEGIN:STANDARD
TZOFFSETFROM:-0400
TZOFFSETTO:-0500
TZNAME:EST
DTSTART:20281105T060000
END:STANDARD
BEGIN:DAYLIGHT
TZOFFSETFROM:-0500
TZOFFSETTO:-0400
TZNAME:EDT
DTSTART:20290311T070000
END:DAYLIGHT
BEGIN:STANDARD
TZOFFSETFROM:-0400
TZOFFSETTO:-0500
TZNAME:EST
DTSTART:20291104T060000
END:STANDARD
BEGIN:DAYLIGHT
TZOFFSETFROM:-0500
TZOFFSETTO:-0400
TZNAME:EDT
DTSTART:20300310T070000
END:DAYLIGHT
BEGIN:STANDARD
TZOFFSETFROM:-0400
TZOFFSETTO:-0500
TZNAME:EST
DTSTART:20301103T060000
END:STANDARD
END:VTIMEZONE
BEGIN:VEVENT
DTSTART;TZID=America/New_York:20290603T180000
DTEND;TZID=America/New_York:20290603T190000
DTSTAMP:20260424T091319
CREATED:20260327T143335Z
LAST-MODIFIED:20260327T143407Z
UID:10021355-1875204000-1875207600@aasynagogue.org
SUMMARY:Evening Minyan 🔀
DESCRIPTION:Join us in Ellman Chapel or via Zoom. \n Join Zoom
URL:https://aasynagogue.org/event/evening-minyan-5-2-3-2-2/2029-06-03/
LOCATION:Ahavath Achim Synagogue—Ellman Chapel\, 600 Peachtree Battle Ave NW\, Atlanta\, GA\, 30327\, United States
CATEGORIES:Prayer
GEO:33.8233671;-84.4089772
X-APPLE-STRUCTURED-LOCATION;VALUE=URI;X-ADDRESS=Ahavath Achim Synagogue—Ellman Chapel 600 Peachtree Battle Ave NW Atlanta GA 30327 United States;X-APPLE-RADIUS=500;X-TITLE=600 Peachtree Battle Ave NW:geo:-84.4089772,33.8233671
END:VEVENT
BEGIN:VEVENT
DTSTART;TZID=America/New_York:20290604T180000
DTEND;TZID=America/New_York:20290604T190000
DTSTAMP:20260424T091319
CREATED:20260327T143335Z
LAST-MODIFIED:20260327T143407Z
UID:10021356-1875290400-1875294000@aasynagogue.org
SUMMARY:Evening Minyan 🔀
DESCRIPTION:Join us in Ellman Chapel or via Zoom. \n Join Zoom
URL:https://aasynagogue.org/event/evening-minyan-5-2-3-2-2/2029-06-04/
LOCATION:Ahavath Achim Synagogue—Ellman Chapel\, 600 Peachtree Battle Ave NW\, Atlanta\, GA\, 30327\, United States
CATEGORIES:Prayer
GEO:33.8233671;-84.4089772
X-APPLE-STRUCTURED-LOCATION;VALUE=URI;X-ADDRESS=Ahavath Achim Synagogue—Ellman Chapel 600 Peachtree Battle Ave NW Atlanta GA 30327 United States;X-APPLE-RADIUS=500;X-TITLE=600 Peachtree Battle Ave NW:geo:-84.4089772,33.8233671
END:VEVENT
BEGIN:VEVENT
DTSTART;TZID=America/New_York:20290605T180000
DTEND;TZID=America/New_York:20290605T190000
DTSTAMP:20260424T091319
CREATED:20260327T143335Z
LAST-MODIFIED:20260327T143407Z
UID:10021357-1875376800-1875380400@aasynagogue.org
SUMMARY:Evening Minyan 🔀
DESCRIPTION:Join us in Ellman Chapel or via Zoom. \n Join Zoom
URL:https://aasynagogue.org/event/evening-minyan-5-2-3-2-2/2029-06-05/
LOCATION:Ahavath Achim Synagogue—Ellman Chapel\, 600 Peachtree Battle Ave NW\, Atlanta\, GA\, 30327\, United States
CATEGORIES:Prayer
GEO:33.8233671;-84.4089772
X-APPLE-STRUCTURED-LOCATION;VALUE=URI;X-ADDRESS=Ahavath Achim Synagogue—Ellman Chapel 600 Peachtree Battle Ave NW Atlanta GA 30327 United States;X-APPLE-RADIUS=500;X-TITLE=600 Peachtree Battle Ave NW:geo:-84.4089772,33.8233671
END:VEVENT
BEGIN:VEVENT
DTSTART;TZID=America/New_York:20290606T180000
DTEND;TZID=America/New_York:20290606T190000
DTSTAMP:20260424T091319
CREATED:20260327T143335Z
LAST-MODIFIED:20260327T143407Z
UID:10021358-1875463200-1875466800@aasynagogue.org
SUMMARY:Evening Minyan 🔀
DESCRIPTION:Join us in Ellman Chapel or via Zoom. \n Join Zoom
URL:https://aasynagogue.org/event/evening-minyan-5-2-3-2-2/2029-06-06/
LOCATION:Ahavath Achim Synagogue—Ellman Chapel\, 600 Peachtree Battle Ave NW\, Atlanta\, GA\, 30327\, United States
CATEGORIES:Prayer
GEO:33.8233671;-84.4089772
X-APPLE-STRUCTURED-LOCATION;VALUE=URI;X-ADDRESS=Ahavath Achim Synagogue—Ellman Chapel 600 Peachtree Battle Ave NW Atlanta GA 30327 United States;X-APPLE-RADIUS=500;X-TITLE=600 Peachtree Battle Ave NW:geo:-84.4089772,33.8233671
END:VEVENT
BEGIN:VEVENT
DTSTART;TZID=America/New_York:20290607T180000
DTEND;TZID=America/New_York:20290607T190000
DTSTAMP:20260424T091319
CREATED:20260327T143335Z
LAST-MODIFIED:20260327T143407Z
UID:10013531-1875549600-1875553200@aasynagogue.org
SUMMARY:Evening Minyan 🔀
DESCRIPTION:Join us in Ellman Chapel or via Zoom. \n Join Zoom
URL:https://aasynagogue.org/event/evening-minyan-5-2-3-2-2/2029-06-07/
LOCATION:Ahavath Achim Synagogue—Ellman Chapel\, 600 Peachtree Battle Ave NW\, Atlanta\, GA\, 30327\, United States
CATEGORIES:Prayer
GEO:33.8233671;-84.4089772
X-APPLE-STRUCTURED-LOCATION;VALUE=URI;X-ADDRESS=Ahavath Achim Synagogue—Ellman Chapel 600 Peachtree Battle Ave NW Atlanta GA 30327 United States;X-APPLE-RADIUS=500;X-TITLE=600 Peachtree Battle Ave NW:geo:-84.4089772,33.8233671
END:VEVENT
BEGIN:VEVENT
DTSTART;TZID=America/New_York:20290610T180000
DTEND;TZID=America/New_York:20290610T190000
DTSTAMP:20260424T091319
CREATED:20260327T143335Z
LAST-MODIFIED:20260327T143407Z
UID:10021359-1875808800-1875812400@aasynagogue.org
SUMMARY:Evening Minyan 🔀
DESCRIPTION:Join us in Ellman Chapel or via Zoom. \n Join Zoom
URL:https://aasynagogue.org/event/evening-minyan-5-2-3-2-2/2029-06-10/
LOCATION:Ahavath Achim Synagogue—Ellman Chapel\, 600 Peachtree Battle Ave NW\, Atlanta\, GA\, 30327\, United States
CATEGORIES:Prayer
GEO:33.8233671;-84.4089772
X-APPLE-STRUCTURED-LOCATION;VALUE=URI;X-ADDRESS=Ahavath Achim Synagogue—Ellman Chapel 600 Peachtree Battle Ave NW Atlanta GA 30327 United States;X-APPLE-RADIUS=500;X-TITLE=600 Peachtree Battle Ave NW:geo:-84.4089772,33.8233671
END:VEVENT
BEGIN:VEVENT
DTSTART;TZID=America/New_York:20290611T180000
DTEND;TZID=America/New_York:20290611T190000
DTSTAMP:20260424T091319
CREATED:20260327T143335Z
LAST-MODIFIED:20260327T143407Z
UID:10021360-1875895200-1875898800@aasynagogue.org
SUMMARY:Evening Minyan 🔀
DESCRIPTION:Join us in Ellman Chapel or via Zoom. \n Join Zoom
URL:https://aasynagogue.org/event/evening-minyan-5-2-3-2-2/2029-06-11/
LOCATION:Ahavath Achim Synagogue—Ellman Chapel\, 600 Peachtree Battle Ave NW\, Atlanta\, GA\, 30327\, United States
CATEGORIES:Prayer
GEO:33.8233671;-84.4089772
X-APPLE-STRUCTURED-LOCATION;VALUE=URI;X-ADDRESS=Ahavath Achim Synagogue—Ellman Chapel 600 Peachtree Battle Ave NW Atlanta GA 30327 United States;X-APPLE-RADIUS=500;X-TITLE=600 Peachtree Battle Ave NW:geo:-84.4089772,33.8233671
END:VEVENT
BEGIN:VEVENT
DTSTART;TZID=America/New_York:20290612T180000
DTEND;TZID=America/New_York:20290612T190000
DTSTAMP:20260424T091319
CREATED:20260327T143335Z
LAST-MODIFIED:20260327T143407Z
UID:10021361-1875981600-1875985200@aasynagogue.org
SUMMARY:Evening Minyan 🔀
DESCRIPTION:Join us in Ellman Chapel or via Zoom. \n Join Zoom
URL:https://aasynagogue.org/event/evening-minyan-5-2-3-2-2/2029-06-12/
LOCATION:Ahavath Achim Synagogue—Ellman Chapel\, 600 Peachtree Battle Ave NW\, Atlanta\, GA\, 30327\, United States
CATEGORIES:Prayer
GEO:33.8233671;-84.4089772
X-APPLE-STRUCTURED-LOCATION;VALUE=URI;X-ADDRESS=Ahavath Achim Synagogue—Ellman Chapel 600 Peachtree Battle Ave NW Atlanta GA 30327 United States;X-APPLE-RADIUS=500;X-TITLE=600 Peachtree Battle Ave NW:geo:-84.4089772,33.8233671
END:VEVENT
BEGIN:VEVENT
DTSTART;TZID=America/New_York:20290613T180000
DTEND;TZID=America/New_York:20290613T190000
DTSTAMP:20260424T091319
CREATED:20260327T143335Z
LAST-MODIFIED:20260327T143407Z
UID:10021362-1876068000-1876071600@aasynagogue.org
SUMMARY:Evening Minyan 🔀
DESCRIPTION:Join us in Ellman Chapel or via Zoom. \n Join Zoom
URL:https://aasynagogue.org/event/evening-minyan-5-2-3-2-2/2029-06-13/
LOCATION:Ahavath Achim Synagogue—Ellman Chapel\, 600 Peachtree Battle Ave NW\, Atlanta\, GA\, 30327\, United States
CATEGORIES:Prayer
GEO:33.8233671;-84.4089772
X-APPLE-STRUCTURED-LOCATION;VALUE=URI;X-ADDRESS=Ahavath Achim Synagogue—Ellman Chapel 600 Peachtree Battle Ave NW Atlanta GA 30327 United States;X-APPLE-RADIUS=500;X-TITLE=600 Peachtree Battle Ave NW:geo:-84.4089772,33.8233671
END:VEVENT
BEGIN:VEVENT
DTSTART;TZID=America/New_York:20290614T180000
DTEND;TZID=America/New_York:20290614T190000
DTSTAMP:20260424T091319
CREATED:20260327T143335Z
LAST-MODIFIED:20260327T143407Z
UID:10014843-1876154400-1876158000@aasynagogue.org
SUMMARY:Evening Minyan 🔀
DESCRIPTION:Join us in Ellman Chapel or via Zoom. \n Join Zoom
URL:https://aasynagogue.org/event/evening-minyan-5-2-3-2-2/2029-06-14/
LOCATION:Ahavath Achim Synagogue—Ellman Chapel\, 600 Peachtree Battle Ave NW\, Atlanta\, GA\, 30327\, United States
CATEGORIES:Prayer
GEO:33.8233671;-84.4089772
X-APPLE-STRUCTURED-LOCATION;VALUE=URI;X-ADDRESS=Ahavath Achim Synagogue—Ellman Chapel 600 Peachtree Battle Ave NW Atlanta GA 30327 United States;X-APPLE-RADIUS=500;X-TITLE=600 Peachtree Battle Ave NW:geo:-84.4089772,33.8233671
END:VEVENT
BEGIN:VEVENT
DTSTART;TZID=America/New_York:20290617T180000
DTEND;TZID=America/New_York:20290617T190000
DTSTAMP:20260424T091319
CREATED:20260327T143335Z
LAST-MODIFIED:20260327T143407Z
UID:10021363-1876413600-1876417200@aasynagogue.org
SUMMARY:Evening Minyan 🔀
DESCRIPTION:Join us in Ellman Chapel or via Zoom. \n Join Zoom
URL:https://aasynagogue.org/event/evening-minyan-5-2-3-2-2/2029-06-17/
LOCATION:Ahavath Achim Synagogue—Ellman Chapel\, 600 Peachtree Battle Ave NW\, Atlanta\, GA\, 30327\, United States
CATEGORIES:Prayer
GEO:33.8233671;-84.4089772
X-APPLE-STRUCTURED-LOCATION;VALUE=URI;X-ADDRESS=Ahavath Achim Synagogue—Ellman Chapel 600 Peachtree Battle Ave NW Atlanta GA 30327 United States;X-APPLE-RADIUS=500;X-TITLE=600 Peachtree Battle Ave NW:geo:-84.4089772,33.8233671
END:VEVENT
BEGIN:VEVENT
DTSTART;TZID=America/New_York:20290618T180000
DTEND;TZID=America/New_York:20290618T190000
DTSTAMP:20260424T091319
CREATED:20260327T143335Z
LAST-MODIFIED:20260327T143407Z
UID:10021364-1876500000-1876503600@aasynagogue.org
SUMMARY:Evening Minyan 🔀
DESCRIPTION:Join us in Ellman Chapel or via Zoom. \n Join Zoom
URL:https://aasynagogue.org/event/evening-minyan-5-2-3-2-2/2029-06-18/
LOCATION:Ahavath Achim Synagogue—Ellman Chapel\, 600 Peachtree Battle Ave NW\, Atlanta\, GA\, 30327\, United States
CATEGORIES:Prayer
GEO:33.8233671;-84.4089772
X-APPLE-STRUCTURED-LOCATION;VALUE=URI;X-ADDRESS=Ahavath Achim Synagogue—Ellman Chapel 600 Peachtree Battle Ave NW Atlanta GA 30327 United States;X-APPLE-RADIUS=500;X-TITLE=600 Peachtree Battle Ave NW:geo:-84.4089772,33.8233671
END:VEVENT
BEGIN:VEVENT
DTSTART;TZID=America/New_York:20290619T180000
DTEND;TZID=America/New_York:20290619T190000
DTSTAMP:20260424T091319
CREATED:20260327T143335Z
LAST-MODIFIED:20260327T143407Z
UID:10021365-1876586400-1876590000@aasynagogue.org
SUMMARY:Evening Minyan 🔀
DESCRIPTION:Join us in Ellman Chapel or via Zoom. \n Join Zoom
URL:https://aasynagogue.org/event/evening-minyan-5-2-3-2-2/2029-06-19/
LOCATION:Ahavath Achim Synagogue—Ellman Chapel\, 600 Peachtree Battle Ave NW\, Atlanta\, GA\, 30327\, United States
CATEGORIES:Prayer
GEO:33.8233671;-84.4089772
X-APPLE-STRUCTURED-LOCATION;VALUE=URI;X-ADDRESS=Ahavath Achim Synagogue—Ellman Chapel 600 Peachtree Battle Ave NW Atlanta GA 30327 United States;X-APPLE-RADIUS=500;X-TITLE=600 Peachtree Battle Ave NW:geo:-84.4089772,33.8233671
END:VEVENT
BEGIN:VEVENT
DTSTART;TZID=America/New_York:20290620T180000
DTEND;TZID=America/New_York:20290620T190000
DTSTAMP:20260424T091319
CREATED:20260327T143335Z
LAST-MODIFIED:20260327T143407Z
UID:10021366-1876672800-1876676400@aasynagogue.org
SUMMARY:Evening Minyan 🔀
DESCRIPTION:Join us in Ellman Chapel or via Zoom. \n Join Zoom
URL:https://aasynagogue.org/event/evening-minyan-5-2-3-2-2/2029-06-20/
LOCATION:Ahavath Achim Synagogue—Ellman Chapel\, 600 Peachtree Battle Ave NW\, Atlanta\, GA\, 30327\, United States
CATEGORIES:Prayer
GEO:33.8233671;-84.4089772
X-APPLE-STRUCTURED-LOCATION;VALUE=URI;X-ADDRESS=Ahavath Achim Synagogue—Ellman Chapel 600 Peachtree Battle Ave NW Atlanta GA 30327 United States;X-APPLE-RADIUS=500;X-TITLE=600 Peachtree Battle Ave NW:geo:-84.4089772,33.8233671
END:VEVENT
BEGIN:VEVENT
DTSTART;TZID=America/New_York:20290621T180000
DTEND;TZID=America/New_York:20290621T190000
DTSTAMP:20260424T091319
CREATED:20260327T143335Z
LAST-MODIFIED:20260327T143407Z
UID:10014844-1876759200-1876762800@aasynagogue.org
SUMMARY:Evening Minyan 🔀
DESCRIPTION:Join us in Ellman Chapel or via Zoom. \n Join Zoom
URL:https://aasynagogue.org/event/evening-minyan-5-2-3-2-2/2029-06-21/
LOCATION:Ahavath Achim Synagogue—Ellman Chapel\, 600 Peachtree Battle Ave NW\, Atlanta\, GA\, 30327\, United States
CATEGORIES:Prayer
GEO:33.8233671;-84.4089772
X-APPLE-STRUCTURED-LOCATION;VALUE=URI;X-ADDRESS=Ahavath Achim Synagogue—Ellman Chapel 600 Peachtree Battle Ave NW Atlanta GA 30327 United States;X-APPLE-RADIUS=500;X-TITLE=600 Peachtree Battle Ave NW:geo:-84.4089772,33.8233671
END:VEVENT
BEGIN:VEVENT
DTSTART;TZID=America/New_York:20290624T180000
DTEND;TZID=America/New_York:20290624T190000
DTSTAMP:20260424T091319
CREATED:20260327T143335Z
LAST-MODIFIED:20260327T143407Z
UID:10021367-1877018400-1877022000@aasynagogue.org
SUMMARY:Evening Minyan 🔀
DESCRIPTION:Join us in Ellman Chapel or via Zoom. \n Join Zoom
URL:https://aasynagogue.org/event/evening-minyan-5-2-3-2-2/2029-06-24/
LOCATION:Ahavath Achim Synagogue—Ellman Chapel\, 600 Peachtree Battle Ave NW\, Atlanta\, GA\, 30327\, United States
CATEGORIES:Prayer
GEO:33.8233671;-84.4089772
X-APPLE-STRUCTURED-LOCATION;VALUE=URI;X-ADDRESS=Ahavath Achim Synagogue—Ellman Chapel 600 Peachtree Battle Ave NW Atlanta GA 30327 United States;X-APPLE-RADIUS=500;X-TITLE=600 Peachtree Battle Ave NW:geo:-84.4089772,33.8233671
END:VEVENT
BEGIN:VEVENT
DTSTART;TZID=America/New_York:20290625T180000
DTEND;TZID=America/New_York:20290625T190000
DTSTAMP:20260424T091320
CREATED:20260327T143335Z
LAST-MODIFIED:20260327T143407Z
UID:10021368-1877104800-1877108400@aasynagogue.org
SUMMARY:Evening Minyan 🔀
DESCRIPTION:Join us in Ellman Chapel or via Zoom. \n Join Zoom
URL:https://aasynagogue.org/event/evening-minyan-5-2-3-2-2/2029-06-25/
LOCATION:Ahavath Achim Synagogue—Ellman Chapel\, 600 Peachtree Battle Ave NW\, Atlanta\, GA\, 30327\, United States
CATEGORIES:Prayer
GEO:33.8233671;-84.4089772
X-APPLE-STRUCTURED-LOCATION;VALUE=URI;X-ADDRESS=Ahavath Achim Synagogue—Ellman Chapel 600 Peachtree Battle Ave NW Atlanta GA 30327 United States;X-APPLE-RADIUS=500;X-TITLE=600 Peachtree Battle Ave NW:geo:-84.4089772,33.8233671
END:VEVENT
BEGIN:VEVENT
DTSTART;TZID=America/New_York:20290626T180000
DTEND;TZID=America/New_York:20290626T190000
DTSTAMP:20260424T091320
CREATED:20260327T143335Z
LAST-MODIFIED:20260327T143407Z
UID:10021369-1877191200-1877194800@aasynagogue.org
SUMMARY:Evening Minyan 🔀
DESCRIPTION:Join us in Ellman Chapel or via Zoom. \n Join Zoom
URL:https://aasynagogue.org/event/evening-minyan-5-2-3-2-2/2029-06-26/
LOCATION:Ahavath Achim Synagogue—Ellman Chapel\, 600 Peachtree Battle Ave NW\, Atlanta\, GA\, 30327\, United States
CATEGORIES:Prayer
GEO:33.8233671;-84.4089772
X-APPLE-STRUCTURED-LOCATION;VALUE=URI;X-ADDRESS=Ahavath Achim Synagogue—Ellman Chapel 600 Peachtree Battle Ave NW Atlanta GA 30327 United States;X-APPLE-RADIUS=500;X-TITLE=600 Peachtree Battle Ave NW:geo:-84.4089772,33.8233671
END:VEVENT
BEGIN:VEVENT
DTSTART;TZID=America/New_York:20290627T180000
DTEND;TZID=America/New_York:20290627T190000
DTSTAMP:20260424T091320
CREATED:20260327T143335Z
LAST-MODIFIED:20260327T143407Z
UID:10021370-1877277600-1877281200@aasynagogue.org
SUMMARY:Evening Minyan 🔀
DESCRIPTION:Join us in Ellman Chapel or via Zoom. \n Join Zoom
URL:https://aasynagogue.org/event/evening-minyan-5-2-3-2-2/2029-06-27/
LOCATION:Ahavath Achim Synagogue—Ellman Chapel\, 600 Peachtree Battle Ave NW\, Atlanta\, GA\, 30327\, United States
CATEGORIES:Prayer
GEO:33.8233671;-84.4089772
X-APPLE-STRUCTURED-LOCATION;VALUE=URI;X-ADDRESS=Ahavath Achim Synagogue—Ellman Chapel 600 Peachtree Battle Ave NW Atlanta GA 30327 United States;X-APPLE-RADIUS=500;X-TITLE=600 Peachtree Battle Ave NW:geo:-84.4089772,33.8233671
END:VEVENT
BEGIN:VEVENT
DTSTART;TZID=America/New_York:20290628T180000
DTEND;TZID=America/New_York:20290628T190000
DTSTAMP:20260424T091320
CREATED:20260327T143335Z
LAST-MODIFIED:20260327T143407Z
UID:10014845-1877364000-1877367600@aasynagogue.org
SUMMARY:Evening Minyan 🔀
DESCRIPTION:Join us in Ellman Chapel or via Zoom. \n Join Zoom
URL:https://aasynagogue.org/event/evening-minyan-5-2-3-2-2/2029-06-28/
LOCATION:Ahavath Achim Synagogue—Ellman Chapel\, 600 Peachtree Battle Ave NW\, Atlanta\, GA\, 30327\, United States
CATEGORIES:Prayer
GEO:33.8233671;-84.4089772
X-APPLE-STRUCTURED-LOCATION;VALUE=URI;X-ADDRESS=Ahavath Achim Synagogue—Ellman Chapel 600 Peachtree Battle Ave NW Atlanta GA 30327 United States;X-APPLE-RADIUS=500;X-TITLE=600 Peachtree Battle Ave NW:geo:-84.4089772,33.8233671
END:VEVENT
END:VCALENDAR