BEGIN:VCALENDAR
VERSION:2.0
PRODID:-//Ahavath Achim Synagogue - ECPv6.15.20//NONSGML v1.0//EN
CALSCALE:GREGORIAN
METHOD:PUBLISH
X-ORIGINAL-URL:https://aasynagogue.org
X-WR-CALDESC:Events for Ahavath Achim Synagogue
REFRESH-INTERVAL;VALUE=DURATION:PT1H
X-Robots-Tag:noindex
X-PUBLISHED-TTL:PT1H
BEGIN:VTIMEZONE
TZID:America/New_York
BEGIN:DAYLIGHT
TZOFFSETFROM:-0500
TZOFFSETTO:-0400
TZNAME:EDT
DTSTART:20250309T070000
END:DAYLIGHT
BEGIN:STANDARD
TZOFFSETFROM:-0400
TZOFFSETTO:-0500
TZNAME:EST
DTSTART:20251102T060000
END:STANDARD
BEGIN:DAYLIGHT
TZOFFSETFROM:-0500
TZOFFSETTO:-0400
TZNAME:EDT
DTSTART:20260308T070000
END:DAYLIGHT
BEGIN:STANDARD
TZOFFSETFROM:-0400
TZOFFSETTO:-0500
TZNAME:EST
DTSTART:20261101T060000
END:STANDARD
BEGIN:DAYLIGHT
TZOFFSETFROM:-0500
TZOFFSETTO:-0400
TZNAME:EDT
DTSTART:20270314T070000
END:DAYLIGHT
BEGIN:STANDARD
TZOFFSETFROM:-0400
TZOFFSETTO:-0500
TZNAME:EST
DTSTART:20271107T060000
END:STANDARD
END:VTIMEZONE
BEGIN:VEVENT
DTSTART;TZID=America/New_York:20260301T090000
DTEND;TZID=America/New_York:20260301T103000
DTSTAMP:20260425T121414
CREATED:20260125T032447Z
LAST-MODIFIED:20260304T065615Z
UID:10025669-1772355600-1772361000@aasynagogue.org
SUMMARY:Morning Minyan 🔀
DESCRIPTION:Join us in Ellman Chapel or via Zoom. \n Join Via Zoom
URL:https://aasynagogue.org/event/morning-minyan-2-2/2026-03-01/
LOCATION:Ahavath Achim Synagogue—Ellman Chapel\, 600 Peachtree Battle Ave NW\, Atlanta\, GA\, 30327\, United States
CATEGORIES:Prayer
ATTACH;FMTTYPE=image/png:https://aasynagogue.org/wp-content/uploads/2025/10/AdobeStock_453653260.png
GEO:33.8233671;-84.4089772
X-APPLE-STRUCTURED-LOCATION;VALUE=URI;X-ADDRESS=Ahavath Achim Synagogue—Ellman Chapel 600 Peachtree Battle Ave NW Atlanta GA 30327 United States;X-APPLE-RADIUS=500;X-TITLE=600 Peachtree Battle Ave NW:geo:-84.4089772,33.8233671
END:VEVENT
BEGIN:VEVENT
DTSTART;TZID=America/New_York:20260301T180000
DTEND;TZID=America/New_York:20260301T190000
DTSTAMP:20260425T121414
CREATED:20251010T205640Z
LAST-MODIFIED:20260107T145129Z
UID:10020675-1772388000-1772391600@aasynagogue.org
SUMMARY:Evening Minyan 🔀
DESCRIPTION:Join us in Ellman Chapel or via Zoom. \n Join Zoom
URL:https://aasynagogue.org/event/evening-minyan-5-2-3-2/2026-03-01/
LOCATION:Ahavath Achim Synagogue—Ellman Chapel\, 600 Peachtree Battle Ave NW\, Atlanta\, GA\, 30327\, United States
CATEGORIES:Prayer
ATTACH;FMTTYPE=image/jpeg:https://aasynagogue.org/wp-content/uploads/2025/10/AdobeStock_125946779-scaled.jpeg
GEO:33.8233671;-84.4089772
X-APPLE-STRUCTURED-LOCATION;VALUE=URI;X-ADDRESS=Ahavath Achim Synagogue—Ellman Chapel 600 Peachtree Battle Ave NW Atlanta GA 30327 United States;X-APPLE-RADIUS=500;X-TITLE=600 Peachtree Battle Ave NW:geo:-84.4089772,33.8233671
END:VEVENT
BEGIN:VEVENT
DTSTART;TZID=America/New_York:20260302T180000
DTEND;TZID=America/New_York:20260302T190000
DTSTAMP:20260425T121414
CREATED:20251010T205640Z
LAST-MODIFIED:20260107T145129Z
UID:10020676-1772474400-1772478000@aasynagogue.org
SUMMARY:Evening Minyan 🔀
DESCRIPTION:Join us in Ellman Chapel or via Zoom. \n Join Zoom
URL:https://aasynagogue.org/event/evening-minyan-5-2-3-2/2026-03-02/
LOCATION:Ahavath Achim Synagogue—Ellman Chapel\, 600 Peachtree Battle Ave NW\, Atlanta\, GA\, 30327\, United States
CATEGORIES:Prayer
ATTACH;FMTTYPE=image/jpeg:https://aasynagogue.org/wp-content/uploads/2025/10/AdobeStock_125946779-scaled.jpeg
GEO:33.8233671;-84.4089772
X-APPLE-STRUCTURED-LOCATION;VALUE=URI;X-ADDRESS=Ahavath Achim Synagogue—Ellman Chapel 600 Peachtree Battle Ave NW Atlanta GA 30327 United States;X-APPLE-RADIUS=500;X-TITLE=600 Peachtree Battle Ave NW:geo:-84.4089772,33.8233671
END:VEVENT
BEGIN:VEVENT
DTSTART;TZID=America/New_York:20260302T190000
DTEND;TZID=America/New_York:20260302T220000
DTSTAMP:20260425T121414
CREATED:20260213T202804Z
LAST-MODIFIED:20260302T232736Z
UID:10023284-1772478000-1772488800@aasynagogue.org
SUMMARY:Purim Night: A Megillah Good Time! 🔀
DESCRIPTION:Purim Night\nA Megillah Good Time! \nDon't miss the most fun you're allowed to have at shul! \nIn-Person: Ellman Chapel\nVirtual: ZOOM \n \n\nJoin Zoom\n \nGet ready to boo the villain\, cheer the heroes\, and eat like Queen Esther just saved the day (because she did)! \nJoin us for a night of **EPIC proportions** as Steve Grossman and friends bring you the FULL Megillah reading — complete with all the drama\, plot twists\, and villain-hissing your heart desires. \n \n Live Band\nKeeps the party hopping \n The ENTIRE Megillah\nYes\, the whole scroll\, baby! \n Food & Drinks\nBecause Purim requires sustenance \n Revelry & Merriment\nIt's literally a commandment! \nCostumes encouraged.\nGroggers welcome.\nHaman appropriately booed.\n\n \nGOOD TIMES\, GUARANTEED. \nCome for the Megillah\, stay for the mishloach manot vibes!
URL:https://aasynagogue.org/event/purim-night-a-megillah-good-time/
LOCATION:Ahavath Achim Synagogue—Ellman Chapel\, 600 Peachtree Battle Ave NW\, Atlanta\, GA\, 30327\, United States
CATEGORIES:Holidays,Kid Friendly,Prayer
ATTACH;FMTTYPE=image/png:https://aasynagogue.org/wp-content/uploads/2025/02/AdobeStock_249754740.png
GEO:33.8233671;-84.4089772
X-APPLE-STRUCTURED-LOCATION;VALUE=URI;X-ADDRESS=Ahavath Achim Synagogue—Ellman Chapel 600 Peachtree Battle Ave NW Atlanta GA 30327 United States;X-APPLE-RADIUS=500;X-TITLE=600 Peachtree Battle Ave NW:geo:-84.4089772,33.8233671
END:VEVENT
BEGIN:VEVENT
DTSTART;TZID=America/New_York:20260303T180000
DTEND;TZID=America/New_York:20260303T190000
DTSTAMP:20260425T121414
CREATED:20251010T205640Z
LAST-MODIFIED:20260107T145129Z
UID:10020677-1772560800-1772564400@aasynagogue.org
SUMMARY:Evening Minyan 🔀
DESCRIPTION:Join us in Ellman Chapel or via Zoom. \n Join Zoom
URL:https://aasynagogue.org/event/evening-minyan-5-2-3-2/2026-03-03/
LOCATION:Ahavath Achim Synagogue—Ellman Chapel\, 600 Peachtree Battle Ave NW\, Atlanta\, GA\, 30327\, United States
CATEGORIES:Prayer
ATTACH;FMTTYPE=image/jpeg:https://aasynagogue.org/wp-content/uploads/2025/10/AdobeStock_125946779-scaled.jpeg
GEO:33.8233671;-84.4089772
X-APPLE-STRUCTURED-LOCATION;VALUE=URI;X-ADDRESS=Ahavath Achim Synagogue—Ellman Chapel 600 Peachtree Battle Ave NW Atlanta GA 30327 United States;X-APPLE-RADIUS=500;X-TITLE=600 Peachtree Battle Ave NW:geo:-84.4089772,33.8233671
END:VEVENT
BEGIN:VEVENT
DTSTART;TZID=America/New_York:20260304T071500
DTEND;TZID=America/New_York:20260304T083000
DTSTAMP:20260425T121414
CREATED:20260304T070920Z
LAST-MODIFIED:20260304T071231Z
UID:10025719-1772608500-1772613000@aasynagogue.org
SUMMARY:Weekday Morning Minyan 🔀
DESCRIPTION:Join us in Ellman Chapel or via Zoom. \n Join Via Zoom
URL:https://aasynagogue.org/event/weekday-morning-minyan/2026-03-04/
LOCATION:Ahavath Achim Synagogue—Ellman Chapel\, 600 Peachtree Battle Ave NW\, Atlanta\, GA\, 30327\, United States
CATEGORIES:Prayer
ATTACH;FMTTYPE=image/png:https://aasynagogue.org/wp-content/uploads/2025/10/AdobeStock_453653260.png
GEO:33.8233671;-84.4089772
X-APPLE-STRUCTURED-LOCATION;VALUE=URI;X-ADDRESS=Ahavath Achim Synagogue—Ellman Chapel 600 Peachtree Battle Ave NW Atlanta GA 30327 United States;X-APPLE-RADIUS=500;X-TITLE=600 Peachtree Battle Ave NW:geo:-84.4089772,33.8233671
END:VEVENT
BEGIN:VEVENT
DTSTART;TZID=America/New_York:20260304T180000
DTEND;TZID=America/New_York:20260304T190000
DTSTAMP:20260425T121414
CREATED:20251010T205640Z
LAST-MODIFIED:20260107T145129Z
UID:10020678-1772647200-1772650800@aasynagogue.org
SUMMARY:Evening Minyan 🔀
DESCRIPTION:Join us in Ellman Chapel or via Zoom. \n Join Zoom
URL:https://aasynagogue.org/event/evening-minyan-5-2-3-2/2026-03-04/
LOCATION:Ahavath Achim Synagogue—Ellman Chapel\, 600 Peachtree Battle Ave NW\, Atlanta\, GA\, 30327\, United States
CATEGORIES:Prayer
ATTACH;FMTTYPE=image/jpeg:https://aasynagogue.org/wp-content/uploads/2025/10/AdobeStock_125946779-scaled.jpeg
GEO:33.8233671;-84.4089772
X-APPLE-STRUCTURED-LOCATION;VALUE=URI;X-ADDRESS=Ahavath Achim Synagogue—Ellman Chapel 600 Peachtree Battle Ave NW Atlanta GA 30327 United States;X-APPLE-RADIUS=500;X-TITLE=600 Peachtree Battle Ave NW:geo:-84.4089772,33.8233671
END:VEVENT
BEGIN:VEVENT
DTSTART;TZID=America/New_York:20260305T071500
DTEND;TZID=America/New_York:20260305T083000
DTSTAMP:20260425T121414
CREATED:20260304T070920Z
LAST-MODIFIED:20260304T071231Z
UID:10025720-1772694900-1772699400@aasynagogue.org
SUMMARY:Weekday Morning Minyan 🔀
DESCRIPTION:Join us in Ellman Chapel or via Zoom. \n Join Via Zoom
URL:https://aasynagogue.org/event/weekday-morning-minyan/2026-03-05/
LOCATION:Ahavath Achim Synagogue—Ellman Chapel\, 600 Peachtree Battle Ave NW\, Atlanta\, GA\, 30327\, United States
CATEGORIES:Prayer
ATTACH;FMTTYPE=image/png:https://aasynagogue.org/wp-content/uploads/2025/10/AdobeStock_453653260.png
GEO:33.8233671;-84.4089772
X-APPLE-STRUCTURED-LOCATION;VALUE=URI;X-ADDRESS=Ahavath Achim Synagogue—Ellman Chapel 600 Peachtree Battle Ave NW Atlanta GA 30327 United States;X-APPLE-RADIUS=500;X-TITLE=600 Peachtree Battle Ave NW:geo:-84.4089772,33.8233671
END:VEVENT
BEGIN:VEVENT
DTSTART;TZID=America/New_York:20260305T180000
DTEND;TZID=America/New_York:20260305T190000
DTSTAMP:20260425T121414
CREATED:20251010T205640Z
LAST-MODIFIED:20260107T145129Z
UID:10009742-1772733600-1772737200@aasynagogue.org
SUMMARY:Evening Minyan 🔀
DESCRIPTION:Join us in Ellman Chapel or via Zoom. \n Join Zoom
URL:https://aasynagogue.org/event/evening-minyan-5-2-3-2/2026-03-05/
LOCATION:Ahavath Achim Synagogue—Ellman Chapel\, 600 Peachtree Battle Ave NW\, Atlanta\, GA\, 30327\, United States
CATEGORIES:Prayer
ATTACH;FMTTYPE=image/jpeg:https://aasynagogue.org/wp-content/uploads/2025/10/AdobeStock_125946779-scaled.jpeg
GEO:33.8233671;-84.4089772
X-APPLE-STRUCTURED-LOCATION;VALUE=URI;X-ADDRESS=Ahavath Achim Synagogue—Ellman Chapel 600 Peachtree Battle Ave NW Atlanta GA 30327 United States;X-APPLE-RADIUS=500;X-TITLE=600 Peachtree Battle Ave NW:geo:-84.4089772,33.8233671
END:VEVENT
BEGIN:VEVENT
DTSTART;TZID=America/New_York:20260306T071500
DTEND;TZID=America/New_York:20260306T083000
DTSTAMP:20260425T121414
CREATED:20260304T070920Z
LAST-MODIFIED:20260304T071231Z
UID:10025721-1772781300-1772785800@aasynagogue.org
SUMMARY:Weekday Morning Minyan 🔀
DESCRIPTION:Join us in Ellman Chapel or via Zoom. \n Join Via Zoom
URL:https://aasynagogue.org/event/weekday-morning-minyan/2026-03-06/
LOCATION:Ahavath Achim Synagogue—Ellman Chapel\, 600 Peachtree Battle Ave NW\, Atlanta\, GA\, 30327\, United States
CATEGORIES:Prayer
ATTACH;FMTTYPE=image/png:https://aasynagogue.org/wp-content/uploads/2025/10/AdobeStock_453653260.png
GEO:33.8233671;-84.4089772
X-APPLE-STRUCTURED-LOCATION;VALUE=URI;X-ADDRESS=Ahavath Achim Synagogue—Ellman Chapel 600 Peachtree Battle Ave NW Atlanta GA 30327 United States;X-APPLE-RADIUS=500;X-TITLE=600 Peachtree Battle Ave NW:geo:-84.4089772,33.8233671
END:VEVENT
BEGIN:VEVENT
DTSTART;TZID=America/New_York:20260307T093000
DTEND;TZID=America/New_York:20260307T120000
DTSTAMP:20260425T121414
CREATED:20250604T183832Z
LAST-MODIFIED:20260109T154815Z
UID:10018972-1772875800-1772884800@aasynagogue.org
SUMMARY:Shabbat Morning Service 🔀
DESCRIPTION:Join us in the Sanctuary or via Zoom. \n Join Via Zoom
URL:https://aasynagogue.org/event/shabbat-morning-service-4/2026-03-07/
LOCATION:Ahavath Achim Synagogue — Epstein Sanctuary\, 600 Peachtree Battle Ave NW\, Atlanta\, GA\, 30327
CATEGORIES:Prayer
END:VEVENT
BEGIN:VEVENT
DTSTART;TZID=America/New_York:20260308T090000
DTEND;TZID=America/New_York:20260308T103000
DTSTAMP:20260425T121414
CREATED:20260125T032447Z
LAST-MODIFIED:20260304T065615Z
UID:10025670-1772960400-1772965800@aasynagogue.org
SUMMARY:Morning Minyan 🔀
DESCRIPTION:Join us in Ellman Chapel or via Zoom. \n Join Via Zoom
URL:https://aasynagogue.org/event/morning-minyan-2-2/2026-03-08/
LOCATION:Ahavath Achim Synagogue—Ellman Chapel\, 600 Peachtree Battle Ave NW\, Atlanta\, GA\, 30327\, United States
CATEGORIES:Prayer
ATTACH;FMTTYPE=image/png:https://aasynagogue.org/wp-content/uploads/2025/10/AdobeStock_453653260.png
GEO:33.8233671;-84.4089772
X-APPLE-STRUCTURED-LOCATION;VALUE=URI;X-ADDRESS=Ahavath Achim Synagogue—Ellman Chapel 600 Peachtree Battle Ave NW Atlanta GA 30327 United States;X-APPLE-RADIUS=500;X-TITLE=600 Peachtree Battle Ave NW:geo:-84.4089772,33.8233671
END:VEVENT
BEGIN:VEVENT
DTSTART;TZID=America/New_York:20260308T180000
DTEND;TZID=America/New_York:20260308T190000
DTSTAMP:20260425T121414
CREATED:20251010T205640Z
LAST-MODIFIED:20260107T145129Z
UID:10020679-1772992800-1772996400@aasynagogue.org
SUMMARY:Evening Minyan 🔀
DESCRIPTION:Join us in Ellman Chapel or via Zoom. \n Join Zoom
URL:https://aasynagogue.org/event/evening-minyan-5-2-3-2/2026-03-08/
LOCATION:Ahavath Achim Synagogue—Ellman Chapel\, 600 Peachtree Battle Ave NW\, Atlanta\, GA\, 30327\, United States
CATEGORIES:Prayer
ATTACH;FMTTYPE=image/jpeg:https://aasynagogue.org/wp-content/uploads/2025/10/AdobeStock_125946779-scaled.jpeg
GEO:33.8233671;-84.4089772
X-APPLE-STRUCTURED-LOCATION;VALUE=URI;X-ADDRESS=Ahavath Achim Synagogue—Ellman Chapel 600 Peachtree Battle Ave NW Atlanta GA 30327 United States;X-APPLE-RADIUS=500;X-TITLE=600 Peachtree Battle Ave NW:geo:-84.4089772,33.8233671
END:VEVENT
BEGIN:VEVENT
DTSTART;TZID=America/New_York:20260309T071500
DTEND;TZID=America/New_York:20260309T083000
DTSTAMP:20260425T121414
CREATED:20260304T070920Z
LAST-MODIFIED:20260304T071231Z
UID:10025722-1773040500-1773045000@aasynagogue.org
SUMMARY:Weekday Morning Minyan 🔀
DESCRIPTION:Join us in Ellman Chapel or via Zoom. \n Join Via Zoom
URL:https://aasynagogue.org/event/weekday-morning-minyan/2026-03-09/
LOCATION:Ahavath Achim Synagogue—Ellman Chapel\, 600 Peachtree Battle Ave NW\, Atlanta\, GA\, 30327\, United States
CATEGORIES:Prayer
ATTACH;FMTTYPE=image/png:https://aasynagogue.org/wp-content/uploads/2025/10/AdobeStock_453653260.png
GEO:33.8233671;-84.4089772
X-APPLE-STRUCTURED-LOCATION;VALUE=URI;X-ADDRESS=Ahavath Achim Synagogue—Ellman Chapel 600 Peachtree Battle Ave NW Atlanta GA 30327 United States;X-APPLE-RADIUS=500;X-TITLE=600 Peachtree Battle Ave NW:geo:-84.4089772,33.8233671
END:VEVENT
BEGIN:VEVENT
DTSTART;TZID=America/New_York:20260309T180000
DTEND;TZID=America/New_York:20260309T190000
DTSTAMP:20260425T121414
CREATED:20251010T205640Z
LAST-MODIFIED:20260107T145129Z
UID:10020680-1773079200-1773082800@aasynagogue.org
SUMMARY:Evening Minyan 🔀
DESCRIPTION:Join us in Ellman Chapel or via Zoom. \n Join Zoom
URL:https://aasynagogue.org/event/evening-minyan-5-2-3-2/2026-03-09/
LOCATION:Ahavath Achim Synagogue—Ellman Chapel\, 600 Peachtree Battle Ave NW\, Atlanta\, GA\, 30327\, United States
CATEGORIES:Prayer
ATTACH;FMTTYPE=image/jpeg:https://aasynagogue.org/wp-content/uploads/2025/10/AdobeStock_125946779-scaled.jpeg
GEO:33.8233671;-84.4089772
X-APPLE-STRUCTURED-LOCATION;VALUE=URI;X-ADDRESS=Ahavath Achim Synagogue—Ellman Chapel 600 Peachtree Battle Ave NW Atlanta GA 30327 United States;X-APPLE-RADIUS=500;X-TITLE=600 Peachtree Battle Ave NW:geo:-84.4089772,33.8233671
END:VEVENT
BEGIN:VEVENT
DTSTART;TZID=America/New_York:20260310T071500
DTEND;TZID=America/New_York:20260310T083000
DTSTAMP:20260425T121414
CREATED:20260304T070920Z
LAST-MODIFIED:20260304T071231Z
UID:10025723-1773126900-1773131400@aasynagogue.org
SUMMARY:Weekday Morning Minyan 🔀
DESCRIPTION:Join us in Ellman Chapel or via Zoom. \n Join Via Zoom
URL:https://aasynagogue.org/event/weekday-morning-minyan/2026-03-10/
LOCATION:Ahavath Achim Synagogue—Ellman Chapel\, 600 Peachtree Battle Ave NW\, Atlanta\, GA\, 30327\, United States
CATEGORIES:Prayer
ATTACH;FMTTYPE=image/png:https://aasynagogue.org/wp-content/uploads/2025/10/AdobeStock_453653260.png
GEO:33.8233671;-84.4089772
X-APPLE-STRUCTURED-LOCATION;VALUE=URI;X-ADDRESS=Ahavath Achim Synagogue—Ellman Chapel 600 Peachtree Battle Ave NW Atlanta GA 30327 United States;X-APPLE-RADIUS=500;X-TITLE=600 Peachtree Battle Ave NW:geo:-84.4089772,33.8233671
END:VEVENT
BEGIN:VEVENT
DTSTART;TZID=America/New_York:20260310T180000
DTEND;TZID=America/New_York:20260310T190000
DTSTAMP:20260425T121414
CREATED:20251010T205640Z
LAST-MODIFIED:20260107T145129Z
UID:10020681-1773165600-1773169200@aasynagogue.org
SUMMARY:Evening Minyan 🔀
DESCRIPTION:Join us in Ellman Chapel or via Zoom. \n Join Zoom
URL:https://aasynagogue.org/event/evening-minyan-5-2-3-2/2026-03-10/
LOCATION:Ahavath Achim Synagogue—Ellman Chapel\, 600 Peachtree Battle Ave NW\, Atlanta\, GA\, 30327\, United States
CATEGORIES:Prayer
ATTACH;FMTTYPE=image/jpeg:https://aasynagogue.org/wp-content/uploads/2025/10/AdobeStock_125946779-scaled.jpeg
GEO:33.8233671;-84.4089772
X-APPLE-STRUCTURED-LOCATION;VALUE=URI;X-ADDRESS=Ahavath Achim Synagogue—Ellman Chapel 600 Peachtree Battle Ave NW Atlanta GA 30327 United States;X-APPLE-RADIUS=500;X-TITLE=600 Peachtree Battle Ave NW:geo:-84.4089772,33.8233671
END:VEVENT
BEGIN:VEVENT
DTSTART;TZID=America/New_York:20260311T071500
DTEND;TZID=America/New_York:20260311T083000
DTSTAMP:20260425T121414
CREATED:20260304T070920Z
LAST-MODIFIED:20260304T071231Z
UID:10025724-1773213300-1773217800@aasynagogue.org
SUMMARY:Weekday Morning Minyan 🔀
DESCRIPTION:Join us in Ellman Chapel or via Zoom. \n Join Via Zoom
URL:https://aasynagogue.org/event/weekday-morning-minyan/2026-03-11/
LOCATION:Ahavath Achim Synagogue—Ellman Chapel\, 600 Peachtree Battle Ave NW\, Atlanta\, GA\, 30327\, United States
CATEGORIES:Prayer
ATTACH;FMTTYPE=image/png:https://aasynagogue.org/wp-content/uploads/2025/10/AdobeStock_453653260.png
GEO:33.8233671;-84.4089772
X-APPLE-STRUCTURED-LOCATION;VALUE=URI;X-ADDRESS=Ahavath Achim Synagogue—Ellman Chapel 600 Peachtree Battle Ave NW Atlanta GA 30327 United States;X-APPLE-RADIUS=500;X-TITLE=600 Peachtree Battle Ave NW:geo:-84.4089772,33.8233671
END:VEVENT
BEGIN:VEVENT
DTSTART;TZID=America/New_York:20260311T180000
DTEND;TZID=America/New_York:20260311T190000
DTSTAMP:20260425T121414
CREATED:20251010T205640Z
LAST-MODIFIED:20260107T145129Z
UID:10020682-1773252000-1773255600@aasynagogue.org
SUMMARY:Evening Minyan 🔀
DESCRIPTION:Join us in Ellman Chapel or via Zoom. \n Join Zoom
URL:https://aasynagogue.org/event/evening-minyan-5-2-3-2/2026-03-11/
LOCATION:Ahavath Achim Synagogue—Ellman Chapel\, 600 Peachtree Battle Ave NW\, Atlanta\, GA\, 30327\, United States
CATEGORIES:Prayer
ATTACH;FMTTYPE=image/jpeg:https://aasynagogue.org/wp-content/uploads/2025/10/AdobeStock_125946779-scaled.jpeg
GEO:33.8233671;-84.4089772
X-APPLE-STRUCTURED-LOCATION;VALUE=URI;X-ADDRESS=Ahavath Achim Synagogue—Ellman Chapel 600 Peachtree Battle Ave NW Atlanta GA 30327 United States;X-APPLE-RADIUS=500;X-TITLE=600 Peachtree Battle Ave NW:geo:-84.4089772,33.8233671
END:VEVENT
BEGIN:VEVENT
DTSTART;TZID=America/New_York:20260312T071500
DTEND;TZID=America/New_York:20260312T083000
DTSTAMP:20260425T121414
CREATED:20260304T070920Z
LAST-MODIFIED:20260304T071231Z
UID:10025725-1773299700-1773304200@aasynagogue.org
SUMMARY:Weekday Morning Minyan 🔀
DESCRIPTION:Join us in Ellman Chapel or via Zoom. \n Join Via Zoom
URL:https://aasynagogue.org/event/weekday-morning-minyan/2026-03-12/
LOCATION:Ahavath Achim Synagogue—Ellman Chapel\, 600 Peachtree Battle Ave NW\, Atlanta\, GA\, 30327\, United States
CATEGORIES:Prayer
ATTACH;FMTTYPE=image/png:https://aasynagogue.org/wp-content/uploads/2025/10/AdobeStock_453653260.png
GEO:33.8233671;-84.4089772
X-APPLE-STRUCTURED-LOCATION;VALUE=URI;X-ADDRESS=Ahavath Achim Synagogue—Ellman Chapel 600 Peachtree Battle Ave NW Atlanta GA 30327 United States;X-APPLE-RADIUS=500;X-TITLE=600 Peachtree Battle Ave NW:geo:-84.4089772,33.8233671
END:VEVENT
BEGIN:VEVENT
DTSTART;TZID=America/New_York:20260312T180000
DTEND;TZID=America/New_York:20260312T190000
DTSTAMP:20260425T121414
CREATED:20251010T205640Z
LAST-MODIFIED:20260107T145129Z
UID:10009743-1773338400-1773342000@aasynagogue.org
SUMMARY:Evening Minyan 🔀
DESCRIPTION:Join us in Ellman Chapel or via Zoom. \n Join Zoom
URL:https://aasynagogue.org/event/evening-minyan-5-2-3-2/2026-03-12/
LOCATION:Ahavath Achim Synagogue—Ellman Chapel\, 600 Peachtree Battle Ave NW\, Atlanta\, GA\, 30327\, United States
CATEGORIES:Prayer
ATTACH;FMTTYPE=image/jpeg:https://aasynagogue.org/wp-content/uploads/2025/10/AdobeStock_125946779-scaled.jpeg
GEO:33.8233671;-84.4089772
X-APPLE-STRUCTURED-LOCATION;VALUE=URI;X-ADDRESS=Ahavath Achim Synagogue—Ellman Chapel 600 Peachtree Battle Ave NW Atlanta GA 30327 United States;X-APPLE-RADIUS=500;X-TITLE=600 Peachtree Battle Ave NW:geo:-84.4089772,33.8233671
END:VEVENT
BEGIN:VEVENT
DTSTART;TZID=America/New_York:20260313T071500
DTEND;TZID=America/New_York:20260313T083000
DTSTAMP:20260425T121414
CREATED:20260304T070920Z
LAST-MODIFIED:20260304T071231Z
UID:10025726-1773386100-1773390600@aasynagogue.org
SUMMARY:Weekday Morning Minyan 🔀
DESCRIPTION:Join us in Ellman Chapel or via Zoom. \n Join Via Zoom
URL:https://aasynagogue.org/event/weekday-morning-minyan/2026-03-13/
LOCATION:Ahavath Achim Synagogue—Ellman Chapel\, 600 Peachtree Battle Ave NW\, Atlanta\, GA\, 30327\, United States
CATEGORIES:Prayer
ATTACH;FMTTYPE=image/png:https://aasynagogue.org/wp-content/uploads/2025/10/AdobeStock_453653260.png
GEO:33.8233671;-84.4089772
X-APPLE-STRUCTURED-LOCATION;VALUE=URI;X-ADDRESS=Ahavath Achim Synagogue—Ellman Chapel 600 Peachtree Battle Ave NW Atlanta GA 30327 United States;X-APPLE-RADIUS=500;X-TITLE=600 Peachtree Battle Ave NW:geo:-84.4089772,33.8233671
END:VEVENT
BEGIN:VEVENT
DTSTART;TZID=America/New_York:20260313T180000
DTEND;TZID=America/New_York:20260313T190000
DTSTAMP:20260425T121414
CREATED:20251020T142530Z
LAST-MODIFIED:20260312T155359Z
UID:10026058-1773424800-1773428400@aasynagogue.org
SUMMARY:Meshorerim Shabbat Service 🔀
DESCRIPTION:Each month\, gather with us in Epstein Sanctuary (or via Zoom) for one Friday evening and one Saturday morning Shabbat service\, both led by our inspiring meshorerim! \n Join Friday Evening Zoom\n Join Saturday Morning Zoom
URL:https://aasynagogue.org/event/meshorerim-shabbat-service-2/2026-03-13/
LOCATION:Ahavath Achim Synagogue\, 600 Peachtree Battle Ave NW\, Atlanta\, GA\, 30327
CATEGORIES:Music,Prayer,Shabbat
ATTACH;FMTTYPE=image/jpeg:https://aasynagogue.org/wp-content/uploads/2023/01/Singing-Songs-Voice-Choir-Melody-2.jpg
END:VEVENT
BEGIN:VEVENT
DTSTART;TZID=America/New_York:20260313T180000
DTEND;TZID=America/New_York:20260313T190000
DTSTAMP:20260425T121414
CREATED:20260323T184124Z
LAST-MODIFIED:20260323T184128Z
UID:10021671-1773424800-1773428400@aasynagogue.org
SUMMARY:Meshorerim Shabbat Service 🔀
DESCRIPTION:Each month\, gather with us in-person or virtually for one Friday evening and one Saturday morning Shabbat service\, as we pray together in song led by our inspiring meshorerim. \n Join Friday Evening Zoom\n Join Saturday Morning Zoom
URL:https://aasynagogue.org/event/meshorerim-shabbat-service-2-2/
LOCATION:Ahavath Achim Synagogue\, 600 Peachtree Battle Ave NW\, Atlanta\, GA\, 30327
CATEGORIES:Music,Prayer,Shabbat
ATTACH;FMTTYPE=image/jpeg:https://aasynagogue.org/wp-content/uploads/2023/01/Singing-Songs-Voice-Choir-Melody-2.jpg
END:VEVENT
BEGIN:VEVENT
DTSTART;TZID=America/New_York:20260314T093000
DTEND;TZID=America/New_York:20260314T120000
DTSTAMP:20260425T121414
CREATED:20250604T183832Z
LAST-MODIFIED:20260109T154815Z
UID:10018973-1773480600-1773489600@aasynagogue.org
SUMMARY:Shabbat Morning Service 🔀
DESCRIPTION:Join us in the Sanctuary or via Zoom. \n Join Via Zoom
URL:https://aasynagogue.org/event/shabbat-morning-service-4/2026-03-14/
LOCATION:Ahavath Achim Synagogue — Epstein Sanctuary\, 600 Peachtree Battle Ave NW\, Atlanta\, GA\, 30327
CATEGORIES:Prayer
END:VEVENT
BEGIN:VEVENT
DTSTART;TZID=America/New_York:20260315T090000
DTEND;TZID=America/New_York:20260315T103000
DTSTAMP:20260425T121414
CREATED:20260125T032447Z
LAST-MODIFIED:20260304T065615Z
UID:10025671-1773565200-1773570600@aasynagogue.org
SUMMARY:Morning Minyan 🔀
DESCRIPTION:Join us in Ellman Chapel or via Zoom. \n Join Via Zoom
URL:https://aasynagogue.org/event/morning-minyan-2-2/2026-03-15/
LOCATION:Ahavath Achim Synagogue—Ellman Chapel\, 600 Peachtree Battle Ave NW\, Atlanta\, GA\, 30327\, United States
CATEGORIES:Prayer
ATTACH;FMTTYPE=image/png:https://aasynagogue.org/wp-content/uploads/2025/10/AdobeStock_453653260.png
GEO:33.8233671;-84.4089772
X-APPLE-STRUCTURED-LOCATION;VALUE=URI;X-ADDRESS=Ahavath Achim Synagogue—Ellman Chapel 600 Peachtree Battle Ave NW Atlanta GA 30327 United States;X-APPLE-RADIUS=500;X-TITLE=600 Peachtree Battle Ave NW:geo:-84.4089772,33.8233671
END:VEVENT
BEGIN:VEVENT
DTSTART;TZID=America/New_York:20260315T180000
DTEND;TZID=America/New_York:20260315T190000
DTSTAMP:20260425T121414
CREATED:20251010T205640Z
LAST-MODIFIED:20260107T145129Z
UID:10020683-1773597600-1773601200@aasynagogue.org
SUMMARY:Evening Minyan 🔀
DESCRIPTION:Join us in Ellman Chapel or via Zoom. \n Join Zoom
URL:https://aasynagogue.org/event/evening-minyan-5-2-3-2/2026-03-15/
LOCATION:Ahavath Achim Synagogue—Ellman Chapel\, 600 Peachtree Battle Ave NW\, Atlanta\, GA\, 30327\, United States
CATEGORIES:Prayer
ATTACH;FMTTYPE=image/jpeg:https://aasynagogue.org/wp-content/uploads/2025/10/AdobeStock_125946779-scaled.jpeg
GEO:33.8233671;-84.4089772
X-APPLE-STRUCTURED-LOCATION;VALUE=URI;X-ADDRESS=Ahavath Achim Synagogue—Ellman Chapel 600 Peachtree Battle Ave NW Atlanta GA 30327 United States;X-APPLE-RADIUS=500;X-TITLE=600 Peachtree Battle Ave NW:geo:-84.4089772,33.8233671
END:VEVENT
BEGIN:VEVENT
DTSTART;TZID=America/New_York:20260316T071500
DTEND;TZID=America/New_York:20260316T083000
DTSTAMP:20260425T121414
CREATED:20260304T070920Z
LAST-MODIFIED:20260304T071231Z
UID:10025727-1773645300-1773649800@aasynagogue.org
SUMMARY:Weekday Morning Minyan 🔀
DESCRIPTION:Join us in Ellman Chapel or via Zoom. \n Join Via Zoom
URL:https://aasynagogue.org/event/weekday-morning-minyan/2026-03-16/
LOCATION:Ahavath Achim Synagogue—Ellman Chapel\, 600 Peachtree Battle Ave NW\, Atlanta\, GA\, 30327\, United States
CATEGORIES:Prayer
ATTACH;FMTTYPE=image/png:https://aasynagogue.org/wp-content/uploads/2025/10/AdobeStock_453653260.png
GEO:33.8233671;-84.4089772
X-APPLE-STRUCTURED-LOCATION;VALUE=URI;X-ADDRESS=Ahavath Achim Synagogue—Ellman Chapel 600 Peachtree Battle Ave NW Atlanta GA 30327 United States;X-APPLE-RADIUS=500;X-TITLE=600 Peachtree Battle Ave NW:geo:-84.4089772,33.8233671
END:VEVENT
BEGIN:VEVENT
DTSTART;TZID=America/New_York:20260316T180000
DTEND;TZID=America/New_York:20260316T190000
DTSTAMP:20260425T121414
CREATED:20251010T205640Z
LAST-MODIFIED:20260107T145129Z
UID:10020684-1773684000-1773687600@aasynagogue.org
SUMMARY:Evening Minyan 🔀
DESCRIPTION:Join us in Ellman Chapel or via Zoom. \n Join Zoom
URL:https://aasynagogue.org/event/evening-minyan-5-2-3-2/2026-03-16/
LOCATION:Ahavath Achim Synagogue—Ellman Chapel\, 600 Peachtree Battle Ave NW\, Atlanta\, GA\, 30327\, United States
CATEGORIES:Prayer
ATTACH;FMTTYPE=image/jpeg:https://aasynagogue.org/wp-content/uploads/2025/10/AdobeStock_125946779-scaled.jpeg
GEO:33.8233671;-84.4089772
X-APPLE-STRUCTURED-LOCATION;VALUE=URI;X-ADDRESS=Ahavath Achim Synagogue—Ellman Chapel 600 Peachtree Battle Ave NW Atlanta GA 30327 United States;X-APPLE-RADIUS=500;X-TITLE=600 Peachtree Battle Ave NW:geo:-84.4089772,33.8233671
END:VEVENT
BEGIN:VEVENT
DTSTART;TZID=America/New_York:20260317T071500
DTEND;TZID=America/New_York:20260317T083000
DTSTAMP:20260425T121414
CREATED:20260304T070920Z
LAST-MODIFIED:20260304T071231Z
UID:10025728-1773731700-1773736200@aasynagogue.org
SUMMARY:Weekday Morning Minyan 🔀
DESCRIPTION:Join us in Ellman Chapel or via Zoom. \n Join Via Zoom
URL:https://aasynagogue.org/event/weekday-morning-minyan/2026-03-17/
LOCATION:Ahavath Achim Synagogue—Ellman Chapel\, 600 Peachtree Battle Ave NW\, Atlanta\, GA\, 30327\, United States
CATEGORIES:Prayer
ATTACH;FMTTYPE=image/png:https://aasynagogue.org/wp-content/uploads/2025/10/AdobeStock_453653260.png
GEO:33.8233671;-84.4089772
X-APPLE-STRUCTURED-LOCATION;VALUE=URI;X-ADDRESS=Ahavath Achim Synagogue—Ellman Chapel 600 Peachtree Battle Ave NW Atlanta GA 30327 United States;X-APPLE-RADIUS=500;X-TITLE=600 Peachtree Battle Ave NW:geo:-84.4089772,33.8233671
END:VEVENT
END:VCALENDAR