BEGIN:VCALENDAR
VERSION:2.0
PRODID:-//Ahavath Achim Synagogue - ECPv6.15.20//NONSGML v1.0//EN
CALSCALE:GREGORIAN
METHOD:PUBLISH
X-ORIGINAL-URL:https://aasynagogue.org
X-WR-CALDESC:Events for Ahavath Achim Synagogue
REFRESH-INTERVAL;VALUE=DURATION:PT1H
X-Robots-Tag:noindex
X-PUBLISHED-TTL:PT1H
BEGIN:VTIMEZONE
TZID:America/New_York
BEGIN:DAYLIGHT
TZOFFSETFROM:-0500
TZOFFSETTO:-0400
TZNAME:EDT
DTSTART:20240310T070000
END:DAYLIGHT
BEGIN:STANDARD
TZOFFSETFROM:-0400
TZOFFSETTO:-0500
TZNAME:EST
DTSTART:20241103T060000
END:STANDARD
BEGIN:DAYLIGHT
TZOFFSETFROM:-0500
TZOFFSETTO:-0400
TZNAME:EDT
DTSTART:20250309T070000
END:DAYLIGHT
BEGIN:STANDARD
TZOFFSETFROM:-0400
TZOFFSETTO:-0500
TZNAME:EST
DTSTART:20251102T060000
END:STANDARD
BEGIN:DAYLIGHT
TZOFFSETFROM:-0500
TZOFFSETTO:-0400
TZNAME:EDT
DTSTART:20260308T070000
END:DAYLIGHT
BEGIN:STANDARD
TZOFFSETFROM:-0400
TZOFFSETTO:-0500
TZNAME:EST
DTSTART:20261101T060000
END:STANDARD
END:VTIMEZONE
BEGIN:VEVENT
DTSTART;TZID=America/New_York:20251116T110000
DTEND;TZID=America/New_York:20251116T133000
DTSTAMP:20260424T084751
CREATED:20251023T170041Z
LAST-MODIFIED:20251106T030029Z
UID:10023015-1763290800-1763299800@aasynagogue.org
SUMMARY:mAAc Fifth Annual Brunch: Musically Speaking ⏺️
DESCRIPTION:mAAc'sFifth Annual BrunchSunday\, November 16						\n					 \n				\n									\n						Ahavath Achim Synagogue11:00am Doors Open11:30am Brunch & Program$45 per personRegistration Deadline: \nMonday\, November 10th					 \n				\n			\n			\n		\n						\n				\n				\n				\n							\n			\n		\n						\n				\n				\n				\n									Register now for our opening event: MUSICALLY SPEAKINGA singularly sensational experience of audio and video highlights on the remarkable backstory of Fiddler On The Roof – one of the world's most beloved musicals – and how it almost never happened! 								\n				\n				\n				\n							\n			\n		\n						\n				\n				\n				\n									\n					\n						\n						\n							\n									Register Here\n					\n					\n				\n								\n				\n				\n				\n							\n			\n		\n						\n				\n				\n				\n																														\n				\n				\n		\n				\n				\n																														\n				\n				\n				\n							\n\n			\n						\n\n									\n						\n							Special Guest:BILL NIGUT						\n					\n				\n									\n						Former State Political Analyst\, Reporter\, CorrespondentWSB TVProgram Host\, ProducerGeorgia Public Broadcasting Great Broadway Musicals and How They Were Produced Instructor\, Osher Lifelong Learning InstituteEmory University
URL:https://aasynagogue.org/event/maacs-fifth-annual-brunch/
LOCATION:Ahavath Achim Synagogue\, 600 Peachtree Battle Ave NW\, Atlanta\, GA\, 30327
CATEGORIES:Mature Active Adult Community (mAAc)
ATTACH;FMTTYPE=image/png:https://aasynagogue.org/wp-content/uploads/2022/04/Logo-3.png
END:VEVENT
END:VCALENDAR