BEGIN:VCALENDAR
VERSION:2.0
PRODID:-//Ahavath Achim Synagogue - ECPv6.15.20//NONSGML v1.0//EN
CALSCALE:GREGORIAN
METHOD:PUBLISH
X-ORIGINAL-URL:https://aasynagogue.org
X-WR-CALDESC:Events for Ahavath Achim Synagogue
REFRESH-INTERVAL;VALUE=DURATION:PT1H
X-Robots-Tag:noindex
X-PUBLISHED-TTL:PT1H
BEGIN:VTIMEZONE
TZID:America/New_York
BEGIN:DAYLIGHT
TZOFFSETFROM:-0500
TZOFFSETTO:-0400
TZNAME:EDT
DTSTART:20250309T070000
END:DAYLIGHT
BEGIN:STANDARD
TZOFFSETFROM:-0400
TZOFFSETTO:-0500
TZNAME:EST
DTSTART:20251102T060000
END:STANDARD
BEGIN:DAYLIGHT
TZOFFSETFROM:-0500
TZOFFSETTO:-0400
TZNAME:EDT
DTSTART:20260308T070000
END:DAYLIGHT
BEGIN:STANDARD
TZOFFSETFROM:-0400
TZOFFSETTO:-0500
TZNAME:EST
DTSTART:20261101T060000
END:STANDARD
BEGIN:DAYLIGHT
TZOFFSETFROM:-0500
TZOFFSETTO:-0400
TZNAME:EDT
DTSTART:20270314T070000
END:DAYLIGHT
BEGIN:STANDARD
TZOFFSETFROM:-0400
TZOFFSETTO:-0500
TZNAME:EST
DTSTART:20271107T060000
END:STANDARD
END:VTIMEZONE
BEGIN:VEVENT
DTSTART;TZID=America/New_York:20260602T193000
DTEND;TZID=America/New_York:20260602T210000
DTSTAMP:20260424T113756
CREATED:20260416T145601Z
LAST-MODIFIED:20260416T214819Z
UID:10013156-1780428600-1780434000@aasynagogue.org
SUMMARY:Biblical Hebrew Class ▶️
DESCRIPTION:Join us every Tuesday for Biblical Hebrew Class\, led by Hebrew instructor Jim Dricker. In this class\, we will cover all aspects of grammar and a well-rounded basic vocabulary. Students set the pace of the program\, and we will proceed as fast or as slow as the majority of the class requests. We might take two years to complete… maybe more… perhaps less! The only prerequisite is the ability to sound out Hebrew words. \n  \n  \n  \n  \n  \nRequired textbook: The First Hebrew Primer: The Adult Beginner's Path to Biblical Hebrew\, Third Edition by Simon\, Resnikoff\, and Motzkin (available on Amazon and other book sellers) \n \n Join Zoom
URL:https://aasynagogue.org/event/biblical-hebrew-class-2-2/2026-06-02/
LOCATION:GA
CATEGORIES:Adult Education,Learning
END:VEVENT
BEGIN:VEVENT
DTSTART;TZID=America/New_York:20260603T170000
DTEND;TZID=America/New_York:20260603T180000
DTSTAMP:20260424T113756
CREATED:20260406T151146Z
LAST-MODIFIED:20260406T151250Z
UID:10026143-1780506000-1780509600@aasynagogue.org
SUMMARY:🔀 Weekly Parsha Study Series with Rabbi Rosenthal
DESCRIPTION:Weekly Parsha Study Series\nwith Rabbi Rosenthal\n\nWhat if one hour on a Wednesday afternoon could nourish your mind\, your spirit\, and your community — all at once?\n  \nEvery Wednesday at 5 PM EDT\, Rabbi Rosenthal hosts his Weekly Parsha Class\, a warm and lively gathering where we dive deep into the weekly Torah portion together. This isn't a lecture — it's a conversation. A space for honest reflection\, spirited debate\, and the kind of questions that don't always have easy answers. Together\, we explore what our ancient texts have to say about our very modern lives. \nAnd because Torah study is best enjoyed with good company and good taste\, we set the table with wine\, cheese\, and sweets for the palate — and wisdom and discussion for the mind. \nThe class meets every Wednesday at 5 PM EDT — with one exception: there will be no class on Wednesday\, April 1st\, as we will all be gathered around our Seder tables for the first night of Passover. We will resume the following week and continue our journey together. \nBut here's what makes Wednesday evenings truly special: the class flows seamlessly into our Evening Minyan\, giving each participant the opportunity to earn not one\, not two\, but three mitzvahs in a single afternoon: \n✡ Study Torah — Engage deeply with our sacred tradition. \n✡ Help Make a Minyan — Your presence is a gift. When you show up for Evening Minyan\, you are not only making communal prayer possible — you are wrapping your arms around the members of our spiritual family who are saying Kaddish\, holding them up as they find their footing again after losing someone they love deeply. There is no greater act of chesed than simply being there. \n✡ Strengthen the Bonds of Community — Show up for one another\, week after week. \nWhether you are a seasoned Torah scholar or simply curious about what the weekly portion has to say to you\, all are welcome at this table. No prior knowledge required — only an open heart and a willingness to explore. \nJoin us this Wednesday at 5 PM EDT in person or online:  + Join Zoom\nWe'd love to see you there.
URL:https://aasynagogue.org/event/weekly-parsha-study-series-with-rabbi-rosenthal-2/2026-06-03/
LOCATION:Ahavath Achim Synagogue\, 600 Peachtree Battle Ave NW\, Atlanta\, GA\, 30327
CATEGORIES:Adult Education,Learning
END:VEVENT
BEGIN:VEVENT
DTSTART;TZID=America/New_York:20260606T103000
DTEND;TZID=America/New_York:20260606T113000
DTSTAMP:20260424T113756
CREATED:20260326T194341Z
LAST-MODIFIED:20260401T160203Z
UID:10023666-1780741800-1780745400@aasynagogue.org
SUMMARY:Torah Study 🔀
DESCRIPTION:TORAH STUDY\nWhere lay leaders\, rabbis\, and congregants lead lively discussions about the weekly Parashat.\nJoin us every Shabbat morning for Torah Study\, where lay leaders\, rabbis\, and congregants lead lively discussions about the weekly Parashat. This discussion requires no special knowledge and is designed to deepen your understanding and appreciation of the Torah and the wisdom of our Sages. \nIn-Person: Cavalier Room\nOnline:  Zoom \n\nWeekly Source Sheet (When Applicable)\n \nQuestions? Contact the chair:\nMichael Miller – mgmiller@sloan.mit.edu
URL:https://aasynagogue.org/event/torah-study-v2-3/2026-06-06/
LOCATION:Ahavath Achim Synagogue—Cavalier Room\, 600 Peachtree Battle Ave NW\, Atlanta\, GA\, 30327
CATEGORIES:Adult Education,Learning,Shabbat
GEO:33.8233671;-84.4089772
X-APPLE-STRUCTURED-LOCATION;VALUE=URI;X-ADDRESS=Ahavath Achim Synagogue—Cavalier Room 600 Peachtree Battle Ave NW Atlanta GA 30327;X-APPLE-RADIUS=500;X-TITLE=600 Peachtree Battle Ave NW:geo:-84.4089772,33.8233671
END:VEVENT
BEGIN:VEVENT
DTSTART;TZID=America/New_York:20260606T123000
DTEND;TZID=America/New_York:20260606T140000
DTSTAMP:20260424T113756
CREATED:20260416T230615Z
LAST-MODIFIED:20260416T230647Z
UID:10011961-1780749000-1780754400@aasynagogue.org
SUMMARY:Rebbe's Tish ⏺️
DESCRIPTION:Join us during kiddush lunch on Shabbat mornings for Rebbe's Tish where we'll sing\, do a bit of studying and kavanot\, celebrate simchas\, and fulfill the mitzvah of delighting in Shabbat and reciting the blessing after meals! Whether you attended the Shabbat morning service virtually\, in person\, or not at all\, you are welcome to join us—Grab a seat at the square table in the atrium between the Sanctuary and Srochi Auditorium. We'll start around 12:30 p.m. (or ~30 minutes after the service ends) and sing the blessing after meals (Birkat HaMazon) between 1:30 p.m. and 2:00 p.m. \nQuestions? Contact music@aasynagogue.org.
URL:https://aasynagogue.org/event/rebbes-tish-4-4-2/2026-06-06/
LOCATION:Ahavath Achim Synagogue—Srochi Auditorium\, 600 Peachtree Battle Ave. NW\, Atlanta\, GA\, 30327\, United States
CATEGORIES:Learning,Music
GEO:33.8233671;-84.4089772
X-APPLE-STRUCTURED-LOCATION;VALUE=URI;X-ADDRESS=Ahavath Achim Synagogue—Srochi Auditorium 600 Peachtree Battle Ave. NW Atlanta GA 30327 United States;X-APPLE-RADIUS=500;X-TITLE=600 Peachtree Battle Ave. NW:geo:-84.4089772,33.8233671
END:VEVENT
BEGIN:VEVENT
DTSTART;TZID=America/New_York:20260609T193000
DTEND;TZID=America/New_York:20260609T210000
DTSTAMP:20260424T113756
CREATED:20260416T145601Z
LAST-MODIFIED:20260416T214819Z
UID:10013157-1781033400-1781038800@aasynagogue.org
SUMMARY:Biblical Hebrew Class ▶️
DESCRIPTION:Join us every Tuesday for Biblical Hebrew Class\, led by Hebrew instructor Jim Dricker. In this class\, we will cover all aspects of grammar and a well-rounded basic vocabulary. Students set the pace of the program\, and we will proceed as fast or as slow as the majority of the class requests. We might take two years to complete… maybe more… perhaps less! The only prerequisite is the ability to sound out Hebrew words. \n  \n  \n  \n  \n  \nRequired textbook: The First Hebrew Primer: The Adult Beginner's Path to Biblical Hebrew\, Third Edition by Simon\, Resnikoff\, and Motzkin (available on Amazon and other book sellers) \n \n Join Zoom
URL:https://aasynagogue.org/event/biblical-hebrew-class-2-2/2026-06-09/
LOCATION:GA
CATEGORIES:Adult Education,Learning
END:VEVENT
BEGIN:VEVENT
DTSTART;TZID=America/New_York:20260610T170000
DTEND;TZID=America/New_York:20260610T180000
DTSTAMP:20260424T113756
CREATED:20260406T151146Z
LAST-MODIFIED:20260406T151250Z
UID:10026144-1781110800-1781114400@aasynagogue.org
SUMMARY:🔀 Weekly Parsha Study Series with Rabbi Rosenthal
DESCRIPTION:Weekly Parsha Study Series\nwith Rabbi Rosenthal\n\nWhat if one hour on a Wednesday afternoon could nourish your mind\, your spirit\, and your community — all at once?\n  \nEvery Wednesday at 5 PM EDT\, Rabbi Rosenthal hosts his Weekly Parsha Class\, a warm and lively gathering where we dive deep into the weekly Torah portion together. This isn't a lecture — it's a conversation. A space for honest reflection\, spirited debate\, and the kind of questions that don't always have easy answers. Together\, we explore what our ancient texts have to say about our very modern lives. \nAnd because Torah study is best enjoyed with good company and good taste\, we set the table with wine\, cheese\, and sweets for the palate — and wisdom and discussion for the mind. \nThe class meets every Wednesday at 5 PM EDT — with one exception: there will be no class on Wednesday\, April 1st\, as we will all be gathered around our Seder tables for the first night of Passover. We will resume the following week and continue our journey together. \nBut here's what makes Wednesday evenings truly special: the class flows seamlessly into our Evening Minyan\, giving each participant the opportunity to earn not one\, not two\, but three mitzvahs in a single afternoon: \n✡ Study Torah — Engage deeply with our sacred tradition. \n✡ Help Make a Minyan — Your presence is a gift. When you show up for Evening Minyan\, you are not only making communal prayer possible — you are wrapping your arms around the members of our spiritual family who are saying Kaddish\, holding them up as they find their footing again after losing someone they love deeply. There is no greater act of chesed than simply being there. \n✡ Strengthen the Bonds of Community — Show up for one another\, week after week. \nWhether you are a seasoned Torah scholar or simply curious about what the weekly portion has to say to you\, all are welcome at this table. No prior knowledge required — only an open heart and a willingness to explore. \nJoin us this Wednesday at 5 PM EDT in person or online:  + Join Zoom\nWe'd love to see you there.
URL:https://aasynagogue.org/event/weekly-parsha-study-series-with-rabbi-rosenthal-2/2026-06-10/
LOCATION:Ahavath Achim Synagogue\, 600 Peachtree Battle Ave NW\, Atlanta\, GA\, 30327
CATEGORIES:Adult Education,Learning
END:VEVENT
BEGIN:VEVENT
DTSTART;TZID=America/New_York:20260613T103000
DTEND;TZID=America/New_York:20260613T113000
DTSTAMP:20260424T113756
CREATED:20260326T194341Z
LAST-MODIFIED:20260401T160203Z
UID:10023667-1781346600-1781350200@aasynagogue.org
SUMMARY:Torah Study 🔀
DESCRIPTION:TORAH STUDY\nWhere lay leaders\, rabbis\, and congregants lead lively discussions about the weekly Parashat.\nJoin us every Shabbat morning for Torah Study\, where lay leaders\, rabbis\, and congregants lead lively discussions about the weekly Parashat. This discussion requires no special knowledge and is designed to deepen your understanding and appreciation of the Torah and the wisdom of our Sages. \nIn-Person: Cavalier Room\nOnline:  Zoom \n\nWeekly Source Sheet (When Applicable)\n \nQuestions? Contact the chair:\nMichael Miller – mgmiller@sloan.mit.edu
URL:https://aasynagogue.org/event/torah-study-v2-3/2026-06-13/
LOCATION:Ahavath Achim Synagogue—Cavalier Room\, 600 Peachtree Battle Ave NW\, Atlanta\, GA\, 30327
CATEGORIES:Adult Education,Learning,Shabbat
GEO:33.8233671;-84.4089772
X-APPLE-STRUCTURED-LOCATION;VALUE=URI;X-ADDRESS=Ahavath Achim Synagogue—Cavalier Room 600 Peachtree Battle Ave NW Atlanta GA 30327;X-APPLE-RADIUS=500;X-TITLE=600 Peachtree Battle Ave NW:geo:-84.4089772,33.8233671
END:VEVENT
BEGIN:VEVENT
DTSTART;TZID=America/New_York:20260613T123000
DTEND;TZID=America/New_York:20260613T140000
DTSTAMP:20260424T113756
CREATED:20260416T230615Z
LAST-MODIFIED:20260416T230647Z
UID:10011962-1781353800-1781359200@aasynagogue.org
SUMMARY:Rebbe's Tish ⏺️
DESCRIPTION:Join us during kiddush lunch on Shabbat mornings for Rebbe's Tish where we'll sing\, do a bit of studying and kavanot\, celebrate simchas\, and fulfill the mitzvah of delighting in Shabbat and reciting the blessing after meals! Whether you attended the Shabbat morning service virtually\, in person\, or not at all\, you are welcome to join us—Grab a seat at the square table in the atrium between the Sanctuary and Srochi Auditorium. We'll start around 12:30 p.m. (or ~30 minutes after the service ends) and sing the blessing after meals (Birkat HaMazon) between 1:30 p.m. and 2:00 p.m. \nQuestions? Contact music@aasynagogue.org.
URL:https://aasynagogue.org/event/rebbes-tish-4-4-2/2026-06-13/
LOCATION:Ahavath Achim Synagogue—Srochi Auditorium\, 600 Peachtree Battle Ave. NW\, Atlanta\, GA\, 30327\, United States
CATEGORIES:Learning,Music
GEO:33.8233671;-84.4089772
X-APPLE-STRUCTURED-LOCATION;VALUE=URI;X-ADDRESS=Ahavath Achim Synagogue—Srochi Auditorium 600 Peachtree Battle Ave. NW Atlanta GA 30327 United States;X-APPLE-RADIUS=500;X-TITLE=600 Peachtree Battle Ave. NW:geo:-84.4089772,33.8233671
END:VEVENT
BEGIN:VEVENT
DTSTART;TZID=America/New_York:20260616T193000
DTEND;TZID=America/New_York:20260616T210000
DTSTAMP:20260424T113756
CREATED:20260416T145601Z
LAST-MODIFIED:20260416T214819Z
UID:10013158-1781638200-1781643600@aasynagogue.org
SUMMARY:Biblical Hebrew Class ▶️
DESCRIPTION:Join us every Tuesday for Biblical Hebrew Class\, led by Hebrew instructor Jim Dricker. In this class\, we will cover all aspects of grammar and a well-rounded basic vocabulary. Students set the pace of the program\, and we will proceed as fast or as slow as the majority of the class requests. We might take two years to complete… maybe more… perhaps less! The only prerequisite is the ability to sound out Hebrew words. \n  \n  \n  \n  \n  \nRequired textbook: The First Hebrew Primer: The Adult Beginner's Path to Biblical Hebrew\, Third Edition by Simon\, Resnikoff\, and Motzkin (available on Amazon and other book sellers) \n \n Join Zoom
URL:https://aasynagogue.org/event/biblical-hebrew-class-2-2/2026-06-16/
LOCATION:GA
CATEGORIES:Adult Education,Learning
END:VEVENT
BEGIN:VEVENT
DTSTART;TZID=America/New_York:20260617T170000
DTEND;TZID=America/New_York:20260617T180000
DTSTAMP:20260424T113756
CREATED:20260406T151146Z
LAST-MODIFIED:20260406T151250Z
UID:10026145-1781715600-1781719200@aasynagogue.org
SUMMARY:🔀 Weekly Parsha Study Series with Rabbi Rosenthal
DESCRIPTION:Weekly Parsha Study Series\nwith Rabbi Rosenthal\n\nWhat if one hour on a Wednesday afternoon could nourish your mind\, your spirit\, and your community — all at once?\n  \nEvery Wednesday at 5 PM EDT\, Rabbi Rosenthal hosts his Weekly Parsha Class\, a warm and lively gathering where we dive deep into the weekly Torah portion together. This isn't a lecture — it's a conversation. A space for honest reflection\, spirited debate\, and the kind of questions that don't always have easy answers. Together\, we explore what our ancient texts have to say about our very modern lives. \nAnd because Torah study is best enjoyed with good company and good taste\, we set the table with wine\, cheese\, and sweets for the palate — and wisdom and discussion for the mind. \nThe class meets every Wednesday at 5 PM EDT — with one exception: there will be no class on Wednesday\, April 1st\, as we will all be gathered around our Seder tables for the first night of Passover. We will resume the following week and continue our journey together. \nBut here's what makes Wednesday evenings truly special: the class flows seamlessly into our Evening Minyan\, giving each participant the opportunity to earn not one\, not two\, but three mitzvahs in a single afternoon: \n✡ Study Torah — Engage deeply with our sacred tradition. \n✡ Help Make a Minyan — Your presence is a gift. When you show up for Evening Minyan\, you are not only making communal prayer possible — you are wrapping your arms around the members of our spiritual family who are saying Kaddish\, holding them up as they find their footing again after losing someone they love deeply. There is no greater act of chesed than simply being there. \n✡ Strengthen the Bonds of Community — Show up for one another\, week after week. \nWhether you are a seasoned Torah scholar or simply curious about what the weekly portion has to say to you\, all are welcome at this table. No prior knowledge required — only an open heart and a willingness to explore. \nJoin us this Wednesday at 5 PM EDT in person or online:  + Join Zoom\nWe'd love to see you there.
URL:https://aasynagogue.org/event/weekly-parsha-study-series-with-rabbi-rosenthal-2/2026-06-17/
LOCATION:Ahavath Achim Synagogue\, 600 Peachtree Battle Ave NW\, Atlanta\, GA\, 30327
CATEGORIES:Adult Education,Learning
END:VEVENT
BEGIN:VEVENT
DTSTART;TZID=America/New_York:20260620T103000
DTEND;TZID=America/New_York:20260620T113000
DTSTAMP:20260424T113756
CREATED:20260326T194341Z
LAST-MODIFIED:20260401T160203Z
UID:10023668-1781951400-1781955000@aasynagogue.org
SUMMARY:Torah Study 🔀
DESCRIPTION:TORAH STUDY\nWhere lay leaders\, rabbis\, and congregants lead lively discussions about the weekly Parashat.\nJoin us every Shabbat morning for Torah Study\, where lay leaders\, rabbis\, and congregants lead lively discussions about the weekly Parashat. This discussion requires no special knowledge and is designed to deepen your understanding and appreciation of the Torah and the wisdom of our Sages. \nIn-Person: Cavalier Room\nOnline:  Zoom \n\nWeekly Source Sheet (When Applicable)\n \nQuestions? Contact the chair:\nMichael Miller – mgmiller@sloan.mit.edu
URL:https://aasynagogue.org/event/torah-study-v2-3/2026-06-20/
LOCATION:Ahavath Achim Synagogue—Cavalier Room\, 600 Peachtree Battle Ave NW\, Atlanta\, GA\, 30327
CATEGORIES:Adult Education,Learning,Shabbat
GEO:33.8233671;-84.4089772
X-APPLE-STRUCTURED-LOCATION;VALUE=URI;X-ADDRESS=Ahavath Achim Synagogue—Cavalier Room 600 Peachtree Battle Ave NW Atlanta GA 30327;X-APPLE-RADIUS=500;X-TITLE=600 Peachtree Battle Ave NW:geo:-84.4089772,33.8233671
END:VEVENT
BEGIN:VEVENT
DTSTART;TZID=America/New_York:20260620T123000
DTEND;TZID=America/New_York:20260620T140000
DTSTAMP:20260424T113756
CREATED:20260416T230615Z
LAST-MODIFIED:20260416T230647Z
UID:10011963-1781958600-1781964000@aasynagogue.org
SUMMARY:Rebbe's Tish ⏺️
DESCRIPTION:Join us during kiddush lunch on Shabbat mornings for Rebbe's Tish where we'll sing\, do a bit of studying and kavanot\, celebrate simchas\, and fulfill the mitzvah of delighting in Shabbat and reciting the blessing after meals! Whether you attended the Shabbat morning service virtually\, in person\, or not at all\, you are welcome to join us—Grab a seat at the square table in the atrium between the Sanctuary and Srochi Auditorium. We'll start around 12:30 p.m. (or ~30 minutes after the service ends) and sing the blessing after meals (Birkat HaMazon) between 1:30 p.m. and 2:00 p.m. \nQuestions? Contact music@aasynagogue.org.
URL:https://aasynagogue.org/event/rebbes-tish-4-4-2/2026-06-20/
LOCATION:Ahavath Achim Synagogue—Srochi Auditorium\, 600 Peachtree Battle Ave. NW\, Atlanta\, GA\, 30327\, United States
CATEGORIES:Learning,Music
GEO:33.8233671;-84.4089772
X-APPLE-STRUCTURED-LOCATION;VALUE=URI;X-ADDRESS=Ahavath Achim Synagogue—Srochi Auditorium 600 Peachtree Battle Ave. NW Atlanta GA 30327 United States;X-APPLE-RADIUS=500;X-TITLE=600 Peachtree Battle Ave. NW:geo:-84.4089772,33.8233671
END:VEVENT
BEGIN:VEVENT
DTSTART;TZID=America/New_York:20260623T193000
DTEND;TZID=America/New_York:20260623T210000
DTSTAMP:20260424T113756
CREATED:20260416T145601Z
LAST-MODIFIED:20260416T214819Z
UID:10013159-1782243000-1782248400@aasynagogue.org
SUMMARY:Biblical Hebrew Class ▶️
DESCRIPTION:Join us every Tuesday for Biblical Hebrew Class\, led by Hebrew instructor Jim Dricker. In this class\, we will cover all aspects of grammar and a well-rounded basic vocabulary. Students set the pace of the program\, and we will proceed as fast or as slow as the majority of the class requests. We might take two years to complete… maybe more… perhaps less! The only prerequisite is the ability to sound out Hebrew words. \n  \n  \n  \n  \n  \nRequired textbook: The First Hebrew Primer: The Adult Beginner's Path to Biblical Hebrew\, Third Edition by Simon\, Resnikoff\, and Motzkin (available on Amazon and other book sellers) \n \n Join Zoom
URL:https://aasynagogue.org/event/biblical-hebrew-class-2-2/2026-06-23/
LOCATION:GA
CATEGORIES:Adult Education,Learning
END:VEVENT
BEGIN:VEVENT
DTSTART;TZID=America/New_York:20260624T170000
DTEND;TZID=America/New_York:20260624T180000
DTSTAMP:20260424T113756
CREATED:20260406T151146Z
LAST-MODIFIED:20260406T151250Z
UID:10026146-1782320400-1782324000@aasynagogue.org
SUMMARY:🔀 Weekly Parsha Study Series with Rabbi Rosenthal
DESCRIPTION:Weekly Parsha Study Series\nwith Rabbi Rosenthal\n\nWhat if one hour on a Wednesday afternoon could nourish your mind\, your spirit\, and your community — all at once?\n  \nEvery Wednesday at 5 PM EDT\, Rabbi Rosenthal hosts his Weekly Parsha Class\, a warm and lively gathering where we dive deep into the weekly Torah portion together. This isn't a lecture — it's a conversation. A space for honest reflection\, spirited debate\, and the kind of questions that don't always have easy answers. Together\, we explore what our ancient texts have to say about our very modern lives. \nAnd because Torah study is best enjoyed with good company and good taste\, we set the table with wine\, cheese\, and sweets for the palate — and wisdom and discussion for the mind. \nThe class meets every Wednesday at 5 PM EDT — with one exception: there will be no class on Wednesday\, April 1st\, as we will all be gathered around our Seder tables for the first night of Passover. We will resume the following week and continue our journey together. \nBut here's what makes Wednesday evenings truly special: the class flows seamlessly into our Evening Minyan\, giving each participant the opportunity to earn not one\, not two\, but three mitzvahs in a single afternoon: \n✡ Study Torah — Engage deeply with our sacred tradition. \n✡ Help Make a Minyan — Your presence is a gift. When you show up for Evening Minyan\, you are not only making communal prayer possible — you are wrapping your arms around the members of our spiritual family who are saying Kaddish\, holding them up as they find their footing again after losing someone they love deeply. There is no greater act of chesed than simply being there. \n✡ Strengthen the Bonds of Community — Show up for one another\, week after week. \nWhether you are a seasoned Torah scholar or simply curious about what the weekly portion has to say to you\, all are welcome at this table. No prior knowledge required — only an open heart and a willingness to explore. \nJoin us this Wednesday at 5 PM EDT in person or online:  + Join Zoom\nWe'd love to see you there.
URL:https://aasynagogue.org/event/weekly-parsha-study-series-with-rabbi-rosenthal-2/2026-06-24/
LOCATION:Ahavath Achim Synagogue\, 600 Peachtree Battle Ave NW\, Atlanta\, GA\, 30327
CATEGORIES:Adult Education,Learning
END:VEVENT
BEGIN:VEVENT
DTSTART;TZID=America/New_York:20260627T103000
DTEND;TZID=America/New_York:20260627T113000
DTSTAMP:20260424T113756
CREATED:20260326T194341Z
LAST-MODIFIED:20260401T160203Z
UID:10023669-1782556200-1782559800@aasynagogue.org
SUMMARY:Torah Study 🔀
DESCRIPTION:TORAH STUDY\nWhere lay leaders\, rabbis\, and congregants lead lively discussions about the weekly Parashat.\nJoin us every Shabbat morning for Torah Study\, where lay leaders\, rabbis\, and congregants lead lively discussions about the weekly Parashat. This discussion requires no special knowledge and is designed to deepen your understanding and appreciation of the Torah and the wisdom of our Sages. \nIn-Person: Cavalier Room\nOnline:  Zoom \n\nWeekly Source Sheet (When Applicable)\n \nQuestions? Contact the chair:\nMichael Miller – mgmiller@sloan.mit.edu
URL:https://aasynagogue.org/event/torah-study-v2-3/2026-06-27/
LOCATION:Ahavath Achim Synagogue—Cavalier Room\, 600 Peachtree Battle Ave NW\, Atlanta\, GA\, 30327
CATEGORIES:Adult Education,Learning,Shabbat
GEO:33.8233671;-84.4089772
X-APPLE-STRUCTURED-LOCATION;VALUE=URI;X-ADDRESS=Ahavath Achim Synagogue—Cavalier Room 600 Peachtree Battle Ave NW Atlanta GA 30327;X-APPLE-RADIUS=500;X-TITLE=600 Peachtree Battle Ave NW:geo:-84.4089772,33.8233671
END:VEVENT
BEGIN:VEVENT
DTSTART;TZID=America/New_York:20260627T123000
DTEND;TZID=America/New_York:20260627T140000
DTSTAMP:20260424T113756
CREATED:20260416T230615Z
LAST-MODIFIED:20260416T230647Z
UID:10011964-1782563400-1782568800@aasynagogue.org
SUMMARY:Rebbe's Tish ⏺️
DESCRIPTION:Join us during kiddush lunch on Shabbat mornings for Rebbe's Tish where we'll sing\, do a bit of studying and kavanot\, celebrate simchas\, and fulfill the mitzvah of delighting in Shabbat and reciting the blessing after meals! Whether you attended the Shabbat morning service virtually\, in person\, or not at all\, you are welcome to join us—Grab a seat at the square table in the atrium between the Sanctuary and Srochi Auditorium. We'll start around 12:30 p.m. (or ~30 minutes after the service ends) and sing the blessing after meals (Birkat HaMazon) between 1:30 p.m. and 2:00 p.m. \nQuestions? Contact music@aasynagogue.org.
URL:https://aasynagogue.org/event/rebbes-tish-4-4-2/2026-06-27/
LOCATION:Ahavath Achim Synagogue—Srochi Auditorium\, 600 Peachtree Battle Ave. NW\, Atlanta\, GA\, 30327\, United States
CATEGORIES:Learning,Music
GEO:33.8233671;-84.4089772
X-APPLE-STRUCTURED-LOCATION;VALUE=URI;X-ADDRESS=Ahavath Achim Synagogue—Srochi Auditorium 600 Peachtree Battle Ave. NW Atlanta GA 30327 United States;X-APPLE-RADIUS=500;X-TITLE=600 Peachtree Battle Ave. NW:geo:-84.4089772,33.8233671
END:VEVENT
BEGIN:VEVENT
DTSTART;TZID=America/New_York:20260630T193000
DTEND;TZID=America/New_York:20260630T210000
DTSTAMP:20260424T113756
CREATED:20260416T145601Z
LAST-MODIFIED:20260416T214819Z
UID:10013160-1782847800-1782853200@aasynagogue.org
SUMMARY:Biblical Hebrew Class ▶️
DESCRIPTION:Join us every Tuesday for Biblical Hebrew Class\, led by Hebrew instructor Jim Dricker. In this class\, we will cover all aspects of grammar and a well-rounded basic vocabulary. Students set the pace of the program\, and we will proceed as fast or as slow as the majority of the class requests. We might take two years to complete… maybe more… perhaps less! The only prerequisite is the ability to sound out Hebrew words. \n  \n  \n  \n  \n  \nRequired textbook: The First Hebrew Primer: The Adult Beginner's Path to Biblical Hebrew\, Third Edition by Simon\, Resnikoff\, and Motzkin (available on Amazon and other book sellers) \n \n Join Zoom
URL:https://aasynagogue.org/event/biblical-hebrew-class-2-2/2026-06-30/
LOCATION:GA
CATEGORIES:Adult Education,Learning
END:VEVENT
END:VCALENDAR