BEGIN:VCALENDAR
VERSION:2.0
PRODID:-//Ahavath Achim Synagogue - ECPv6.15.20//NONSGML v1.0//EN
CALSCALE:GREGORIAN
METHOD:PUBLISH
X-WR-CALNAME:Ahavath Achim Synagogue
X-ORIGINAL-URL:https://aasynagogue.org
X-WR-CALDESC:Events for Ahavath Achim Synagogue
REFRESH-INTERVAL;VALUE=DURATION:PT1H
X-Robots-Tag:noindex
X-PUBLISHED-TTL:PT1H
BEGIN:VTIMEZONE
TZID:America/New_York
BEGIN:DAYLIGHT
TZOFFSETFROM:-0500
TZOFFSETTO:-0400
TZNAME:EDT
DTSTART:20250309T070000
END:DAYLIGHT
BEGIN:STANDARD
TZOFFSETFROM:-0400
TZOFFSETTO:-0500
TZNAME:EST
DTSTART:20251102T060000
END:STANDARD
BEGIN:DAYLIGHT
TZOFFSETFROM:-0500
TZOFFSETTO:-0400
TZNAME:EDT
DTSTART:20260308T070000
END:DAYLIGHT
BEGIN:STANDARD
TZOFFSETFROM:-0400
TZOFFSETTO:-0500
TZNAME:EST
DTSTART:20261101T060000
END:STANDARD
BEGIN:DAYLIGHT
TZOFFSETFROM:-0500
TZOFFSETTO:-0400
TZNAME:EDT
DTSTART:20270314T070000
END:DAYLIGHT
BEGIN:STANDARD
TZOFFSETFROM:-0400
TZOFFSETTO:-0500
TZNAME:EST
DTSTART:20271107T060000
END:STANDARD
END:VTIMEZONE
BEGIN:VEVENT
DTSTART;TZID=America/New_York:20260521T173000
DTEND;TZID=America/New_York:20260522T083000
DTSTAMP:20260426T001742
CREATED:20260416T235955Z
LAST-MODIFIED:20260417T193206Z
UID:10026183-1779384600-1779438600@aasynagogue.org
SUMMARY:Shavuot Overnight Learning Celebration
DESCRIPTION:Join us for a cherished tradition of study\, reflection\, and community as we mark the receiving of the Torah.\nThursday\, May 21 \n\n5:30 PM – 7:00 PM — Evening program begins\n7:00 PM onward — Learning through the whole night\n\nFriday\, May 22 \n\nSpecial early morning Minyan service held outdoors (weather permitting)\, followed by a community breakfast — concluding at 8:30 AM.\n\nThis is a hybrid event — join us in person or participate virtually via Zoom. Links will be available soon! \n\nIf you are interested in facilitating a 50-minute learning session during Tikkun Leil Shavuot\, please fill out this form: \n+ FACILITATOR INTEREST FORM
URL:https://aasynagogue.org/event/shavuot-overnight-learning-celebration/
LOCATION:Ahavath Achim Synagogue\, 600 Peachtree Battle Ave NW\, Atlanta\, GA\, 30327
CATEGORIES:Holidays,Learning,Prayer
END:VEVENT
END:VCALENDAR