BEGIN:VCALENDAR
VERSION:2.0
PRODID:-//Ahavath Achim Synagogue - ECPv6.15.20//NONSGML v1.0//EN
CALSCALE:GREGORIAN
METHOD:PUBLISH
X-WR-CALNAME:Ahavath Achim Synagogue
X-ORIGINAL-URL:https://aasynagogue.org
X-WR-CALDESC:Events for Ahavath Achim Synagogue
REFRESH-INTERVAL;VALUE=DURATION:PT1H
X-Robots-Tag:noindex
X-PUBLISHED-TTL:PT1H
BEGIN:VTIMEZONE
TZID:America/New_York
BEGIN:DAYLIGHT
TZOFFSETFROM:-0500
TZOFFSETTO:-0400
TZNAME:EDT
DTSTART:20250309T070000
END:DAYLIGHT
BEGIN:STANDARD
TZOFFSETFROM:-0400
TZOFFSETTO:-0500
TZNAME:EST
DTSTART:20251102T060000
END:STANDARD
BEGIN:DAYLIGHT
TZOFFSETFROM:-0500
TZOFFSETTO:-0400
TZNAME:EDT
DTSTART:20260308T070000
END:DAYLIGHT
BEGIN:STANDARD
TZOFFSETFROM:-0400
TZOFFSETTO:-0500
TZNAME:EST
DTSTART:20261101T060000
END:STANDARD
BEGIN:DAYLIGHT
TZOFFSETFROM:-0500
TZOFFSETTO:-0400
TZNAME:EDT
DTSTART:20270314T070000
END:DAYLIGHT
BEGIN:STANDARD
TZOFFSETFROM:-0400
TZOFFSETTO:-0500
TZNAME:EST
DTSTART:20271107T060000
END:STANDARD
END:VTIMEZONE
BEGIN:VEVENT
DTSTART;TZID=America/New_York:20260201T090000
DTEND;TZID=America/New_York:20260201T140000
DTSTAMP:20260425T074450
CREATED:20260109T184513Z
LAST-MODIFIED:20260109T184929Z
UID:10023214-1769936400-1769954400@aasynagogue.org
SUMMARY:Blood Drive⏺️
DESCRIPTION:Blood saves lives. \nSign up today to donate at our quarterly Blood Drive. \nOur 2026 Goal: 350 Pints + 5 New Donors \nMark your calendar now with the dates of our 2026 Blood Drives: \n\nFebruary 1\nMay 3\nAugust 2\nNovember 1\n\n\nUse this QR code\, which will take donors directly to our blood drive appointments:\n\n \n\nOr go to:  www.redcrossblood.org\nUnder Find a Drive enter code JWV to schedule your appointment
URL:https://aasynagogue.org/event/quarterly-blood-drive/
LOCATION:Ahavath Achim Synagogue—Srochi Auditorium\, 600 Peachtree Battle Ave. NW\, Atlanta\, GA\, 30327\, United States
CATEGORIES:Community Events,Social Action
ATTACH;FMTTYPE=image/jpeg:https://aasynagogue.org/wp-content/uploads/2020/10/american_red_cross_logo-scaled.jpg
GEO:33.8233671;-84.4089772
X-APPLE-STRUCTURED-LOCATION;VALUE=URI;X-ADDRESS=Ahavath Achim Synagogue—Srochi Auditorium 600 Peachtree Battle Ave. NW Atlanta GA 30327 United States;X-APPLE-RADIUS=500;X-TITLE=600 Peachtree Battle Ave. NW:geo:-84.4089772,33.8233671
END:VEVENT
BEGIN:VEVENT
DTSTART;TZID=America/New_York:20260208T130000
DTEND;TZID=America/New_York:20260208T160000
DTSTAMP:20260425T074450
CREATED:20260101T184509Z
LAST-MODIFIED:20260129T180610Z
UID:10023108-1770555600-1770566400@aasynagogue.org
SUMMARY:2026 Tu B'Shvat Tree Planting ⏺️
DESCRIPTION:Annual Tu B'Shvat Tree Planting \nPresented by Trees Atlanta\nwith GIPL + Adamah ATL \nIn honor of the Jewish New Year of the Trees\, Tu B'Shvat\, join us this year for the 14th Annual Tree Planting! \n\nRegister Here\n \nDid You Know?  \nNow in its 14th year\, this annual\, city-wide community event has grown from its roots at Ahavath Achim Synagogue in 2013! \n\nLearn More
URL:https://aasynagogue.org/event/2026-tu-bshvat-tree-planting/
LOCATION:GA
CATEGORIES:Community Events
END:VEVENT
END:VCALENDAR