BEGIN:VCALENDAR
VERSION:2.0
PRODID:-//Ahavath Achim Synagogue - ECPv6.15.20//NONSGML v1.0//EN
CALSCALE:GREGORIAN
METHOD:PUBLISH
X-ORIGINAL-URL:https://aasynagogue.org
X-WR-CALDESC:Events for Ahavath Achim Synagogue
REFRESH-INTERVAL;VALUE=DURATION:PT1H
X-Robots-Tag:noindex
X-PUBLISHED-TTL:PT1H
BEGIN:VTIMEZONE
TZID:America/New_York
BEGIN:DAYLIGHT
TZOFFSETFROM:-0500
TZOFFSETTO:-0400
TZNAME:EDT
DTSTART:20240310T070000
END:DAYLIGHT
BEGIN:STANDARD
TZOFFSETFROM:-0400
TZOFFSETTO:-0500
TZNAME:EST
DTSTART:20241103T060000
END:STANDARD
BEGIN:DAYLIGHT
TZOFFSETFROM:-0500
TZOFFSETTO:-0400
TZNAME:EDT
DTSTART:20250309T070000
END:DAYLIGHT
BEGIN:STANDARD
TZOFFSETFROM:-0400
TZOFFSETTO:-0500
TZNAME:EST
DTSTART:20251102T060000
END:STANDARD
BEGIN:DAYLIGHT
TZOFFSETFROM:-0500
TZOFFSETTO:-0400
TZNAME:EDT
DTSTART:20260308T070000
END:DAYLIGHT
BEGIN:STANDARD
TZOFFSETFROM:-0400
TZOFFSETTO:-0500
TZNAME:EST
DTSTART:20261101T060000
END:STANDARD
END:VTIMEZONE
BEGIN:VEVENT
DTSTART;TZID=America/New_York:20250116T200000
DTEND;TZID=America/New_York:20250116T213000
DTSTAMP:20260419T190623
CREATED:20240723T185633Z
LAST-MODIFIED:20240724T155342Z
UID:10014743-1737057600-1737063000@aasynagogue.org
SUMMARY:Brotherhood Gathering ⏺️
DESCRIPTION:Once a month\, join Brotherhood in fellowship and make new friendships. We will meet in the homes of our members for a casual\, no-agenda communal event where the drinks are flowing\, the snacks are plentiful\, and the conversation is always engaging. \nThere is no charge to attend\, but RSVPs are appreciated. If you would like to host an upcoming Brotherhood gathering\, please email Rabbi Rosenthal with ideas\, questions\, and requests (lrosenthal@aasynagogue.org).
URL:https://aasynagogue.org/event/brotherhood-gathering/2025-01-16/
LOCATION:GA
CATEGORIES:Brotherhood
ATTACH;FMTTYPE=image/png:https://aasynagogue.org/wp-content/uploads/2024/07/Logo-tp_square.png
END:VEVENT
END:VCALENDAR