BEGIN:VCALENDAR
VERSION:2.0
PRODID:-//Ahavath Achim Synagogue - ECPv6.15.20//NONSGML v1.0//EN
CALSCALE:GREGORIAN
METHOD:PUBLISH
X-ORIGINAL-URL:https://aasynagogue.org
X-WR-CALDESC:Events for Ahavath Achim Synagogue
REFRESH-INTERVAL;VALUE=DURATION:PT1H
X-Robots-Tag:noindex
X-PUBLISHED-TTL:PT1H
BEGIN:VTIMEZONE
TZID:America/New_York
BEGIN:DAYLIGHT
TZOFFSETFROM:-0500
TZOFFSETTO:-0400
TZNAME:EDT
DTSTART:20230312T070000
END:DAYLIGHT
BEGIN:STANDARD
TZOFFSETFROM:-0400
TZOFFSETTO:-0500
TZNAME:EST
DTSTART:20231105T060000
END:STANDARD
BEGIN:DAYLIGHT
TZOFFSETFROM:-0500
TZOFFSETTO:-0400
TZNAME:EDT
DTSTART:20240310T070000
END:DAYLIGHT
BEGIN:STANDARD
TZOFFSETFROM:-0400
TZOFFSETTO:-0500
TZNAME:EST
DTSTART:20241103T060000
END:STANDARD
BEGIN:DAYLIGHT
TZOFFSETFROM:-0500
TZOFFSETTO:-0400
TZNAME:EDT
DTSTART:20250309T070000
END:DAYLIGHT
BEGIN:STANDARD
TZOFFSETFROM:-0400
TZOFFSETTO:-0500
TZNAME:EST
DTSTART:20251102T060000
END:STANDARD
END:VTIMEZONE
BEGIN:VEVENT
DTSTART;TZID=America/New_York:20240915T093000
DTEND;TZID=America/New_York:20240915T123000
DTSTAMP:20260420T005630
CREATED:20240807T155534Z
LAST-MODIFIED:20241008T173822Z
UID:10014824-1726392600-1726403400@aasynagogue.org
SUMMARY:Regenerative Movement Class ⏺️  *Postponed*
DESCRIPTION:This event has been postponed. New date TBD \nJoin us for a Regenerative Movement Class\, an engaging and transformative workshop aimed at relieving body stress\, compression\, and discomfort. This session builds on our previous Wellness Workshop\, where we explored the Wall Reset technique\, helping many of you find your Zero Line and alleviate joint pain. Jay Kratz\, owner of META MVMT\, bodyworker\, and movement expert\, will present this class. For more information about the class\, click here. \nThe cost to attend is $25 per person. Registration for this event is required (link below). Please wear comfortable clothes and bring a water bottle and a yoga mat (optional).\n \nQuestions? Contact Marcia Spielberger (maspielberger@comcast.net). \n Register\nThis event is co-sponsored by Sisterhood\, Brotherhood\, and the Mature Active Adult Community (mAAc).
URL:https://aasynagogue.org/event/regenerative-movement-class/
LOCATION:Ahavath Achim Synagogue—Srochi Auditorium\, 600 Peachtree Battle Ave. NW\, Atlanta\, GA\, 30327\, United States
CATEGORIES:Brotherhood,Mature Active Adult Community (mAAc),Sisterhood
ATTACH;FMTTYPE=image/png:https://aasynagogue.org/wp-content/uploads/2024/08/Graphic-1.png
GEO:33.8233671;-84.4089772
X-APPLE-STRUCTURED-LOCATION;VALUE=URI;X-ADDRESS=Ahavath Achim Synagogue—Srochi Auditorium 600 Peachtree Battle Ave. NW Atlanta GA 30327 United States;X-APPLE-RADIUS=500;X-TITLE=600 Peachtree Battle Ave. NW:geo:-84.4089772,33.8233671
END:VEVENT
BEGIN:VEVENT
DTSTART;TZID=America/New_York:20240919T200000
DTEND;TZID=America/New_York:20240919T213000
DTSTAMP:20260420T005630
CREATED:20240723T185633Z
LAST-MODIFIED:20240724T155342Z
UID:10014739-1726776000-1726781400@aasynagogue.org
SUMMARY:Brotherhood Gathering ⏺️
DESCRIPTION:Once a month\, join Brotherhood in fellowship and make new friendships. We will meet in the homes of our members for a casual\, no-agenda communal event where the drinks are flowing\, the snacks are plentiful\, and the conversation is always engaging. \nThere is no charge to attend\, but RSVPs are appreciated. If you would like to host an upcoming Brotherhood gathering\, please email Rabbi Rosenthal with ideas\, questions\, and requests (lrosenthal@aasynagogue.org).
URL:https://aasynagogue.org/event/brotherhood-gathering/2024-09-19/
LOCATION:GA
CATEGORIES:Brotherhood
ATTACH;FMTTYPE=image/png:https://aasynagogue.org/wp-content/uploads/2024/07/Logo-tp_square.png
END:VEVENT
END:VCALENDAR